BEGIN:VCALENDAR
VERSION:2.0
PRODID:-//FAIREVER - ECPv6.15.20//NONSGML v1.0//EN
CALSCALE:GREGORIAN
METHOD:PUBLISH
X-WR-CALNAME:FAIREVER
X-ORIGINAL-URL:https://www.fairever-events.com/en/
X-WR-CALDESC:Events for FAIREVER
REFRESH-INTERVAL;VALUE=DURATION:PT1H
X-Robots-Tag:noindex
X-PUBLISHED-TTL:PT1H
BEGIN:VTIMEZONE
TZID:Europe/Berlin
BEGIN:DAYLIGHT
TZOFFSETFROM:+0100
TZOFFSETTO:+0200
TZNAME:CEST
DTSTART:20240331T010000
END:DAYLIGHT
BEGIN:STANDARD
TZOFFSETFROM:+0200
TZOFFSETTO:+0100
TZNAME:CET
DTSTART:20241027T010000
END:STANDARD
BEGIN:DAYLIGHT
TZOFFSETFROM:+0100
TZOFFSETTO:+0200
TZNAME:CEST
DTSTART:20250330T010000
END:DAYLIGHT
BEGIN:STANDARD
TZOFFSETFROM:+0200
TZOFFSETTO:+0100
TZNAME:CET
DTSTART:20251026T010000
END:STANDARD
BEGIN:DAYLIGHT
TZOFFSETFROM:+0100
TZOFFSETTO:+0200
TZNAME:CEST
DTSTART:20260329T010000
END:DAYLIGHT
BEGIN:STANDARD
TZOFFSETFROM:+0200
TZOFFSETTO:+0100
TZNAME:CET
DTSTART:20261025T010000
END:STANDARD
END:VTIMEZONE
BEGIN:VEVENT
DTSTART;VALUE=DATE:20251109
DTEND;VALUE=DATE:20251116
DTSTAMP:20260420T180447
CREATED:20241123T124327Z
LAST-MODIFIED:20241123T124751Z
UID:6983-1762646400-1763251199@www.fairever-events.com
SUMMARY:AGRITECHNICA Hannover 2025
DESCRIPTION:AGRITECHNICA 2025\, the world’s leading trade fair for agricultural technology\, is the perfect platform to showcase your innovations and solutions to an international professional audience. With FAIREVER by your side\, we ensure your booth stands out among the 2\,800 exhibitors and your brand gets the attention it deserves. \n\n		Contact us now\n	\n\nMultilingual and Professional Hostesses for the Agricultural Industry \nOur extensive pool of qualified hostesses from the Hannover area is specifically prepared to meet the demands of AGRITECHNICA. All FAIREVER hostesses are multilingual and professionally trained to represent your brand with expertise and charm. Whether welcoming international visitors\, assisting with product demonstrations\, or engaging with industry professionals\, our team ensures your booth is seen as a welcoming and professional meeting point. \nFAIREVER – Your Full-Service Solution for AGRITECHNICA Hannover \nOur full-service offering includes everything you need for a successful trade fair appearance: from creative booth design and logistics to providing experienced hostesses and hosts tailored to your needs. With FAIREVER\, your presence at AGRITECHNICA 2025 will be impactful and professionally executed. \nAn Inspiring Trade Fair Experience \nAGRITECHNICA combines the global agricultural technology fair with the SYSTEMS & COMPONENTS area\, offering an unparalleled platform for innovations and networking. Use this international forum to discuss trends\, build new connections\, and place your brand in the spotlight. Our hostesses and hosts create a welcoming atmosphere that successfully conveys your message. \nChoose FAIREVER for a successful presence at AGRITECHNICA 2025 in Hannover. Contact us now for a consultation!
URL:https://www.fairever-events.com/en/eventagentur/agritechnica-trade-fair-partner-hannover/
LOCATION:Messe Hannover\, Hermesallee\, Hannover\, 30521\, Germany
CATEGORIES:Hanover Trade Fairs
ATTACH;FMTTYPE=image/jpeg:https://www.fairever-events.com/wp-content/uploads/2024/11/agritechnica-logo.jpg
END:VEVENT
END:VCALENDAR