BEGIN:VCALENDAR
VERSION:2.0
PRODID:-//FAIREVER - ECPv6.15.20//NONSGML v1.0//EN
CALSCALE:GREGORIAN
METHOD:PUBLISH
X-ORIGINAL-URL:https://www.fairever-events.com/en/
X-WR-CALDESC:Events for FAIREVER
REFRESH-INTERVAL;VALUE=DURATION:PT1H
X-Robots-Tag:noindex
X-PUBLISHED-TTL:PT1H
BEGIN:VTIMEZONE
TZID:Europe/Berlin
BEGIN:DAYLIGHT
TZOFFSETFROM:+0100
TZOFFSETTO:+0200
TZNAME:CEST
DTSTART:20240331T010000
END:DAYLIGHT
BEGIN:STANDARD
TZOFFSETFROM:+0200
TZOFFSETTO:+0100
TZNAME:CET
DTSTART:20241027T010000
END:STANDARD
BEGIN:DAYLIGHT
TZOFFSETFROM:+0100
TZOFFSETTO:+0200
TZNAME:CEST
DTSTART:20250330T010000
END:DAYLIGHT
BEGIN:STANDARD
TZOFFSETFROM:+0200
TZOFFSETTO:+0100
TZNAME:CET
DTSTART:20251026T010000
END:STANDARD
BEGIN:DAYLIGHT
TZOFFSETFROM:+0100
TZOFFSETTO:+0200
TZNAME:CEST
DTSTART:20260329T010000
END:DAYLIGHT
BEGIN:STANDARD
TZOFFSETFROM:+0200
TZOFFSETTO:+0100
TZNAME:CET
DTSTART:20261025T010000
END:STANDARD
END:VTIMEZONE
BEGIN:VEVENT
DTSTART;VALUE=DATE:20251121
DTEND;VALUE=DATE:20251129
DTSTAMP:20260420T175250
CREATED:20250624T150131Z
LAST-MODIFIED:20250624T150459Z
UID:7579-1763683200-1764374399@www.fairever-events.com
SUMMARY:Event Services for the Mallorca Ladies Open – Premium Support for Exhibitors & Sponsors
DESCRIPTION:Your professional partner on site – for a high-impact presence at Mallorca’s top golf tournament \nThe Mallorca Ladies Open\, part of the Ladies European Tour (LET)\, will once again welcome international golf talent\, high-level sponsors\, and an exclusive audience to Son Muntaner Golf Club\, Palma in November 2025. \nAre you planning to showcase your brand\, host a VIP area\, or organize your own side event? \nFAIREVER is your experienced full-service partner for staffing\, logistics\, and brand presentation – directly on Mallorca. \nWhy FAIREVER – and why this event? \nProfessional golf tournaments are not only about elite sports – they offer premium brand visibility and high-value connections. We ensure your presence runs smoothly\, professionally\, and with maximum guest impact. \nOur strength: structure and service – with experience across international sporting events. \nOur Services for Your Brand at the Tournament \nHospitality & Exhibition Staff \n\nHosts and hostesses for guest reception in lounges or business areas\nService personnel for VIP tents (drinks\, assistance\, check-in)\nBrand ambassadors for giveaways\, product demos\, and lead generation\n\nOnsite Coordination & Operational Support \n\nScheduling and onsite coordination for setup\, logistics\, and staffing\nShuttle assistance\, crowd guidance\, and timing management\nCI-compliant briefings\, dress codes\, and role-specific deployment\n\nBranding & Logistics Handling \n\nCoordination of your promotional materials (banners\, displays\, merchandise)\nSupport with transport\, installation\, and on-site handling\nUniformed and brand-aligned teams to strengthen your presence\n\nMultilingual & International Guest Support \n\nStaff fluent in English\, Spanish\, and German\nExperienced with international guests\, sponsors\, and media relations\n\nWho Can Benefit from Our Services? \n\nSponsors & partners with VIP or hospitality spaces\nBrands hosting activation zones or promotion booths\nCompanies with exclusive guest events or side programs\nAgencies managing their clients’ presence at the tournament\n\nYour Advantages with FAIREVER on Mallorca \n\n18+ years of experience in international sports & lifestyle events\nLocal network\, structured planning & multilingual coordination\nHighly presentable\, professional personnel for upscale settings\nReliable execution\, clear communication\, and reporting\n\nGet in touch now for staffing & event support at the Mallorca Ladies Open \nTurn your presence at Mallorca’s most prestigious golf tournament into a brand experience – with structure\, style\, and service. \n\n		Get in touch – we look forward to your inquiry!
URL:https://www.fairever-events.com/en/eventagentur/event-services-mallorca-ladies-golf-open-premium-support-for-exhibitors-sponsors/
LOCATION:Berlin
CATEGORIES:mallorca-events-en
ATTACH;FMTTYPE=image/webp:https://www.fairever-events.com/wp-content/uploads/2025/06/906b675ee401174d5c84722d5556e812.webp
END:VEVENT
BEGIN:VEVENT
DTSTART;VALUE=DATE:20251125
DTEND;VALUE=DATE:20251128
DTSTAMP:20260420T175250
CREATED:20250512T170604Z
LAST-MODIFIED:20250512T170806Z
UID:7409-1764028800-1764287999@www.fairever-events.com
SUMMARY:Trade Fair Staff & Promotion for SPS 2025
DESCRIPTION:Showcase your automation solutions in the best possible light – at SPS 2025\, the international trade fair for smart and digital automation.\nFrom November 25 to 27\, 2025\, FAIREVER supports your appearance with technically skilled trade fair staff\, targeted promotion\, and a full-service package that guarantees smooth operations. \n⚙️ SPS 2025 – Your Stage for Automation\, Industry 4.0 & Digital Innovation \nSPS connects manufacturers\, users\, and decision-makers across all sectors of industrial automation. Focus topics include: \n\nControl technology\, sensor technology & drive technology\nSoftware solutions\, IT & industrial communication\nRobotics\, edge & cloud computing\nSmart factory\, safety & cybersecurity\n\n👥 Technical Trade Fair Staff with Industry Understanding \nOur hostesses\, technical attendants\, and promoters support you with: \n\nExpert supervision of exhibits & demo booths\nMultilingual visitor communication (DE/EN & additional languages upon request)\nCustomer consulting\, product presentation & lead generation\nAssistance with showcases\, panels & guided tours\n\n🛠️ Full-Service for Your SPS Trade Fair Appearance \nFAIREVER ensures smooth processes and full support with: \n\nPersonnel selection\, briefing & deployment planning\nEquipment\, technical coordination & logistics management\nPromotion activities\, visitor guidance & event support\nDocumentation\, reporting & evaluation\n\n📩 Request Your Trade Fair Staff for SPS 2025 Now! \nStand out with a presence that is precise\, digital\, and human at the same time. \nFAIREVER GmbH – fair. flexible. sustainable.\nYour partner for trade fair staff\, promotion\, and full-service at SPS 2025 and all industrial and technology sector events.
URL:https://www.fairever-events.com/en/eventagentur/trade-fair-staff-promotion-for-sps/
LOCATION:Messe Nürnberg\, Messezentrum 1\, Nürnberg\, Bayern\, 90471\, Germany
CATEGORIES:Nuremberg Trade Fairs
ATTACH;FMTTYPE=image/jpeg:https://www.fairever-events.com/wp-content/uploads/2024/01/SPS_Logo_Web.jpg
END:VEVENT
END:VCALENDAR