BEGIN:VCALENDAR
VERSION:2.0
PRODID:-//FAIREVER - ECPv6.15.20//NONSGML v1.0//EN
CALSCALE:GREGORIAN
METHOD:PUBLISH
X-ORIGINAL-URL:https://www.fairever-events.com/en/
X-WR-CALDESC:Events for FAIREVER
REFRESH-INTERVAL;VALUE=DURATION:PT1H
X-Robots-Tag:noindex
X-PUBLISHED-TTL:PT1H
BEGIN:VTIMEZONE
TZID:Europe/Berlin
BEGIN:DAYLIGHT
TZOFFSETFROM:+0100
TZOFFSETTO:+0200
TZNAME:CEST
DTSTART:20240331T010000
END:DAYLIGHT
BEGIN:STANDARD
TZOFFSETFROM:+0200
TZOFFSETTO:+0100
TZNAME:CET
DTSTART:20241027T010000
END:STANDARD
BEGIN:DAYLIGHT
TZOFFSETFROM:+0100
TZOFFSETTO:+0200
TZNAME:CEST
DTSTART:20250330T010000
END:DAYLIGHT
BEGIN:STANDARD
TZOFFSETFROM:+0200
TZOFFSETTO:+0100
TZNAME:CET
DTSTART:20251026T010000
END:STANDARD
BEGIN:DAYLIGHT
TZOFFSETFROM:+0100
TZOFFSETTO:+0200
TZNAME:CEST
DTSTART:20260329T010000
END:DAYLIGHT
BEGIN:STANDARD
TZOFFSETFROM:+0200
TZOFFSETTO:+0100
TZNAME:CET
DTSTART:20261025T010000
END:STANDARD
END:VTIMEZONE
BEGIN:VEVENT
DTSTART;VALUE=DATE:20251127
DTEND;VALUE=DATE:20251201
DTSTAMP:20260420T180633
CREATED:20250512T164141Z
LAST-MODIFIED:20250512T164313Z
UID:7378-1764201600-1764547199@www.fairever-events.com
SUMMARY:Trade Fair Staff & Promotion for BOOT & FUN BERLIN 2025
DESCRIPTION:Ride the big wave with your brand – at BOOT & FUN BERLIN 2025\, the leading trade fair for boats\, accessories\, water sports\, and the used boat market\, where the nautical world gathers.\nWith FAIREVER\, you will successfully launch your products and innovations.\nOur trained trade fair staff and comprehensive full-service package ensure an attention-grabbing\, professional\, and targeted presentation – from first contact to post-event follow-up. \n⛵ BOOT & FUN BERLIN 2025 – Your Stage for Water Sports and Outdoor Adventures \nBOOT & FUN BERLIN is a highlight for all lovers of boats\, water sports\, and outdoor activities.\nAt the fair\, you will meet trade visitors from all over the world who are interested in: \n\nBoats\, yachts & accessories\nWater sports\, diving & sailing\nOutdoor equipment & clothing\nInnovations related to water sports\n\nWith FAIREVER\, we ensure that your products and services are presented in the best possible way to capture the interest of your target audience. \n🚤 Your Professional Trade Fair Staff for BOOT & FUN BERLIN 2025 \nOur experienced hostesses and promoters are perfectly attuned to the water sports and outdoor sectors\, offering the following services: \n\nActive visitor approach & product presentations (DE/EN & other languages upon request)\nSampling activities & consulting on boats and accessories\nSupport with product demonstrations & sweepstakes activities\nVisitor management & booth organization\nTargeted appearance: sporty\, enthusiastic & service-oriented\n\nWhether selling a sailboat or presenting accessories – our promoters and hostesses put your brand in the spotlight. \n🌊 Full-Service Package for Your Trade Fair Presence \nBenefit from our full-service offer for BOOT & FUN BERLIN 2025.\nWe take care of everything you need for a successful trade fair appearance: \n\nBooth design & branding aligned with your brand identity\nSelection and briefing of trade fair staff\nPromotion activities & product demonstrations to activate your stand\nLogistics\, coordination & on-site support during the event\nPost-event follow-up & reporting to measure and evaluate success\n\nYou can focus entirely on your products – we handle the rest. \n🌍 Why FAIREVER for BOOT & FUN BERLIN 2025? \n\nExperience at over 100 trade fairs annually – nationwide\nSpecialization in water sports\, outdoor\, and nautical topics\nFast and flexible personnel planning – even at short notice\nFair pricing & transparent communication\nSustainability in event & promotion planning\n\n📩 Request Your Trade Fair Staff for BOOT & FUN BERLIN 2025 Now! \nTake the opportunity to present your brand professionally at BOOT & FUN BERLIN 2025.\nFAIREVER provides the perfect trade fair staff to engage your target audience and put your brand into the spotlight. \nFAIREVER GmbH – fair. flexible. sustainable.\nYour partner for trade fair staff\, promotion\, and full-service support at BOOT & FUN BERLIN 2025 and beyond.
URL:https://www.fairever-events.com/en/eventagentur/trade-fair-staff-promotion-for-boot-fun-berlin/
LOCATION:Messe Berlin\, Messedamm 22\, Berlin\, Berlin\, 14055\, Germany
CATEGORIES:Berlin trade fairs
ATTACH;FMTTYPE=image/png:https://www.fairever-events.com/wp-content/uploads/2025/04/bf_wort-bildmarke_deu.png
END:VEVENT
BEGIN:VEVENT
DTSTART;VALUE=DATE:20251129
DTEND;VALUE=DATE:20251208
DTSTAMP:20260420T180633
CREATED:20250512T162358Z
LAST-MODIFIED:20250512T162409Z
UID:7363-1764374400-1765151999@www.fairever-events.com
SUMMARY:Trade Fair Staff & Promotion for ESSEN MOTOR SHOW 2025
DESCRIPTION:Present your brand in the fast lane – at the ESSEN MOTOR SHOW 2025\, Europe’s leading fair for performance vehicles\, tuning\, motorsport\, and automotive lifestyle.\nFrom November 29 to December 7\, 2025\, FAIREVER supports your presence with experienced trade fair staff and an action-oriented full-service package – guaranteed to accelerate your success. \n🏎️ ESSEN MOTOR SHOW 2025 – Your Stage for Speed\, Style & Innovation \nThe ESSEN MOTOR SHOW brings together car enthusiasts\, tuning fans\, motorsport professionals\, and lifestyle brands. Focus areas include: \n\nSports cars\, tuning & performance parts\nMotorsports\, e-mobility & car innovations\nCar accessories\, rims\, sound systems & gadgets\nLifestyle\, fashion & motorsport community\n\n🚗 Dynamic Trade Fair Staff for the Automotive Scene \nOur hosts\, hostesses\, and promoters offer: \n\nActive visitor engagement & brand activation (DE/EN)\nSupervision of exhibits\, show cars & tuning highlights\nSupport for product demonstrations\, racing simulators & community events\nTarget group-oriented appearance: dynamic\, passionate & brand-focused\n\n🛠️ Full-Service for Your Presence at ESSEN MOTOR SHOW \nFAIREVER supports you with: \n\nStaff selection\, briefing & technical support\nOutfit concepts & booth design coordination\nManagement of promotion activities & visitor interaction\nReporting\, feedback analysis & lead tracking after the event\n\n📩 Request Your Trade Fair Staff for ESSEN MOTOR SHOW 2025 Now! \nAccelerate your brand experience – with a team that loves cars and customers alike. \nFAIREVER GmbH – fair. flexible. sustainable.\nYour partner for trade fair staff\, promotion & full-service at ESSEN MOTOR SHOW 2025 and automotive lifestyle events worldwide. \n  \n  \n 
URL:https://www.fairever-events.com/en/eventagentur/trade-fair-staff-promotion-for-essen-motor-show/
LOCATION:Messe Essen
END:VEVENT
END:VCALENDAR