BEGIN:VCALENDAR
VERSION:2.0
PRODID:-//FAIREVER - ECPv6.15.20//NONSGML v1.0//EN
CALSCALE:GREGORIAN
METHOD:PUBLISH
X-ORIGINAL-URL:https://www.fairever-events.com/en/
X-WR-CALDESC:Events for FAIREVER
REFRESH-INTERVAL;VALUE=DURATION:PT1H
X-Robots-Tag:noindex
X-PUBLISHED-TTL:PT1H
BEGIN:VTIMEZONE
TZID:Europe/Berlin
BEGIN:DAYLIGHT
TZOFFSETFROM:+0100
TZOFFSETTO:+0200
TZNAME:CEST
DTSTART:20250330T010000
END:DAYLIGHT
BEGIN:STANDARD
TZOFFSETFROM:+0200
TZOFFSETTO:+0100
TZNAME:CET
DTSTART:20251026T010000
END:STANDARD
BEGIN:DAYLIGHT
TZOFFSETFROM:+0100
TZOFFSETTO:+0200
TZNAME:CEST
DTSTART:20260329T010000
END:DAYLIGHT
BEGIN:STANDARD
TZOFFSETFROM:+0200
TZOFFSETTO:+0100
TZNAME:CET
DTSTART:20261025T010000
END:STANDARD
BEGIN:DAYLIGHT
TZOFFSETFROM:+0100
TZOFFSETTO:+0200
TZNAME:CEST
DTSTART:20270328T010000
END:DAYLIGHT
BEGIN:STANDARD
TZOFFSETFROM:+0200
TZOFFSETTO:+0100
TZNAME:CET
DTSTART:20271031T010000
END:STANDARD
END:VTIMEZONE
BEGIN:VEVENT
DTSTART;VALUE=DATE:20260107
DTEND;VALUE=DATE:20260110
DTSTAMP:20260420T144144
CREATED:20251006T162157Z
LAST-MODIFIED:20251006T162157Z
UID:7964-1767744000-1768003199@www.fairever-events.com
SUMMARY:Trade Fair Staff\, Hostesses & Promotion for PSI Düsseldorf 2026
DESCRIPTION:Make a strong mark in the promotional products industry – at PSI Düsseldorf 2026. From 7 to 9 January 2026\, Messe Düsseldorf will once again be the central platform for suppliers\, distributors and agencies focused on promotional items\, merchandising and brand promotion. With FAIREVER\, you book professional trade fair staff in Düsseldorf\, experienced hostesses and dedicated promoters who present your brand with maximum impact and precision – from the first visitor interaction through to post-show follow-up. \n\n		Start Your Inquiry\n	\n\nPSI 2026 – Your stage for promotional products\, merchandising & advertising \nPSI Düsseldorf is Europe’s leading trade show for promotional products and merchandise. Manufacturers\, agencies\, distributors and sales professionals meet here to spot trends\, hold meetings and drive new business. Core topics include: \n\nMerchandising & promotional products of all kinds\nPromotional items: mugs\, apparel\, textiles\, bags\, etc.\nPersonalisation & print solutions\, branding and finishing techniques\nInnovations in sustainability & material choices for promo products\n\nWith FAIREVER\, you reach exactly the decision-makers\, buyers and marketing professionals who are looking for fresh ideas and strong product solutions. \nTrade fair hostesses & promoters for PSI Düsseldorf \nOur specialised trade fair staff in Düsseldorf are ideally prepared for PSI: \n\nActive visitor approach & product presentation (GER/EN & additional languages)\nSupport for product finishing & live showcases\nCare for international guests & trade delegations\nDistribution of samples\, catalogues & information materials\nProfessional\, communicative & service-oriented demeanour\n\nWhether you’re showcasing product ranges\, innovative branding solutions or sustainable materials – our hostesses and promoters at PSI Düsseldorf 2026 ensure your booth stands out and is remembered. \nFull service for your trade fair appearance \nWith FAIREVER\, you receive comprehensive support: \n\nBooth design & branding aligned with your brand and products\nSelection\, briefing & training of trade fair staff\nPlanning & execution of product presentations\, sampling & visitor activations\nLogistics\, coordination & on-site support throughout the show\nReporting & post-show follow-up to measure success\n\nSo you can fully focus on your ideas and customer conversations – we handle the rest. \nWhy FAIREVER for PSI Düsseldorf 2026? \n\nMany years of experience at 100+ trade fairs annually – across Germany and internationally\nSpecialised in promotional product\, merchandising & marketing events\nFast & flexible staffing\, even at short notice\nFair pricing & transparent communication\nSustainability & innovation embedded in our event and promotion concepts\n\nBook trade fair staff for PSI Düsseldorf 2026 now! \nSeize the opportunity to present your promotional products\, merchandising concepts & brand ideas at PSI Düsseldorf 2026 (7–9 January 2026). FAIREVER supplies the right trade fair staff\, experienced hostesses and creative promotion teams in Düsseldorf to make your stand highly visible and memorable.\nFAIREVER GmbH – fair. flexible. sustainable.\nYour partner for trade fair staff\, hostesses & promotion in Düsseldorf – at PSI 2026 and beyond. \n\n		Contact us now
URL:https://www.fairever-events.com/en/eventagentur/trade-fair-staff-hostesses-promotion-psi-dusseldorf/
LOCATION:Berlin
CATEGORIES:Dusseldorf Trade Fairs
ATTACH;FMTTYPE=image/jpeg:https://www.fairever-events.com/wp-content/uploads/2025/10/PSI_LOGO_4C_negativ.jpg
END:VEVENT
END:VCALENDAR