BEGIN:VCALENDAR
VERSION:2.0
PRODID:-//FAIREVER - ECPv6.15.20//NONSGML v1.0//EN
CALSCALE:GREGORIAN
METHOD:PUBLISH
X-ORIGINAL-URL:https://www.fairever-events.com/en/
X-WR-CALDESC:Events for FAIREVER
REFRESH-INTERVAL;VALUE=DURATION:PT1H
X-Robots-Tag:noindex
X-PUBLISHED-TTL:PT1H
BEGIN:VTIMEZONE
TZID:Europe/Berlin
BEGIN:DAYLIGHT
TZOFFSETFROM:+0100
TZOFFSETTO:+0200
TZNAME:CEST
DTSTART:20250330T010000
END:DAYLIGHT
BEGIN:STANDARD
TZOFFSETFROM:+0200
TZOFFSETTO:+0100
TZNAME:CET
DTSTART:20251026T010000
END:STANDARD
BEGIN:DAYLIGHT
TZOFFSETFROM:+0100
TZOFFSETTO:+0200
TZNAME:CEST
DTSTART:20260329T010000
END:DAYLIGHT
BEGIN:STANDARD
TZOFFSETFROM:+0200
TZOFFSETTO:+0100
TZNAME:CET
DTSTART:20261025T010000
END:STANDARD
BEGIN:DAYLIGHT
TZOFFSETFROM:+0100
TZOFFSETTO:+0200
TZNAME:CEST
DTSTART:20270328T010000
END:DAYLIGHT
BEGIN:STANDARD
TZOFFSETFROM:+0200
TZOFFSETTO:+0100
TZNAME:CET
DTSTART:20271031T010000
END:STANDARD
END:VTIMEZONE
BEGIN:VEVENT
DTSTART;VALUE=DATE:20260131
DTEND;VALUE=DATE:20260209
DTSTAMP:20260420T093002
CREATED:20251121T161351Z
LAST-MODIFIED:20251121T161441Z
UID:8127-1769817600-1770595199@www.fairever-events.com
SUMMARY:Trade Fair Staff\, Hostesses & Promotion for HAUS-GARTEN-FREIZEIT 2026
DESCRIPTION:Position your brand within the world of living\, gardening and leisure — at HAUS-GARTEN-FREIZEIT 2026 in Leipzig. From 31 January to 8 February 2026\, one of Germany’s largest consumer fairs takes place\, covering a wide range of topics including home improvement\, living\, gardening\, health\, leisure activities and pet supplies. \n\n		Start Your Inquiry\n	\n\nWith FAIREVER\, you can book professional trade fair and promotion staff in Leipzig who present your products\, services and brand identity with enthusiasm. Our experienced hostesses\, promoters and service teams — combined with our full-service package — ensure your trade fair appearance runs smoothly\, convincingly and sustainably from first contact through to post-event follow-up. \nHAUS-GARTEN-FREIZEIT 2026 – Your Stage for Living\, Gardening & Experience Worlds \nHAUS-GARTEN-FREIZEIT offers a major platform to present your brand to a wide audience — beyond industry professionals\, reaching families and consumers interested in lifestyle\, home & garden. Visitor interests include: \n\nHome improvement\, renovation & living\nGarden\, plants\, outdoor and pets\nHealth\, fitness\, wellness & leisure activities\nInterior\, textiles\, fashion & jewellery\nPet supplies & family-oriented products\n\nWith FAIREVER promotion staff\, you capture your audience’s attention and strengthen your brand and offer visibility sustainably. \nHostesses & Promotion Staff for HAUS-GARTEN-FREIZEIT Leipzig \nOur trained trade fair staff in Leipzig is specifically prepared for consumer fairs with a focus on lifestyle\, living and garden themes. We offer: \n\nActive visitor engagement & product/service presentations (GER/EN & additional languages)\nSupport for live activities\, presentations\, tastings & expert talks\nAssistance for families\, pet owners & end consumers\nFriendly\, service-oriented presence within living\, garden & leisure environments\n\nWhether product displays\, expert consultations or direct promotion — our hostesses and promoters turn your booth into a visitor magnet. \nFull-Service for Your Trade Fair Appearance \nFAIREVER offers more than personnel — on request\, we handle your entire trade fair setup: \n\nBooth design & branding aligned with your corporate identity\nSelection\, briefing & training of your trade fair staff\nPlanning & execution of activities\, tastings\, demonstrations & experience zones\nLogistics\, coordination & on-site support throughout the fair\nReporting & post-event evaluation\n\nThis allows you to fully focus on your products\, your brand and your visitors — we take care of everything else. \nWhy FAIREVER for HAUS-GARTEN-FREIZEIT 2026? \n\nExperience across more than 100 trade fairs annually — nationwide\nSpecialised in lifestyle\, home\, garden & consumer fairs\nFlexible & short-notice staff planning\nFair pricing & transparent communication\nSustainable event & promotion planning\n\nBook Trade Fair Staff for HAUS-GARTEN-FREIZEIT 2026 Now! \nTake the opportunity to present your brand professionally at HAUS-GARTEN-FREIZEIT 2026 in Leipzig. FAIREVER provides the ideal trade fair staff\, experienced hostesses and creative promotion teams that put your brand in the spotlight. \nFAIREVER GmbH — fair. flexible. sustainable.\nYour partner for trade fair staff\, hostesses and promotion in Leipzig — at HAUS-GARTEN-FREIZEIT 2026 and beyond. \n\n		Start Your Inquiry
URL:https://www.fairever-events.com/en/eventagentur/trade-fair-staff-hostesses-promotion-for-haus-garten-freizeit/
LOCATION:Berlin
CATEGORIES:Leipzig trade fairs
ATTACH;FMTTYPE=image/png:https://www.fairever-events.com/wp-content/uploads/2024/11/logo-hgf.png
END:VEVENT
BEGIN:VEVENT
DTSTART;VALUE=DATE:20260201
DTEND;VALUE=DATE:20260205
DTSTAMP:20260420T093002
CREATED:20241106T145547Z
LAST-MODIFIED:20251006T155346Z
UID:6839-1769904000-1770249599@www.fairever-events.com
SUMMARY:Trade Fair Staff\, Hostesses & Promotion for ISM Cologne 2026
DESCRIPTION:Make your confectionery & snacks irresistible – at ISM Cologne 2026. From 1 to 4 February 2026\, the international sweets and snacks industry gathers in Cologne to showcase new products\, trends and flavor innovations. With FAIREVER\, you secure professional trade fair staff in Cologne\, experienced hostesses and dedicated promoters who will present your brand memorably and engagingly – from the first visitor to follow-up. \n\n		Start Your Inquiry\n	\n\nISM 2026 – Your stage for sweets\, snacks & indulgence innovations \nISM Cologne is the world’s largest trade fair for confectionery and snacks\, offering an ideal platform for manufacturers\, importers\, retailers and catering suppliers. Key segments include: \n\nChocolate & chocolate products – from classics to innovative varieties\nSugar confectionery – candies\, jellies\, gummies\, licorice & marzipan\nBiscuits\, cookies & pastries – including international specialties\nSnacks & trend snacks – savory snacks\, natural & vegan alternatives\nFrozen confectionery & ice cream\n\nWith FAIREVER promotion staff\, you reach decision-makers from retail and food industries\, trendsetters\, buyers and international visitors seeking new product innovations. \nTrade fair hostesses & promoters for ISM Cologne 2026 \nOur specialized trade fair staff in Cologne are trained for this indulgence-focused industry and provide: \n\nActive visitor engagement & product presentation (GER/EN & other languages)\nSupport with tastings\, sampling campaigns & product demos\nCare for international guests & delegations\nDistribution of samples\, catalogues & brochures\nFriendly\, professional & service-oriented appearance\n\nWhether launching new flavors\, packaging innovations or trend snacks – our hostesses and promoters at ISM Cologne 2026 make your booth a magnet for visitors. \nFull-service for your trade fair appearance \nFAIREVER offers you the complete package: \n\nStand design & branding aligned with your brand identity\nSelection\, briefing & training of trade fair staff\nPlanning & execution of tastings\, demos & activations\nLogistics\, coordination & on-site support during the fair\nReporting & follow-up for performance tracking\n\nWhy FAIREVER for ISM Cologne 2026? \n\nExperience with over 100 trade fairs annually – across Germany & abroad\nSpecialization in food & beverage\, confectionery & snack exhibitions\nFast & flexible staffing\, even at short notice\nFair pricing & transparent communication\nSustainability & responsibility embedded in our event planning\n\nBook trade fair staff for ISM Cologne 2026 now! \nTake the opportunity to present your brand professionally at ISM Cologne 2026 (01–04 February 2026). FAIREVER provides the ideal trade fair staff\, experienced hostesses and creative promotion personnel in Cologne to showcase your products effectively. \nFAIREVER GmbH – fair. flexible. sustainable.\nYour partner for trade fair staff\, hostesses & promotion in Cologne – at ISM Cologne 2026 and beyond. \n\n		Start Your Inquiry
URL:https://www.fairever-events.com/en/eventagentur/ism-cologne-hostess-agency/
LOCATION:Messe Köln\, Messeplatz 1\, Köln\, NRW\, 50679\, Germany
CATEGORIES:Cologne Trade Fairs,Messen in Köln
ATTACH;FMTTYPE=image/jpeg:https://www.fairever-events.com/wp-content/uploads/2024/11/ism_koeln.jpg
END:VEVENT
END:VCALENDAR