BEGIN:VCALENDAR
VERSION:2.0
PRODID:-//FAIREVER - ECPv6.15.20//NONSGML v1.0//EN
CALSCALE:GREGORIAN
METHOD:PUBLISH
X-ORIGINAL-URL:https://www.fairever-events.com/en/
X-WR-CALDESC:Events for FAIREVER
REFRESH-INTERVAL;VALUE=DURATION:PT1H
X-Robots-Tag:noindex
X-PUBLISHED-TTL:PT1H
BEGIN:VTIMEZONE
TZID:Europe/Berlin
BEGIN:DAYLIGHT
TZOFFSETFROM:+0100
TZOFFSETTO:+0200
TZNAME:CEST
DTSTART:20250330T010000
END:DAYLIGHT
BEGIN:STANDARD
TZOFFSETFROM:+0200
TZOFFSETTO:+0100
TZNAME:CET
DTSTART:20251026T010000
END:STANDARD
BEGIN:DAYLIGHT
TZOFFSETFROM:+0100
TZOFFSETTO:+0200
TZNAME:CEST
DTSTART:20260329T010000
END:DAYLIGHT
BEGIN:STANDARD
TZOFFSETFROM:+0200
TZOFFSETTO:+0100
TZNAME:CET
DTSTART:20261025T010000
END:STANDARD
BEGIN:DAYLIGHT
TZOFFSETFROM:+0100
TZOFFSETTO:+0200
TZNAME:CEST
DTSTART:20270328T010000
END:DAYLIGHT
BEGIN:STANDARD
TZOFFSETFROM:+0200
TZOFFSETTO:+0100
TZNAME:CET
DTSTART:20271031T010000
END:STANDARD
END:VTIMEZONE
BEGIN:VEVENT
DTSTART;VALUE=DATE:20260206
DTEND;VALUE=DATE:20260211
DTSTAMP:20260419T164832
CREATED:20250925T114342Z
LAST-MODIFIED:20250930T160022Z
UID:7729-1770336000-1770767999@www.fairever-events.com
SUMMARY:Trade Fair Staff\, Hostesses & Promotion for Ambiente Frankfurt 2026
DESCRIPTION:Kick off the trade fair year in style – at Ambiente Frankfurt 2026. From 6 to 10 February 2026\, the international consumer goods industry gathers in Frankfurt at the forefront of trends. Ambiente is the leading trade fair for household goods\, home accessories\, gifts\, and lifestyle products. With FAIREVER\, you can book professional trade fair staff in Frankfurt who present your products with style and expertise – from the first contact to post-event follow-up. \n\n		Contact us now\n	\n\nAmbiente 2026 – Your Stage for Living\, Giving & Dining \nAmbiente Frankfurt offers a platform where you can highlight the latest industry trends and unlock new market opportunities. Focus areas include: \n\nLiving & home accessories\nTableware\, cutlery\, glass & kitchen products\nGifts\, stationery & lifestyle accessories\nLighting\, décor & interior design\nSustainability\, Ethical Style & Circular Products\n\nWith FAIREVER promotion staff\, you make your brand stand out and connect directly with buyers and business partners. \nTrade Fair Hostesses & Promoters for Ambiente Frankfurt \nOur specialized trade fair staff in Frankfurt are well-versed in the consumer goods sector and provide: \n\nActive visitor engagement & product presentation (GER/EN & other languages)\nSupport for international buyers & trade visitors\nAssistance with product demonstrations & trend showcases\nDistribution of marketing material & samples\nFriendly\, stylish\, and service-oriented performance\n\nWhether tableware\, home textiles\, gift ideas\, or sustainable products – our hostesses and promoters at Ambiente Frankfurt ensure your booth attracts attention. \nFull-Service for Your Trade Fair Presence \nWith FAIREVER\, you benefit from complete support: \n\nBooth design & branding aligned with your brand\nSelection\, briefing & training of staff\nPlanning & execution of product sampling & presentations\nLogistics\, coordination & on-site support during the fair\nReporting & post-event analysis\n\nThis allows you to focus fully on your products and business talks – we handle the rest. \nWhy FAIREVER for Ambiente Frankfurt 2026? \n\nExperience at over 100 trade fairs annually – nationwide\nSpecialization in consumer goods\, gifts & home interior shows\nFlexible & fast staff planning\, even at short notice\nFair pricing & transparent communication\nSustainability & Ethical Style as part of our planning\n\nBook Trade Fair Staff for Ambiente Frankfurt 2026 Now! \nUse the opportunity to showcase your brand effectively at Ambiente Frankfurt 2026. FAIREVER provides professional trade fair staff\, hostesses and promotion staff in Frankfurt to ensure your products are noticed and appreciated. \nFAIREVER GmbH – fair. flexible. sustainable.\nYour partner for trade fair staff\, hostesses & promotion in Frankfurt – at Ambiente 2026 and beyond.\n\n		Contact us now
URL:https://www.fairever-events.com/en/eventagentur/trade-fair-staff-hostesses-promotion-ambiente-frankfurt/
LOCATION:Messe Frankfurt\, Ludwig-Erhard-Anlage 1\, Frankfurt am Main\, Hessen\, 60327\, Germany
CATEGORIES:Frankfurt trade fairs
ATTACH;FMTTYPE=image/jpeg:https://www.fairever-events.com/wp-content/uploads/2024/01/ambiente-2026-save-the-date.jpg
END:VEVENT
BEGIN:VEVENT
DTSTART;VALUE=DATE:20260210
DTEND;VALUE=DATE:20260213
DTSTAMP:20260419T164832
CREATED:20251015T095836Z
LAST-MODIFIED:20251015T100016Z
UID:8037-1770681600-1770940799@www.fairever-events.com
SUMMARY:Trade Fair Staff\, Hostesses & Promotion for E-world energy & water Essen 2026
DESCRIPTION:Set new impulses in the energy and water industry – at E-world energy & water Essen 2026. From February 10 to 12\, 2026\, Messe Essen will once again become the meeting place of the European energy sector to experience innovations\, smart energy solutions\, storage and grid technologies. With FAIREVER\, you book professional trade fair staff in Essen\, experienced hostesses and dedicated promoters who present your brand competently and effectively – from the first professional visitor to the successful follow-up. \n\n		Start Your Inquiry\n	\n\nE-world energy & water 2026 – Your stage for energy technology & smart supply \nE-world energy & water is Europe’s leading trade fair for the energy and water industry. Here\, providers\, utilities\, municipalities\, technology start-ups and professional partners come together to find answers to pressing challenges – from the energy transition to efficiency and modern supply models. Key topics include: \n\nEnergy generation / Smart energy solutions & decentralized grids\nEnergy trading\, storage & transport technology\nWater management\, resources & intelligent supply and disposal systems\nSustainable technologies\, green innovations & climate protection\nDigitalization\, IoT\, grid automation & consumer efficiency\n\nWith FAIREVER promotion staff\, you ensure that your solutions are directly connected with decision-makers\, utilities\, innovators and industry professionals. \nTrade fair hostesses & promoters for E-world Essen \nOur specialized staff in Essen is trained to meet the requirements of this technical and sustainability-focused fair: \n\nActive visitor engagement & product presentation (DE/EN & other languages)\nSupport with technical demonstrations\, smart energy demos & live showcases\nCare for international guests\, delegations & partners\nDistribution of brochures\, technical samples & information material\nProfessional\, competent & service-oriented appearance\n\nWhether you present new storage solutions\, digital water analysis technology or smart grid infrastructure – our hostesses and promoters at E-world Essen 2026 make sure your stand stands out and your expertise becomes visible. \nFull service for your trade fair appearance \nWith FAIREVER\, you get comprehensive support: \n\nStand design & branding tailored to technology & corporate identity\nSelection\, briefing & training of staff\nPlanning & execution of presentations\, live demos & visitor activations\nLogistics\, coordination & on-site supervision during the fair\nReporting & follow-up for success evaluation\n\nWhy FAIREVER for E-world Essen 2026? \n\nMany years of experience at over 100 trade fairs annually – nationwide & international\nSpecialization in energy\, utilities & technology fairs\nFlexible & short-term staff planning possible\nFair prices & transparent communication\nSustainability & future orientation as core elements of our concepts\n\n👉 Book trade fair staff for E-world Essen 2026 now!\nTake the opportunity to present your energy or water solutions at E-world energy & water Essen 2026 (Feb 10–12\, 2026) professionally and credibly. FAIREVER provides the right staff\, experienced hostesses and creative promotion teams in Essen – so your stand convinces and your innovations are seen. \nFAIREVER GmbH – fair. flexible. sustainable.\nYour partner for trade fair staff\, hostesses & promotion in Essen – at E-world 2026 and beyond. \n\n		Start Your Inquiry
URL:https://www.fairever-events.com/en/eventagentur/trade-fair-staff-hostesses-promotion-for-e-world-energy-water-essen-2026/
LOCATION:Messe Essen
ATTACH;FMTTYPE=image/png:https://www.fairever-events.com/wp-content/uploads/2025/10/EW26_Signetvorlagen_quer-1055x460-1.png
END:VEVENT
BEGIN:VEVENT
DTSTART;VALUE=DATE:20260210
DTEND;VALUE=DATE:20260214
DTSTAMP:20260419T164832
CREATED:20251121T165238Z
LAST-MODIFIED:20251121T165238Z
UID:8148-1770681600-1771027199@www.fairever-events.com
SUMMARY:Trade Fair Staff\, Hostesses & Promotion for BIOFACH 2026
DESCRIPTION:Discover your stage for organic brands – at BIOFACH 2026 in Nuremberg. From 10 to 13 February 2026\, the world’s leading trade fair for organic food and sustainable products brings together international manufacturers\, brands and decision-makers with highly qualified professionals. \nWith FAIREVER\, you book professional trade fair & promotion staff in Nuremberg who present your products with genuine passion. Our experienced hostesses\, promoters and service teams – together with our full-service package – ensure a smooth\, convincing and sustainable trade fair presence from planning to follow-up. \n\n		Start Your Inquiry\n	\n\nBIOFACH 2026 – Your Stage for Organic\, Sustainability & Future Trends \nBIOFACH is the central platform for organic food\, natural products and sustainable innovations. Visitors and decision-makers are particularly interested in: \n\nOrganic food & beverages\nCertified organic & fair-trade products\nSustainable packaging & ecological innovations\nAgriculture\, organic farming & supply chains\nRegional organic specialties\nFuture trends & international market innovations\n\nWith FAIREVER promotion staff\, you capture your audience’s attention and increase your brand visibility sustainably. \nHostesses & Promotion Staff for BIOFACH Nuremberg \nOur experienced trade fair staff is perfectly prepared for the specific needs of BIOFACH. You benefit from: \n\nActive visitor engagement & product presentations (GER/EN & more languages)\nTastings & sampling activities in the organic sector\nSupport for live demos & expert sessions\nAssistance for international buyers\, guests & professional delegations\nFriendly\, service-oriented staff with experience in organic & food environments\n\nWhether tastings\, product showcases or information talks – our hostesses and promoters turn your stand into a crowd-puller. \nFull-Service for Your Trade Fair Appearance \nFAIREVER offers far more than classic trade fair staffing. On request\, we take over your entire trade fair service: \n\nSustainable booth design & branding\nSelection\, briefing & in-depth training of staff\nPlanning & execution of tastings\, product demos & live activities\nLogistics\, coordination & on-site management\nReporting & performance analysis\n\nYou can fully focus on your products\, your brand and your visitors – we handle the rest. \nWhy FAIREVER for BIOFACH 2026? \n\nExperience across 100+ trade fairs annually – nationwide\nStrong expertise in food\, organic & sustainability fairs\nFlexible & fast staff planning\nFair pricing & transparent communication\nSustainable event & promotion planning\n\nBook Trade Fair Staff for BIOFACH 2026 Now! \nTake the opportunity to present your brand professionally and effectively at BIOFACH 2026 in Nuremberg. FAIREVER provides the right trade fair staff\, experienced hostesses and creative promotion teams that authentically represent your brand. \nFAIREVER GmbH – fair. flexible. sustainable.\nYour partner for trade fair staff\, hostesses and promotion in Nuremberg – at BIOFACH 2026 and beyond. \n\n		Start Your Inquiry
URL:https://www.fairever-events.com/en/eventagentur/trade-fair-staff-biofach/
LOCATION:Messe Nürnberg\, Messezentrum 1\, Nürnberg\, Bayern\, 90471\, Germany
CATEGORIES:Nuremberg Trade Fairs
ATTACH;FMTTYPE=image/jpeg:https://www.fairever-events.com/wp-content/uploads/2025/11/csm_BF_Logo_gruen_version.jpg
END:VEVENT
END:VCALENDAR