BEGIN:VCALENDAR
VERSION:2.0
PRODID:-//FAIREVER - ECPv6.15.20//NONSGML v1.0//EN
CALSCALE:GREGORIAN
METHOD:PUBLISH
X-ORIGINAL-URL:https://www.fairever-events.com/en/
X-WR-CALDESC:Events for FAIREVER
REFRESH-INTERVAL;VALUE=DURATION:PT1H
X-Robots-Tag:noindex
X-PUBLISHED-TTL:PT1H
BEGIN:VTIMEZONE
TZID:Europe/Berlin
BEGIN:DAYLIGHT
TZOFFSETFROM:+0100
TZOFFSETTO:+0200
TZNAME:CEST
DTSTART:20250330T010000
END:DAYLIGHT
BEGIN:STANDARD
TZOFFSETFROM:+0200
TZOFFSETTO:+0100
TZNAME:CET
DTSTART:20251026T010000
END:STANDARD
BEGIN:DAYLIGHT
TZOFFSETFROM:+0100
TZOFFSETTO:+0200
TZNAME:CEST
DTSTART:20260329T010000
END:DAYLIGHT
BEGIN:STANDARD
TZOFFSETFROM:+0200
TZOFFSETTO:+0100
TZNAME:CET
DTSTART:20261025T010000
END:STANDARD
BEGIN:DAYLIGHT
TZOFFSETFROM:+0100
TZOFFSETTO:+0200
TZNAME:CEST
DTSTART:20270328T010000
END:DAYLIGHT
BEGIN:STANDARD
TZOFFSETFROM:+0200
TZOFFSETTO:+0100
TZNAME:CET
DTSTART:20271031T010000
END:STANDARD
END:VTIMEZONE
BEGIN:VEVENT
DTSTART;VALUE=DATE:20260302
DTEND;VALUE=DATE:20260306
DTSTAMP:20260420T121721
CREATED:20251014T220312Z
LAST-MODIFIED:20251015T095950Z
UID:8027-1772409600-1772755199@www.fairever-events.com
SUMMARY:Trade Fair Staff\, Hostesses & Promotion for MWC Barcelona 2026
DESCRIPTION:Drive momentum in mobility\, connectivity & future technology – at the Mobile World Congress (MWC) Barcelona 2026. From 2–5 March 2026\, Fira Gran Via in Barcelona will once again be the global hub of the mobile and connectivity industry. With FAIREVER\, you gain professional trade fair staff\, experienced hostesses\, and dedicated promoters who skillfully put your innovations in the spotlight – from the first visitor to the successful follow-up. \n\n		Start Your Inquiry\n	\n\nMWC Barcelona 2026 – Your Stage for Connectivity\, Mobile & Innovation \nMWC is the world’s largest annual trade fair for mobile technologies\, network systems\, digital communication and related innovations. With guest lists from over 100 countries\, it offers unmatched opportunities. Key topics include: \n\nMobile communication\, networks & infrastructure\n5G / 6G developments & edge computing\nIoT\, smart devices & wearables\nArtificial Intelligence\, Augmented / Virtual Reality\nCloud services\, cybersecurity & data protection\nDigital ecosystems & connectivity solutions for smart cities\, industry & consumers\n\nTrade Fair Hostesses & Promoters for MWC Barcelona \nOur professional staff ensures strong visibility across all touchpoints: \n\nActive visitor engagement & product/technology demos (EN/DE & multiple languages)\nSupport at live demos\, presentations & networking events\nAssistance for international guests\, delegations & industry professionals\nDistribution of campaign materials\, samples\, catalogues & information\nHigh-quality\, service-oriented appearance\n\nFull-Service for Your MWC Presence \nFAIREVER ensures everything runs smoothly: \n\nStand design & branding tailored to mobility & connectivity themes\nSelection\, briefing & training of your staff\nPlanning & execution of product presentations\, visitor activations & live events\nLogistics\, coordination & on-site support during the trade fair\nReporting & post-show evaluation\n\nWhy FAIREVER for MWC Barcelona 2026? \n\nStrong network from over 100 trade fairs annually – with expertise in tech & mobile industries\nFast & flexible personnel planning – even for last-minute changes\nTransparent\, fair & reliable in pricing & communication\nSustainability & innovation as core values\n\nBook Trade Fair Staff for MWC Barcelona 2026 Now! \nSecure your competitive edge: present your mobile & connectivity solutions at MWC Barcelona 2026 (2–5 March 2026) professionally and effectively. FAIREVER provides the right trade fair staff\, experienced hostesses and creative promotion teams in Barcelona to make your stand stand out and your innovations visible. \nFAIREVER GmbH – fair. flexible. sustainable. \n\n		Start Your Inquiry
URL:https://www.fairever-events.com/en/eventagentur/trade-fair-staff-hostesses-promotion-for-mwc-barcelona/
LOCATION:Messe Barcelona\, Av. Joan Carles I\, 64\, L'Hospitalet de Llobregat\, Barcelona\, 08004\, Spain
CATEGORIES:Barcelona trade fairs
ATTACH;FMTTYPE=image/jpeg:https://www.fairever-events.com/wp-content/uploads/2024/01/MWC-Barcelona-2025.jpg
END:VEVENT
END:VCALENDAR