BEGIN:VCALENDAR
VERSION:2.0
PRODID:-//FAIREVER - ECPv6.15.20//NONSGML v1.0//EN
CALSCALE:GREGORIAN
METHOD:PUBLISH
X-ORIGINAL-URL:https://www.fairever-events.com/en/
X-WR-CALDESC:Events for FAIREVER
REFRESH-INTERVAL;VALUE=DURATION:PT1H
X-Robots-Tag:noindex
X-PUBLISHED-TTL:PT1H
BEGIN:VTIMEZONE
TZID:Europe/Berlin
BEGIN:DAYLIGHT
TZOFFSETFROM:+0100
TZOFFSETTO:+0200
TZNAME:CEST
DTSTART:20250330T010000
END:DAYLIGHT
BEGIN:STANDARD
TZOFFSETFROM:+0200
TZOFFSETTO:+0100
TZNAME:CET
DTSTART:20251026T010000
END:STANDARD
BEGIN:DAYLIGHT
TZOFFSETFROM:+0100
TZOFFSETTO:+0200
TZNAME:CEST
DTSTART:20260329T010000
END:DAYLIGHT
BEGIN:STANDARD
TZOFFSETFROM:+0200
TZOFFSETTO:+0100
TZNAME:CET
DTSTART:20261025T010000
END:STANDARD
BEGIN:DAYLIGHT
TZOFFSETFROM:+0100
TZOFFSETTO:+0200
TZNAME:CEST
DTSTART:20270328T010000
END:DAYLIGHT
BEGIN:STANDARD
TZOFFSETFROM:+0200
TZOFFSETTO:+0100
TZNAME:CET
DTSTART:20271031T010000
END:STANDARD
END:VTIMEZONE
BEGIN:VEVENT
DTSTART;VALUE=DATE:20260304
DTEND;VALUE=DATE:20260309
DTSTAMP:20260420T121516
CREATED:20251016T102243Z
LAST-MODIFIED:20251016T102321Z
UID:8072-1772582400-1773014399@www.fairever-events.com
SUMMARY:Trade Fair Staff\, Hostesses & Promotion for Handwerk & Design Munich 2026
DESCRIPTION:Craft meets design reimagined – at Handwerk & Design Munich 2026. From 4 to 8 March 2026\, this exhibition\, held as part of the Internationale Handwerksmesse at Messe München\, becomes the platform for high-quality craftsmanship\, aesthetic design\, and creative one-of-a-kind pieces. With FAIREVER\, you can book professional trade fair staff in Munich\, experienced hostesses and dedicated promoters who present your works and products with style and impact – from the first visitor to the follow-up. \n\n		Start Your Inquiry\n	\n\nHandwerk & Design 2026 – Your Stage for Art\, Craft & Design Objects \nHandwerk & Design combines high-quality presentations of crafts and design under one roof. Exhibitors from diverse sectors showcase their skills and creativity. Highlights include: \n\nJewelry\, metalwork & fine objects\nCeramics & porcelain\nTextiles & paper design\nGlass art & traditional materials such as wood & furniture\nArtistic objects & design with aesthetic ambition\n\nExclusive special shows such as EXEMPLA\, SCHMUCK and TALENTE – Masters of the Future – provide insight into trends and the work of young\, innovative talents. \nTrade Fair Hostesses & Promoters for Handwerk & Design Munich \nOur specialized trade fair staff in Munich is ideally prepared to highlight the uniqueness of this event: \n\nEngaging visitor interaction & aesthetic product presentation (DE/EN & other languages)\nSupport with presentations\, special shows & live demonstrations\nCare of international guests\, galleries & design enthusiasts\nDistribution of style catalogs\, visual material & craft brochures\nStylish\, service-oriented & competent presence\n\nWhether jewelry design\, furniture art or glass objects – our hostesses and promoters at Handwerk & Design Munich 2026 ensure your stand is aesthetically compelling and unforgettable. \nFull-Service for Your Trade Fair Presence \nWith FAIREVER you get an all-round solution: \n\nBooth design & branding tailored to your artistic style & design approach\nSelection\, briefing & training of staff\nPlanning & execution of live presentations\, visitor activations & special shows\nLogistics\, coordination & on-site support throughout the event\nReporting & post-show evaluation for success measurement\n\nWhy FAIREVER for Handwerk & Design Munich 2026? \n\nExperience at over 100 trade fairs annually – nationwide & international\nSpecialization in crafts\, design & premium lifestyle trade shows\nFlexible & fast staff planning\, even at short notice\nFair prices & transparent communication\nSustainability & quality as integral parts of our trade fair and promotion concepts\n\nBook Trade Fair Staff for Handwerk & Design Munich 2026 Now! \nTake the chance to showcase your artistic objects\, design products and craftwork at Handwerk & Design Munich 2026 (4–8 March 2026) professionally and memorably. FAIREVER provides you with the right trade fair staff\, experienced hostesses and creative promotion teams in Munich – ensuring your stand shines and your designs are admired. \nFAIREVER GmbH – fair. flexible. sustainable.\nYour partner for trade fair staff\, hostesses & promotion in Munich – at Handwerk & Design 2026 and beyond. \n\n		Start Your Inquiry
URL:https://www.fairever-events.com/en/eventagentur/trade-fair-staff-hostesses-promotion-for-handwerk-design-munich-2026/
LOCATION:Messe München\, Messegelände\, München\, Bayern\, 81823\, Germany
CATEGORIES:Munich trade fairs
ATTACH;FMTTYPE=image/jpeg:https://www.fairever-events.com/wp-content/uploads/2025/10/Handwerk-Design.jpg
END:VEVENT
END:VCALENDAR