BEGIN:VCALENDAR
VERSION:2.0
PRODID:-//FAIREVER - ECPv6.15.20//NONSGML v1.0//EN
CALSCALE:GREGORIAN
METHOD:PUBLISH
X-ORIGINAL-URL:https://www.fairever-events.com/en/
X-WR-CALDESC:Events for FAIREVER
REFRESH-INTERVAL;VALUE=DURATION:PT1H
X-Robots-Tag:noindex
X-PUBLISHED-TTL:PT1H
BEGIN:VTIMEZONE
TZID:Europe/Berlin
BEGIN:DAYLIGHT
TZOFFSETFROM:+0100
TZOFFSETTO:+0200
TZNAME:CEST
DTSTART:20250330T010000
END:DAYLIGHT
BEGIN:STANDARD
TZOFFSETFROM:+0200
TZOFFSETTO:+0100
TZNAME:CET
DTSTART:20251026T010000
END:STANDARD
BEGIN:DAYLIGHT
TZOFFSETFROM:+0100
TZOFFSETTO:+0200
TZNAME:CEST
DTSTART:20260329T010000
END:DAYLIGHT
BEGIN:STANDARD
TZOFFSETFROM:+0200
TZOFFSETTO:+0100
TZNAME:CET
DTSTART:20261025T010000
END:STANDARD
BEGIN:DAYLIGHT
TZOFFSETFROM:+0100
TZOFFSETTO:+0200
TZNAME:CEST
DTSTART:20270328T010000
END:DAYLIGHT
BEGIN:STANDARD
TZOFFSETFROM:+0200
TZOFFSETTO:+0100
TZNAME:CET
DTSTART:20271031T010000
END:STANDARD
END:VTIMEZONE
BEGIN:VEVENT
DTSTART;VALUE=DATE:20260308
DTEND;VALUE=DATE:20260314
DTSTAMP:20260420T121844
CREATED:20250925T115011Z
LAST-MODIFIED:20250930T160346Z
UID:7732-1772928000-1773446399@www.fairever-events.com
SUMMARY:Trade Fair Staff\, Hostesses & Promotion for Light + Building Frankfurt 2026
DESCRIPTION:Make your brand shine – at Light + Building Frankfurt 2026. From 8 to 13 March 2026\, Frankfurt becomes the global hub for lighting\, building technology\, architecture\, and smart technologies. Light + Building is the world’s leading trade fair for lighting\, electrical engineering\, building automation\, and connected security technology. With FAIREVER\, you book professional trade fair staff in Frankfurt\, skilled hostesses\, and promotion personnel to put your brand in the spotlight – from first contact to successful follow-up. \n\n		Contact us now\n	\n\nLight + Building 2026 – Your Stage for Sustainable Lighting & Smart Building Tech \nLight + Building 2026 focuses on the future of building technology and lighting. Key themes include Sustainable Transformation\, Smart Connectivity\, and Light & Well-being. \nVisitors are particularly interested in: \n\nEnergy-efficient lighting & smart energy management systems\nBuilding automation\, IoT\, smart infrastructure & security technology\nLighting design\, human-centric lighting & adaptive lighting systems\nSustainable energy solutions & innovative building technologies\n\nWith FAIREVER promotion staff\, you reach architects\, planners\, engineers\, retailers\, and decision-makers in lighting and building technology. \nTrade Fair Hostesses & Promoters for Light + Building Frankfurt \nOur specialized trade fair staff in Frankfurt are ideally trained for Light + Building and provide: \n\nActive visitor engagement & product presentation (GER/EN & other languages)\nCare of international delegations & expert visitors\nSupport for technical demos\, product showcases & lighting design presentations\nDistribution of marketing materials & giveaways\nProfessional\, service-oriented performance – with technical understanding\n\nWhether innovative luminaires\, smart building solutions or design highlights – our hostesses and promoters at Light + Building Frankfurt 2026 make your booth a highlight. \nFull-Service for Your Trade Fair Presence \nWith FAIREVER\, you get more than experienced staff – we provide a complete service package for Light + Building Frankfurt 2026: \n\nBooth design & branding tailored to your brand\nSelection\, briefing & training of staff\nPlanning & execution of promotions & product demonstrations\nLogistics\, coordination & on-site support\nReporting & post-event evaluation\n\nSo you can fully focus on your business contacts and innovations – we take care of the rest. \nWhy FAIREVER for Light + Building Frankfurt 2026? \n\nExperience at over 100 trade fairs annually – nationwide & international\nSpecialization in lighting\, electrical & building technology shows\nFast & flexible staff planning\, even at short notice\nFair pricing & transparent communication\nSustainability integrated into event planning\n\nBook Trade Fair Staff for Light + Building Frankfurt 2026 Now! \nSeize the opportunity to showcase your brand at Light + Building Frankfurt 2026. FAIREVER provides the right trade fair staff\, hostesses and promotion staff in Frankfurt to engage your audience and enhance your visibility. \nFAIREVER GmbH – fair. flexible. sustainable.\nYour partner for trade fair staff\, hostesses & promotion in Frankfurt – at Light + Building 2026 and beyond. \n\n		Contact us now
URL:https://www.fairever-events.com/en/eventagentur/light-building-frankfurt-trade-fair-staff-hostesses-promotion/
LOCATION:Messe Frankfurt\, Ludwig-Erhard-Anlage 1\, Frankfurt am Main\, Hessen\, 60327\, Germany
CATEGORIES:Frankfurt trade fairs
ATTACH;FMTTYPE=image/png:https://www.fairever-events.com/wp-content/uploads/2024/01/light-building-logo.png
END:VEVENT
END:VCALENDAR