BEGIN:VCALENDAR
VERSION:2.0
PRODID:-//FAIREVER - ECPv6.15.20//NONSGML v1.0//EN
CALSCALE:GREGORIAN
METHOD:PUBLISH
X-ORIGINAL-URL:https://www.fairever-events.com/en/
X-WR-CALDESC:Events for FAIREVER
REFRESH-INTERVAL;VALUE=DURATION:PT1H
X-Robots-Tag:noindex
X-PUBLISHED-TTL:PT1H
BEGIN:VTIMEZONE
TZID:Europe/Berlin
BEGIN:DAYLIGHT
TZOFFSETFROM:+0100
TZOFFSETTO:+0200
TZNAME:CEST
DTSTART:20250330T010000
END:DAYLIGHT
BEGIN:STANDARD
TZOFFSETFROM:+0200
TZOFFSETTO:+0100
TZNAME:CET
DTSTART:20251026T010000
END:STANDARD
BEGIN:DAYLIGHT
TZOFFSETFROM:+0100
TZOFFSETTO:+0200
TZNAME:CEST
DTSTART:20260329T010000
END:DAYLIGHT
BEGIN:STANDARD
TZOFFSETFROM:+0200
TZOFFSETTO:+0100
TZNAME:CET
DTSTART:20261025T010000
END:STANDARD
BEGIN:DAYLIGHT
TZOFFSETFROM:+0100
TZOFFSETTO:+0200
TZNAME:CEST
DTSTART:20270328T010000
END:DAYLIGHT
BEGIN:STANDARD
TZOFFSETFROM:+0200
TZOFFSETTO:+0100
TZNAME:CET
DTSTART:20271031T010000
END:STANDARD
END:VTIMEZONE
BEGIN:VEVENT
DTSTART;VALUE=DATE:20260317
DTEND;VALUE=DATE:20260321
DTSTAMP:20260420T121601
CREATED:20251016T093111Z
LAST-MODIFIED:20251016T093236Z
UID:8045-1773705600-1774051199@www.fairever-events.com
SUMMARY:Trade Fair Staff\, Hostesses & Promotion for SHK+E Essen 2026
DESCRIPTION:Set new standards in sanitary\, heating\, air-conditioning & electrical engineering – at SHK+E Essen 2026. From March 17 to 20\, 2026\, Messe Essen will host one of the most important trade fairs for sanitary\, heating\, air-conditioning and electrical technology. With FAIREVER\, you book professional staff in Essen\, experienced hostesses and skilled promoters who present your products and innovations convincingly – from the first trade visitor to the final follow-up. \n\n		Start Your Inquiry\n	\n\nSHK+E Essen 2026 – Your stage for sanitary\, heating & building technology \nFor more than 50 years\, SHK+E Essen has been a central platform for the trade and is regarded as a key meeting place for sanitary\, heating and building technology professionals from Germany\, the Benelux countries and France. Core sectors include: \n\nSanitary technology & bathroom equipment\nHeating technology incl. heat pumps & hybrid systems\nClimate\, ventilation & air-conditioning technology\nElectrical engineering & building control systems\nRenewable energies & energy efficiency\nWater treatment & drinking water hygiene\nTools\, components & system solutions\n\nHostesses & promoters for SHK+E Essen \nOur specialized staff in Essen is perfectly prepared for this technically demanding fair: \n\nActive visitor engagement & product presentation (DE/EN & other languages)\nSupport with live demonstrations & system showcases\nCare for international guests\, delegations & decision-makers\nDistribution of samples\, catalogs & technical brochures\nProfessional\, competent & service-oriented appearance\n\nWhether heating systems\, smart building technology or sustainable sanitary solutions – with FAIREVER hostesses and promoters at SHK+E Essen 2026\, your stand will be visible and memorable. \nFull service for your trade fair appearance \nFAIREVER offers you complete support for a smooth fair: \n\nStand design & branding tailored to technology & design\nSelection\, briefing & training of personnel\nPlanning & execution of presentations\, activations & demonstrations\nLogistics\, coordination & on-site supervision during the event\nReporting & follow-up to measure success\n\nWhy FAIREVER for SHK+E Essen 2026? \n\nMany years of experience at over 100 trade fairs annually – nationwide & international\nSpecialization in SHK\, electrical & building technology fairs\nFlexible & fast personnel planning – even at short notice\nFair prices & transparent communication\nSustainability & energy efficiency as part of our event concepts\n\n👉 Book staff for SHK+E Essen 2026 now!\nShowcase your sanitary\, HVAC and electrical solutions at SHK+E Essen 2026 (March 17–20\, 2026) professionally and effectively. FAIREVER provides you with the right staff\, experienced hostesses and creative promoters in Essen – so your stand makes an impact. \nFAIREVER GmbH – fair. flexible. sustainable.\nYour partner for trade fair staff\, hostesses & promotion in Essen – at SHK+E 2026 and beyond. \n\n		Start Your Inquiry
URL:https://www.fairever-events.com/en/eventagentur/trade-fair-staff-hostesses-promotion-for-shke-essen/
LOCATION:Messe Essen
ATTACH;FMTTYPE=image/jpeg:https://www.fairever-events.com/wp-content/uploads/2025/10/shke.jpg
END:VEVENT
END:VCALENDAR