BEGIN:VCALENDAR
VERSION:2.0
PRODID:-//FAIREVER - ECPv6.15.20//NONSGML v1.0//EN
CALSCALE:GREGORIAN
METHOD:PUBLISH
X-ORIGINAL-URL:https://www.fairever-events.com/en/
X-WR-CALDESC:Events for FAIREVER
REFRESH-INTERVAL;VALUE=DURATION:PT1H
X-Robots-Tag:noindex
X-PUBLISHED-TTL:PT1H
BEGIN:VTIMEZONE
TZID:Europe/Berlin
BEGIN:DAYLIGHT
TZOFFSETFROM:+0100
TZOFFSETTO:+0200
TZNAME:CEST
DTSTART:20250330T010000
END:DAYLIGHT
BEGIN:STANDARD
TZOFFSETFROM:+0200
TZOFFSETTO:+0100
TZNAME:CET
DTSTART:20251026T010000
END:STANDARD
BEGIN:DAYLIGHT
TZOFFSETFROM:+0100
TZOFFSETTO:+0200
TZNAME:CEST
DTSTART:20260329T010000
END:DAYLIGHT
BEGIN:STANDARD
TZOFFSETFROM:+0200
TZOFFSETTO:+0100
TZNAME:CET
DTSTART:20261025T010000
END:STANDARD
BEGIN:DAYLIGHT
TZOFFSETFROM:+0100
TZOFFSETTO:+0200
TZNAME:CEST
DTSTART:20270328T010000
END:DAYLIGHT
BEGIN:STANDARD
TZOFFSETFROM:+0200
TZOFFSETTO:+0100
TZNAME:CET
DTSTART:20271031T010000
END:STANDARD
END:VTIMEZONE
BEGIN:VEVENT
DTSTART;VALUE=DATE:20260319
DTEND;VALUE=DATE:20260323
DTSTAMP:20260420T121722
CREATED:20230309T164200Z
LAST-MODIFIED:20251121T162316Z
UID:5628-1773878400-1774223999@www.fairever-events.com
SUMMARY:Trade Fair Staff\, Hostesses & Promotion for the Leipzig Book Fair 2026
DESCRIPTION:Showcase your brand or publishing/media project effectively — at the Leipzig Book Fair 2026. From 19 to 22 March 2026\, the most significant spring event of the book and media industry once again brings together readers\, authors\, publishers and media professionals. \nWith FAIREVER\, you book professional trade fair and promotion staff in Leipzig who present your products\, content and brand messages with enthusiasm. Our experienced hostesses\, promoters and service teams — supported by our full-service package — ensure a smooth and compelling trade fair appearance from first interaction to follow-up. \n\n		Start Your Inquiry\n	\n\nLeipzig Book Fair 2026 – Your Stage for Literature\, Media & Reading Culture \nThe Leipzig Book Fair is the key meeting point of the spring publishing season\, connecting readers with authors\, publishers and media companies from Germany and around the world. Visitors and professionals are especially interested in: \n\nNew releases in fiction\, non-fiction & specialist literature\nChildren’s & young adult books\, graphic novels & comics\nMedia\, audiobooks & publishing digitalisation\nEvents\, literacy initiatives\, author talks & readings\nInternational literature\, licensing markets & cultural exchange\n\nWith FAIREVER promotion staff\, you capture your target audience’s attention and expand your brand and content reach sustainably. \nHostesses & Promotion Staff for the Leipzig Book Fair \nOur specialised trade fair staff in Leipzig is perfectly prepared for the publishing and media environment. You benefit from: \n\nActive visitor engagement & product/content presentations (GER/EN & more languages)\nSupport for live readings\, signings\, presentations & expert discussions\nAssistance for international guests\, buyers\, delegations & licensing partners\nFriendly\, service-oriented appearance in publishing\, media & cultural settings\n\nWhether for exhibitions\, publisher showcases or media promotions — our hostesses and promoters turn your booth into a central meeting point. \nFull-Service for Your Trade Fair Appearance \nFAIREVER offers much more than staffing. On request\, we take over the complete trade fair service: \n\nBooth design & branding aligned with your publishing identity\nPersonnel selection\, briefing & training\nOrganisation of presentations\, workshops\, events & lectures\nLogistics\, coordination & on-site support during the fair days\nReporting & success analysis\n\nThis lets you focus completely on your content\, your audience and your professional contacts — we handle the rest. \nWhy FAIREVER for the Leipzig Book Fair 2026? \n\nExperience across 100+ fairs annually — nationwide\nExpertise in publishing\, media & cultural fairs\nFlexible & short-term personnel planning\nFair pricing & transparent communication\nSustainable event & promotion planning\n\nBook Trade Fair Staff for the Leipzig Book Fair 2026 Now! \nTake the opportunity to professionally present your brand\, product or content at the Leipzig Book Fair 2026. FAIREVER provides the ideal trade fair staff\, experienced hostesses and creative promotion teams that bring your brand or project into the spotlight. \nFAIREVER GmbH — fair. flexible. sustainable.\nYour partner for trade fair staff\, hostesses and promotion in Leipzig — at the Leipzig Book Fair 2026 and beyond. \n\n		Start Your Inquiry
URL:https://www.fairever-events.com/en/eventagentur/leipzig-bookfair-hostess-agency/
LOCATION:Berlin
ATTACH;FMTTYPE=image/jpeg:https://www.fairever-events.com/wp-content/uploads/2023/03/logo-Leipziger-Buchmesse.jpg
END:VEVENT
BEGIN:VEVENT
DTSTART;VALUE=DATE:20260320
DTEND;VALUE=DATE:20260323
DTSTAMP:20260420T121722
CREATED:20251007T105104Z
LAST-MODIFIED:20251007T105243Z
UID:7985-1773964800-1774223999@www.fairever-events.com
SUMMARY:Trade Fair Staff\, Hostesses & Promotion for CYCLINGWORLD EUROPE Düsseldorf 2026
DESCRIPTION:Experience the world of bicycle and e-bike culture up close – at CYCLINGWORLD EUROPE Düsseldorf 2026. From 20 to 22 March 2026\, the Areal Böhler near Düsseldorf will once again host a vibrant scene celebrating cycling: manufacturers\, dealers\, cycling and e-bike enthusiasts\, as well as component and accessory brands. With FAIREVER\, you can book professional trade fair staff in Düsseldorf\, experienced hostesses and dedicated promoters who present your brand with charm and conviction – from the first visitor interaction through to post-show follow-up. \n\n		Start Your Inquiry\n	\n\nCYCLINGWORLD EUROPE 2026 – Your stage for bicycles\, e-bikes & trend culture \nCYCLINGWORLD EUROPE is Europe’s fair for the finest in bike and e-bike culture\, blending innovation\, lifestyle\, community and experience. Focus areas include: \n\nBicycles & e-bikes: road\, MTB\, city\, trekking & touring bikes\, cargo bikes\, etc.\nApparel & accessories: helmets\, clothing\, shoes\, navigation & more\nCycling tourism & travel experiences: tours\, bikepacking & discovery trips\nFitness & health: cycling as lifestyle & training\nSustainability & innovation: eco-friendly materials\, new technologies & e-mobility trends\n\nTrade fair hostesses & promoters for CYCLINGWORLD EUROPE Düsseldorf \nOur specialised Düsseldorf team presents your bike brand with style and impact: \n\nActive visitor engagement & product presentation (GER/EN & additional languages)\nSupport for test rides\, product demos & live showcases\nCare for international guests & trade visitors\nDistribution of samples\, catalogues & technical information\nFriendly\, authentic & service-oriented demeanour\n\nWhether it’s a new e-bike range\, innovative components or trending accessories – our hostesses & promoters at CYCLINGWORLD EUROPE Düsseldorf 2026 ensure your booth stands out and remains memorable. \nFull service for your trade fair appearance \nWith FAIREVER\, you receive everything from one source: \n\nBooth design & branding aligned with your brand aesthetics\nSelection\, briefing & training of trade fair staff\nPlanning & execution of presentations\, activations\, test rides & promotions\nLogistics\, coordination & on-site support throughout the event\nReporting & post-show review\n\nWhy FAIREVER for CYCLINGWORLD EUROPE 2026? \n\nExperience at over 100 trade fairs per year – across Germany and internationally\nSpecialised in sports\, lifestyle & outdoor events\nFlexible & fast staffing\, even at short notice\nFair pricing & transparent communication\nSustainability & innovation as integral parts of our planning\n\nBook trade fair staff for CYCLINGWORLD EUROPE Düsseldorf 2026 now! \nPresent your bicycle and e-bike products and lifestyle brand professionally at CYCLINGWORLD EUROPE Düsseldorf 2026 (20–22 March 2026). FAIREVER provides the right trade fair staff\, experienced hostesses and creative promotion teams in Düsseldorf to make your stand a lasting highlight.\nFAIREVER GmbH – fair. flexible. sustainable.\nYour partner for trade fair staff\, hostesses & promotion in Düsseldorf – at CYCLINGWORLD EUROPE 2026 and beyond. \n\n		Start Your Inquiry
URL:https://www.fairever-events.com/en/eventagentur/trade-fair-staff-hostesses-promotion-for-cyclingworld-europe-dusseldorf/
LOCATION:Berlin
CATEGORIES:Dusseldorf Trade Fairs
ATTACH;FMTTYPE=image/webp:https://www.fairever-events.com/wp-content/uploads/2025/10/CWD_10-300dpi.webp
END:VEVENT
END:VCALENDAR