BEGIN:VCALENDAR
VERSION:2.0
PRODID:-//FAIREVER - ECPv6.15.20//NONSGML v1.0//EN
CALSCALE:GREGORIAN
METHOD:PUBLISH
X-ORIGINAL-URL:https://www.fairever-events.com/en/
X-WR-CALDESC:Events for FAIREVER
REFRESH-INTERVAL;VALUE=DURATION:PT1H
X-Robots-Tag:noindex
X-PUBLISHED-TTL:PT1H
BEGIN:VTIMEZONE
TZID:Europe/Berlin
BEGIN:DAYLIGHT
TZOFFSETFROM:+0100
TZOFFSETTO:+0200
TZNAME:CEST
DTSTART:20250330T010000
END:DAYLIGHT
BEGIN:STANDARD
TZOFFSETFROM:+0200
TZOFFSETTO:+0100
TZNAME:CET
DTSTART:20251026T010000
END:STANDARD
BEGIN:DAYLIGHT
TZOFFSETFROM:+0100
TZOFFSETTO:+0200
TZNAME:CEST
DTSTART:20260329T010000
END:DAYLIGHT
BEGIN:STANDARD
TZOFFSETFROM:+0200
TZOFFSETTO:+0100
TZNAME:CET
DTSTART:20261025T010000
END:STANDARD
BEGIN:DAYLIGHT
TZOFFSETFROM:+0100
TZOFFSETTO:+0200
TZNAME:CEST
DTSTART:20270328T010000
END:DAYLIGHT
BEGIN:STANDARD
TZOFFSETFROM:+0200
TZOFFSETTO:+0100
TZNAME:CET
DTSTART:20271031T010000
END:STANDARD
END:VTIMEZONE
BEGIN:VEVENT
DTSTART;VALUE=DATE:20260504
DTEND;VALUE=DATE:20260508
DTSTAMP:20260420T121514
CREATED:20251016T104505Z
LAST-MODIFIED:20251016T104542Z
UID:8098-1777852800-1778198399@www.fairever-events.com
SUMMARY:Trade Fair Staff\, Hostesses & Promotion for IFAT Munich 2026
DESCRIPTION:Shape the future of environmental technology – at IFAT Munich 2026. From 4 to 7 May 2026\, the international industry meets in Munich to showcase innovations in water management\, wastewater\, recycling and raw material cycles. With FAIREVER\, you can book professional trade fair staff in Munich\, experienced hostesses and dedicated promoters who present your environmental solutions effectively and competently – from the first visitor to the follow-up. \n\n		Start Your Inquiry\n	\n\nIFAT Munich 2026 – Your Stage for Water\, Recycling & Circular Economy \nIFAT is the world’s leading trade fair for environmental technology and an essential platform for suppliers\, municipalities\, research institutions and innovators. Key areas include: \n\nWater & wastewater technology including treatment\, filtration\, pumps & piping systems\nCircular economy\, recycling & secondary raw materials: from collection and sorting to reuse & recovery\nEnvironmental technology & waste management: energy recovery\, waste prevention\, emission reduction\nInnovations in process automation\, digitization & monitoring in the environmental sector\n\nWith FAIREVER promotion staff\, you directly reach decision-makers\, experts and professionals committed to sustainability\, efficiency and future-ready technologies. \nTrade Fair Hostesses & Promoters for IFAT Munich \nOur specialized staff in Munich is prepared for the demands of this environmental technology trade fair: \n\nActive visitor engagement & product presentation (DE/EN & other languages)\nSupport with live demos\, system showcases & technology presentations\nCare of international guests\, delegations & industry partners\nDistribution of brochures\, catalogs & technical information packages\nProfessional\, knowledgeable & service-oriented appearance\n\nWhether you present an innovative water filtration system\, recycling technology or digital solutions for waste management – our hostesses and promoters at IFAT Munich 2026 ensure your stand stands out and your message resonates. \nFull-Service for Your Trade Fair Presence \nWith FAIREVER you receive comprehensive support for a smooth IFAT participation: \n\nBooth design & branding aligned with your brand and sustainability focus\nSelection\, briefing & training of staff\nPlanning & execution of product presentations\, visitor activations & live demonstrations\nLogistics\, coordination & on-site support throughout the event\nReporting & post-show evaluation for success measurement\n\nWhy FAIREVER for IFAT Munich 2026? \n\nLong-standing experience at over 100 trade fairs annually – nationwide & international\nSpecialization in environmental technology\, water management & circular economy\nFast & flexible staff planning\, also short notice\nFair prices & transparent communication\nSustainability & technical excellence as core values\n\nBook Trade Fair Staff for IFAT Munich 2026 Now! \nTake the opportunity to present your technologies\, solutions & innovations at IFAT Munich 2026 (4–7 May 2026) professionally and with vision. FAIREVER provides you with the right trade fair staff\, experienced hostesses and creative promotion teams in Munich – ensuring your stand makes an impact and your topics gain visibility. \nFAIREVER GmbH – fair. flexible. sustainable.\nYour partner for trade fair staff\, hostesses & promotion in Munich – at IFAT 2026 and beyond. \n\n		Start Your Inquiry
URL:https://www.fairever-events.com/en/eventagentur/trade-fair-staff-hostesses-promotion-for-ifat-munich-2026/
LOCATION:Messe München\, Messegelände\, München\, Bayern\, 81823\, Germany
CATEGORIES:Munich trade fairs
ATTACH;FMTTYPE=image/jpeg:https://www.fairever-events.com/wp-content/uploads/2024/01/Logo_der_IFAT.jpg
END:VEVENT
END:VCALENDAR