BEGIN:VCALENDAR
VERSION:2.0
PRODID:-//FAIREVER - ECPv6.15.20//NONSGML v1.0//EN
CALSCALE:GREGORIAN
METHOD:PUBLISH
X-WR-CALNAME:FAIREVER
X-ORIGINAL-URL:https://www.fairever-events.com/en/
X-WR-CALDESC:Events for FAIREVER
REFRESH-INTERVAL;VALUE=DURATION:PT1H
X-Robots-Tag:noindex
X-PUBLISHED-TTL:PT1H
BEGIN:VTIMEZONE
TZID:Europe/Berlin
BEGIN:DAYLIGHT
TZOFFSETFROM:+0100
TZOFFSETTO:+0200
TZNAME:CEST
DTSTART:20250330T010000
END:DAYLIGHT
BEGIN:STANDARD
TZOFFSETFROM:+0200
TZOFFSETTO:+0100
TZNAME:CET
DTSTART:20251026T010000
END:STANDARD
BEGIN:DAYLIGHT
TZOFFSETFROM:+0100
TZOFFSETTO:+0200
TZNAME:CEST
DTSTART:20260329T010000
END:DAYLIGHT
BEGIN:STANDARD
TZOFFSETFROM:+0200
TZOFFSETTO:+0100
TZNAME:CET
DTSTART:20261025T010000
END:STANDARD
BEGIN:DAYLIGHT
TZOFFSETFROM:+0100
TZOFFSETTO:+0200
TZNAME:CEST
DTSTART:20270328T010000
END:DAYLIGHT
BEGIN:STANDARD
TZOFFSETFROM:+0200
TZOFFSETTO:+0100
TZNAME:CET
DTSTART:20271031T010000
END:STANDARD
END:VTIMEZONE
BEGIN:VEVENT
DTSTART;VALUE=DATE:20260601
DTEND;VALUE=DATE:20260607
DTSTAMP:20260420T134821
CREATED:20250927T100131Z
LAST-MODIFIED:20251005T163131Z
UID:7764-1780272000-1780790399@www.fairever-events.com
SUMMARY:Trade Fair Staff\, Hostesses & Promotion for INTERSCHUTZ Hannover 2026
DESCRIPTION:Secure visibility in safety technology – at INTERSCHUTZ Hannover 2026. From 1 to 6 June 2026\, Hannover welcomes experts in firefighting\, rescue\, civil protection\, and security infrastructure. INTERSCHUTZ is the world’s leading trade fair for these sectors. With FAIREVER\, you can book professional trade fair staff in Hannover\, experienced hostesses\, and promoters who position your brand reliably – from first contact to post-event follow-up. \n\n		Start Your Inquiry\n	\n\nINTERSCHUTZ 2026 – Your Stage for Fire\, Rescue & Civil Protection \nINTERSCHUTZ 2026 runs under the motto “Safeguarding Tomorrow” and highlights challenges such as climate change\, digital control centers\, real-time communication\, sustainability\, and the integration of civil protection with rescue services and fire prevention. \nKey topics include: \n\nFirefighting equipment\, protective gear & operational technology\nRescue services\, emergency response & disaster management\nControl center & communication systems\, digital solutions & AI\nFire prevention & safety equipment\nInnovative formats like WildfireCamp@INTERSCHUTZ for wildfire resilience & disaster response\n\nWith FAIREVER promotion staff\, you gain direct access to decision-makers\, authorities\, and industry leaders. \nTrade Fair Hostesses & Promoters for INTERSCHUTZ Hannover \nOur specialized trade fair staff in Hannover meet the demands of this leading safety & rescue exhibition: \n\nActive visitor engagement & product presentations (GER/EN & other languages)\nSupport for international delegations\, trade visitors & emergency services\nAssistance with live demos\, equipment showcases & presentations\nDistribution of brochures\, safety materials & product info\nProfessional\, serious & service-oriented performance – with technical affinity\n\nWhether new firefighting technology\, rescue tools\, digital control systems or sustainable solutions – our hostesses and promoters for INTERSCHUTZ Hannover 2026 ensure your booth becomes a hotspot. \nFull-Service for Your Trade Fair Presence \nWith FAIREVER\, you get a complete service package for INTERSCHUTZ 2026: \n\nBooth design & branding tailored to your solutions\nSelection\, briefing & training of staff\nPlanning & execution of demos\, product showcases & visitor engagement\nLogistics\, coordination & on-site supervision\nReporting & post-event evaluation\n\nSo you can focus on your innovation & client talks – while we take care of the rest. \nWhy FAIREVER for INTERSCHUTZ Hannover 2026? \n\nExtensive experience at over 100 technical trade fairs annually\nSpecialization in firefighting\, rescue & safety technology fairs\nFlexible & fast staffing\, even at short notice\nFair pricing & transparent communication\nSustainability & responsibility as part of our planning\n\nBook Trade Fair Staff for INTERSCHUTZ Hannover 2026 Now! \nSeize the opportunity to showcase your safety & rescue solutions at INTERSCHUTZ Hannover 2026. FAIREVER provides professional trade fair staff\, hostesses and promotion personnel in Hannover to ensure your innovations are seen and appreciated. \nFAIREVER GmbH – fair. flexible. sustainable.\nYour partner for trade fair staff\, hostesses & promotion in Hannover – at INTERSCHUTZ 2026 and beyond. \n\n		Start Your Inquiry
URL:https://www.fairever-events.com/en/eventagentur/staff-promotion-for-interschutz-hannover/
LOCATION:Messe Hannover\, Hermesallee\, Hannover\, 30521\, Germany
CATEGORIES:Hanover Trade Fairs
ATTACH;FMTTYPE=image/jpeg:https://www.fairever-events.com/wp-content/uploads/2025/09/Logo-Interschutz.jpg
END:VEVENT
END:VCALENDAR