BEGIN:VCALENDAR
VERSION:2.0
PRODID:-//FAIREVER - ECPv6.15.20//NONSGML v1.0//EN
CALSCALE:GREGORIAN
METHOD:PUBLISH
X-ORIGINAL-URL:https://www.fairever-events.com/en/
X-WR-CALDESC:Events for FAIREVER
REFRESH-INTERVAL;VALUE=DURATION:PT1H
X-Robots-Tag:noindex
X-PUBLISHED-TTL:PT1H
BEGIN:VTIMEZONE
TZID:Europe/Berlin
BEGIN:DAYLIGHT
TZOFFSETFROM:+0100
TZOFFSETTO:+0200
TZNAME:CEST
DTSTART:20250330T010000
END:DAYLIGHT
BEGIN:STANDARD
TZOFFSETFROM:+0200
TZOFFSETTO:+0100
TZNAME:CET
DTSTART:20251026T010000
END:STANDARD
BEGIN:DAYLIGHT
TZOFFSETFROM:+0100
TZOFFSETTO:+0200
TZNAME:CEST
DTSTART:20260329T010000
END:DAYLIGHT
BEGIN:STANDARD
TZOFFSETFROM:+0200
TZOFFSETTO:+0100
TZNAME:CET
DTSTART:20261025T010000
END:STANDARD
BEGIN:DAYLIGHT
TZOFFSETFROM:+0100
TZOFFSETTO:+0200
TZNAME:CEST
DTSTART:20270328T010000
END:DAYLIGHT
BEGIN:STANDARD
TZOFFSETFROM:+0200
TZOFFSETTO:+0100
TZNAME:CET
DTSTART:20271031T010000
END:STANDARD
END:VTIMEZONE
BEGIN:VEVENT
DTSTART;VALUE=DATE:20261010
DTEND;VALUE=DATE:20261019
DTSTAMP:20260420T222718
CREATED:20260420T170846Z
LAST-MODIFIED:20260420T170846Z
UID:8344-1791590400-1792367999@www.fairever-events.com
SUMMARY:Trade Fair Staff\, Hostesses & Promotion for infa Hanover 2026
DESCRIPTION:Leverage Germany’s largest experience and shopping fair – infa in Hanover. The event brings together companies\, brands\, and service providers with hundreds of thousands of purchase-ready visitors and offers ideal conditions for direct sales\, brand building\, and maximum reach. \nWith FAIREVER\, you book professional trade fair staff in Hanover who present your products actively\, sales-driven\, and in a target group-oriented way and specifically contribute to conversion at your booth. \ninfa – Experience\, Variety & High-Purchasing-Power Visitors \ninfa is Germany’s largest experience and shopping fair and takes place from October 10 to 18\, 2026 at the Hanover exhibition grounds. \nEvery year\, the fair attracts over 100\,000 visitors and is one of the most important sales platforms in Northern Germany. \nWith multiple halls and hundreds of exhibitors\, infa offers enormous thematic diversity and addresses a broad audience. \nThe focus is on: • Building\, living & renovation • Lifestyle\, fashion & accessories • Health\, wellness & beauty • Christmas\, decoration & gift ideas • Culinary delights\, enjoyment & regional specialties \nThe fair combines shopping experience\, inspiration\, and direct purchase intent – visitors come specifically to discover\, test\, and buy products. \nTrade Fair Hostesses & Promotion Staff for infa \nOur trade fair staff are specially prepared for high-traffic consumer and sales-oriented fairs: \n\nActive engagement and consultation of visitors • Sales support & product presentations • Execution of promotional activities & tastings • Management of visitor flows & booth organization • Lead capture & direct conversion at the booth\n\nIdeal for brands\, retailers\, manufacturers\, start-ups\, and service providers across almost all industries. \nFull-Service for Your Trade Fair Presence in Hanover \nFAIREVER supports you holistically at infa: \n\nSelection of sales-driven\, communicative staff • Briefing on products\, target groups & sales strategy • Support for promotions\, campaigns & sales processes • Structuring of visitor flows & booth operations • Reporting & follow-up of your leads\n\nThis turns visitors into customers and increases your trade fair success sustainably. \nWhy Choose FAIREVER for infa Hanover? \n\nExperience at large consumer and sales fairs • Sales-driven\, active\, and personable staff • High energy in visitor engagement • Flexible teams – even during peak times\n\nBook Trade Fair Staff for infa 2026 Now \nPosition your brand successfully at infa Hanover – with professional hostesses\, experienced promotion staff\, and targeted support for your sales and marketing goals. \nFAIREVER GmbH – fair. flexible. sustainable. Your partner for trade fair staff\, hostesses\, and promotion in Hanover – at infa and beyond.
URL:https://www.fairever-events.com/en/eventagentur/trade-fair-staff-hostesses-promotion-for-infa-hanover-2026/
LOCATION:Messe Hannover\, Hermesallee\, Hannover\, 30521\, Germany
CATEGORIES:Hanover Trade Fairs
ATTACH;FMTTYPE=image/jpeg:https://www.fairever-events.com/wp-content/uploads/2026/04/Logo-infa.jpg
END:VEVENT
END:VCALENDAR