BEGIN:VCALENDAR
VERSION:2.0
PRODID:-//FAIREVER - ECPv6.15.20//NONSGML v1.0//EN
CALSCALE:GREGORIAN
METHOD:PUBLISH
X-ORIGINAL-URL:https://www.fairever-events.com/en/
X-WR-CALDESC:Events for FAIREVER
REFRESH-INTERVAL;VALUE=DURATION:PT1H
X-Robots-Tag:noindex
X-PUBLISHED-TTL:PT1H
BEGIN:VTIMEZONE
TZID:Europe/Berlin
BEGIN:DAYLIGHT
TZOFFSETFROM:+0100
TZOFFSETTO:+0200
TZNAME:CEST
DTSTART:20250330T010000
END:DAYLIGHT
BEGIN:STANDARD
TZOFFSETFROM:+0200
TZOFFSETTO:+0100
TZNAME:CET
DTSTART:20251026T010000
END:STANDARD
BEGIN:DAYLIGHT
TZOFFSETFROM:+0100
TZOFFSETTO:+0200
TZNAME:CEST
DTSTART:20260329T010000
END:DAYLIGHT
BEGIN:STANDARD
TZOFFSETFROM:+0200
TZOFFSETTO:+0100
TZNAME:CET
DTSTART:20261025T010000
END:STANDARD
BEGIN:DAYLIGHT
TZOFFSETFROM:+0100
TZOFFSETTO:+0200
TZNAME:CEST
DTSTART:20270328T010000
END:DAYLIGHT
BEGIN:STANDARD
TZOFFSETFROM:+0200
TZOFFSETTO:+0100
TZNAME:CET
DTSTART:20271031T010000
END:STANDARD
END:VTIMEZONE
BEGIN:VEVENT
DTSTART;VALUE=DATE:20261104
DTEND;VALUE=DATE:20261109
DTSTAMP:20260420T222718
CREATED:20260330T210257Z
LAST-MODIFIED:20260330T210257Z
UID:8309-1793750400-1794182399@www.fairever-events.com
SUMMARY:Trade Show Staff\, Hostesses & Promotion for Bazaar Berlin 2026
DESCRIPTION:Present your products at one of Germany’s most unique consumer trade fairs – the Bazaar Berlin in Berlin. \nBazaar Berlin stands for handicrafts\, design\, fair trade and international diversity. Visitors come specifically to discover\, experience – and buy. \nWith FAIREVER\, you book professional trade show staff in Berlin who present your products authentically and actively contribute to your sales success. \nBazaar Berlin – Diversity\, Design & International Flair \nAt Bazaar Berlin\, you meet: • Purchase-ready end consumers • International exhibitors & brands • Design\, handicraft & sustainability enthusiasts • Visitors with a strong interest in unique products \nPersonal interaction and a convincing presentation make the difference here. \nHostesses & Sales Staff for Bazaar Berlin \nOur staff is specifically trained for high-conversion B2C trade fairs: \n\nActive visitor engagement • Support with sales and customer consultations • Product presentation & brand storytelling • Assistance with checkout\, handling & organization • Friendly and authentic customer interaction\n\nIdeal for brands in design\, lifestyle\, fair trade and handicrafts. \nFull-Service for Your Bazaar Berlin Appearance \nFAIREVER supports you comprehensively: \n\nSelection of communicative and sales-driven hostesses • Briefing on products\, target audience and sales strategy • Support with sales promotions & stand organization • On-site supervision throughout the event • Reporting & follow-up\n\nWhy FAIREVER for Bazaar Berlin? \n\nExperience at high-traffic consumer trade fairs • Sales-driven and service-oriented staff • Authentic brand communication • Flexible and short-notice availability\n\nBook Trade Show Staff for Bazaar Berlin 2026 Now \nTake advantage of the unique atmosphere of Bazaar Berlin and increase your sales success – with professional trade show staff from FAIREVER. FAIREVER GmbH – fair. flexible. sustainable. Your partner for trade show staff\, hostesses and promotion in Berlin – at Bazaar Berlin and beyond.
URL:https://www.fairever-events.com/en/eventagentur/trade-show-staff-hostesses-promotion-for-bazaar-berlin-2026/
LOCATION:Messe Berlin\, Messedamm 22\, Berlin\, Berlin\, 14055\, Germany
CATEGORIES:Berlin trade fairs
ATTACH;FMTTYPE=image/jpeg:https://www.fairever-events.com/wp-content/uploads/2024/01/bazaar-berlin-logo.jpg
END:VEVENT
END:VCALENDAR