BEGIN:VCALENDAR
VERSION:2.0
PRODID:-//FAIREVER - ECPv6.15.20//NONSGML v1.0//EN
CALSCALE:GREGORIAN
METHOD:PUBLISH
X-WR-CALNAME:FAIREVER
X-ORIGINAL-URL:https://www.fairever-events.com/en/
X-WR-CALDESC:Events for FAIREVER
REFRESH-INTERVAL;VALUE=DURATION:PT1H
X-Robots-Tag:noindex
X-PUBLISHED-TTL:PT1H
BEGIN:VTIMEZONE
TZID:Europe/Berlin
BEGIN:DAYLIGHT
TZOFFSETFROM:+0100
TZOFFSETTO:+0200
TZNAME:CEST
DTSTART:20250330T010000
END:DAYLIGHT
BEGIN:STANDARD
TZOFFSETFROM:+0200
TZOFFSETTO:+0100
TZNAME:CET
DTSTART:20251026T010000
END:STANDARD
BEGIN:DAYLIGHT
TZOFFSETFROM:+0100
TZOFFSETTO:+0200
TZNAME:CEST
DTSTART:20260329T010000
END:DAYLIGHT
BEGIN:STANDARD
TZOFFSETFROM:+0200
TZOFFSETTO:+0100
TZNAME:CET
DTSTART:20261025T010000
END:STANDARD
BEGIN:DAYLIGHT
TZOFFSETFROM:+0100
TZOFFSETTO:+0200
TZNAME:CEST
DTSTART:20270328T010000
END:DAYLIGHT
BEGIN:STANDARD
TZOFFSETFROM:+0200
TZOFFSETTO:+0100
TZNAME:CET
DTSTART:20271031T010000
END:STANDARD
END:VTIMEZONE
BEGIN:VEVENT
DTSTART;VALUE=DATE:20261116
DTEND;VALUE=DATE:20261120
DTSTAMP:20260421T053322
CREATED:20250512T172744Z
LAST-MODIFIED:20260420T172856Z
UID:7440-1794787200-1795132799@www.fairever-events.com
SUMMARY:Trade Fair Staff\, Hostesses & Promotion for COMPAMED Düsseldorf 2026
DESCRIPTION:Take advantage of the leading international trade fair for the medical technology supplier industry – COMPAMED in Düsseldorf. The event brings together developers\, manufacturers\, suppliers\, and decision-makers from the global MedTech sector. \nWith FAIREVER\, you book professional trade fair staff in Düsseldorf who present your technologies\, components\, and solutions with expertise while supporting your B2B communication. \nCOMPAMED – High-Tech\, Innovation & Global Decision-Makers \nCOMPAMED is one of the world’s leading trade fairs for medical technology suppliers and product development. Industry leaders\, engineers\, and buyers come together to explore innovations across the entire value chain. \nKey focus areas include: • High-tech components & materials for medical technology • Micro- and nanotechnology • Electronics\, sensors & embedded systems • Manufacturing & automation technologies • OEM partnerships & industrial services \nHeld alongside MEDICA\, it creates a unique environment with a high density of decision-makers and strong international reach. \nHostesses & Specialized Staff for COMPAMED \nOur specially trained staff are prepared for highly technical B2B environments: \n\nProfessional support for international trade visitors • Multilingual communication (EN\, GER\, more on request) • Assistance with complex technologies & products • Lead capture & structured communication • Support for meetings\, presentations & demos\n\nIdeal for MedTech suppliers\, OEMs\, developers\, and technology companies. \nFull-Service for Your Trade Fair Presence in Düsseldorf \nFAIREVER supports your entire trade fair presence: \n\nSelection & briefing of qualified staff • Preparation for complex products & target groups • Support with booth organization & coordination • Scheduling of B2B meetings & business discussions • Reporting & structured lead follow-up\n\nEnsure a professional and measurable exhibition success. \nWhy Choose FAIREVER for COMPAMED Düsseldorf? \n\nExperience at international B2B and technology trade fairs • Strong understanding of complex high-tech products • Confident presence in international business environments • Flexible deployment—even at short notice\n\nBook Trade Fair Staff for COMPAMED 2026 Now \nPosition your company successfully at COMPAMED Düsseldorf—with experienced trade fair staff\, professional hostesses\, and targeted support for your sales and networking goals. \nFAIREVER GmbH – fair. flexible. sustainable. Your partner for trade fair staff\, hostesses\, and promotion in Düsseldorf—at COMPAMED and beyond.
URL:https://www.fairever-events.com/en/eventagentur/trade-fair-staff-promotion-for-compamed/
CATEGORIES:Dusseldorf Trade Fairs
ATTACH;FMTTYPE=image/jpeg:https://www.fairever-events.com/wp-content/uploads/2025/05/compamed_logo_cmyk.jpg
END:VEVENT
END:VCALENDAR