BEGIN:VCALENDAR
VERSION:2.0
PRODID:-//FAIREVER - ECPv6.15.20//NONSGML v1.0//EN
CALSCALE:GREGORIAN
METHOD:PUBLISH
X-WR-CALNAME:FAIREVER
X-ORIGINAL-URL:https://www.fairever-events.com/en/
X-WR-CALDESC:Events for FAIREVER
REFRESH-INTERVAL;VALUE=DURATION:PT1H
X-Robots-Tag:noindex
X-PUBLISHED-TTL:PT1H
BEGIN:VTIMEZONE
TZID:Europe/Berlin
BEGIN:DAYLIGHT
TZOFFSETFROM:+0100
TZOFFSETTO:+0200
TZNAME:CEST
DTSTART:20250330T010000
END:DAYLIGHT
BEGIN:STANDARD
TZOFFSETFROM:+0200
TZOFFSETTO:+0100
TZNAME:CET
DTSTART:20251026T010000
END:STANDARD
BEGIN:DAYLIGHT
TZOFFSETFROM:+0100
TZOFFSETTO:+0200
TZNAME:CEST
DTSTART:20260329T010000
END:DAYLIGHT
BEGIN:STANDARD
TZOFFSETFROM:+0200
TZOFFSETTO:+0100
TZNAME:CET
DTSTART:20261025T010000
END:STANDARD
BEGIN:DAYLIGHT
TZOFFSETFROM:+0100
TZOFFSETTO:+0200
TZNAME:CEST
DTSTART:20270328T010000
END:DAYLIGHT
BEGIN:STANDARD
TZOFFSETFROM:+0200
TZOFFSETTO:+0100
TZNAME:CET
DTSTART:20271031T010000
END:STANDARD
END:VTIMEZONE
BEGIN:VEVENT
DTSTART;VALUE=DATE:20260922
DTEND;VALUE=DATE:20260926
DTSTAMP:20260421T011824
CREATED:20260420T174350Z
LAST-MODIFIED:20260420T174350Z
UID:8370-1790035200-1790380799@www.fairever-events.com
SUMMARY:Trade Fair Staff\, Hostesses & Promotion for security essen 2026
DESCRIPTION:Leverage the leading international trade fair for civil security – security essen in Essen. The event brings together manufacturers\, security service providers\, authorities\, and decision-makers from around the world\, offering ideal conditions for high-quality business connections. \nWith FAIREVER\, you book professional trade fair staff for security essen who present your security solutions with expertise and actively support your B2B communication. \nsecurity essen – Security\, Innovation & International Decision-Makers \nsecurity essen is one of the world’s leading trade fairs for security and fire protection technology\, held every two years. \nWith more than 500 exhibitors and over 20\,000 trade visitors from numerous countries\, it is a central meeting point for the global security industry. \nKey focus areas include: • Access control & security systems • Video surveillance & AI-based technologies • Cybersecurity & IT security • Fire protection & hazard prevention • Perimeter protection\, drones & robotics \nExperts\, buyers\, and decision-makers meet here at the highest international level—ideal conditions for sustainable business deals. \nHostesses & Specialized Staff for security essen \nOur specially trained staff are prepared for technically demanding B2B environments and security-related topics: \n\nProfessional support for international trade visitors • Multilingual communication (EN\, GER\, more on request) • Assistance with complex\, explanation-intensive products • Lead capture & structured conversations • Support for meetings\, presentations & live demos\n\nIdeal for security companies\, system providers\, government projects\, and technology providers. \nFull-Service Support for Your Trade Fair Presence in Essen \nFAIREVER provides comprehensive support for a successful exhibition: \n\nSelection & briefing of qualified staff • Preparation for complex products & target groups • Support with booth organization & coordination • Scheduling of business meetings & B2B appointments • Reporting & structured lead follow-up\n\nThis ensures your trade fair presence is efficient\, professional\, and measurable. \nWhy Choose FAIREVER for security essen? \n\nExperience at international B2B and technology trade fairs • Strong understanding of security-critical and complex products • Confident and professional appearance • Flexible deployment—even at short notice\n\nBook Trade Fair Staff for security essen 2026 Now \nPosition your company successfully at security essen—with experienced trade fair staff\, professional hostesses\, and targeted support for your sales and networking goals. \nFAIREVER GmbH – fair. flexible. sustainable. Your partner for trade fair staff\, hostesses\, and promotion in Essen—at security essen and beyond.
URL:https://www.fairever-events.com/en/eventagentur/trade-fair-staff-hostesses-promotion-for-security-essen-2026/
LOCATION:Messe Essen
CATEGORIES:Essen Trade Fairs
ATTACH;FMTTYPE=image/jpeg:https://www.fairever-events.com/wp-content/uploads/2026/04/sec_essen_logo_2018_rgb.jpg
END:VEVENT
BEGIN:VEVENT
DTSTART;VALUE=DATE:20261022
DTEND;VALUE=DATE:20261026
DTSTAMP:20260421T011824
CREATED:20260420T175009Z
LAST-MODIFIED:20260420T175009Z
UID:8377-1792627200-1792972799@www.fairever-events.com
SUMMARY:Trade Fair Staff\, Hostesses & Promotion for SPIEL Essen 2026
DESCRIPTION:Leverage the world’s largest public trade fair for board and card games – SPIEL in Essen. The event attracts hundreds of thousands of enthusiastic visitors from around the globe and offers ideal conditions for direct sales\, brand building\, and community engagement. \nWith FAIREVER\, you book professional trade fair staff for SPIEL Essen who bring your games\, products\, and brand to life and actively drive conversion at your booth. \nSPIEL Essen – Gaming\, Community & Global Reach \nSPIEL is the world’s largest trade fair for board and card games and a key meeting point for the global gaming industry. Around 220\,000 visitors from over 80 countries attend each year to discover and try out new releases. \nKey focus areas include: • Board games\, card games & new releases • Indie games & international publishers • Family games\, expert games & party games • Accessories\, expansions & collectibles • Live explanations\, events & community activities \nVisitors test games on-site\, interact with publishers\, and purchase directly at the booth—ideal conditions for direct revenue and brand loyalty. \nHostesses & Promotion Staff for SPIEL Essen \nOur staff are specifically trained for interactive\, high-traffic consumer events: \n\nActive visitor engagement and animation • Support with game explanations & demos • Direct sales support at the booth • Queue management & visitor flow coordination • Lead capture & community engagement\n\nIdeal for publishers\, retailers\, start-ups\, and entertainment brands. \nFull-Service Support for Your Trade Fair Presence in Essen \nFAIREVER supports your entire presence at SPIEL: \n\nSelection of communicative\, energetic staff • Briefing on games\, target groups & processes • Support for sales promotions & campaigns • Structuring visitor flows & booth organization • Reporting & lead follow-up\n\nMaximize the results of every exhibition day. \nWhy Choose FAIREVER for SPIEL Essen? \n\nExperience at high-traffic consumer trade fairs • Active\, sales-driven\, and engaging staff • High energy in visitor interaction • Scalable teams during peak demand\n\nBook Trade Fair Staff for SPIEL Essen 2026 Now \nPosition your brand successfully at SPIEL Essen—with professional hostesses\, experienced promotion staff\, and targeted support for your sales and marketing goals. \nFAIREVER GmbH – fair. flexible. sustainable. Your partner for trade fair staff\, hostesses\, and promotion in Essen—at SPIEL and beyond.
URL:https://www.fairever-events.com/en/eventagentur/trade-fair-staff-hostesses-promotion-for-spiel-essen-2026/
LOCATION:Messe Essen
CATEGORIES:Essen Trade Fairs
ATTACH;FMTTYPE=image/jpeg:https://www.fairever-events.com/wp-content/uploads/2026/04/spiel-essen.jpg
END:VEVENT
END:VCALENDAR