BEGIN:VCALENDAR
VERSION:2.0
PRODID:-//FAIREVER - ECPv6.15.20//NONSGML v1.0//EN
CALSCALE:GREGORIAN
METHOD:PUBLISH
X-WR-CALNAME:FAIREVER
X-ORIGINAL-URL:https://www.fairever-events.com/en/
X-WR-CALDESC:Events for FAIREVER
REFRESH-INTERVAL;VALUE=DURATION:PT1H
X-Robots-Tag:noindex
X-PUBLISHED-TTL:PT1H
BEGIN:VTIMEZONE
TZID:Europe/Berlin
BEGIN:DAYLIGHT
TZOFFSETFROM:+0100
TZOFFSETTO:+0200
TZNAME:CEST
DTSTART:20240331T010000
END:DAYLIGHT
BEGIN:STANDARD
TZOFFSETFROM:+0200
TZOFFSETTO:+0100
TZNAME:CET
DTSTART:20241027T010000
END:STANDARD
BEGIN:DAYLIGHT
TZOFFSETFROM:+0100
TZOFFSETTO:+0200
TZNAME:CEST
DTSTART:20250330T010000
END:DAYLIGHT
BEGIN:STANDARD
TZOFFSETFROM:+0200
TZOFFSETTO:+0100
TZNAME:CET
DTSTART:20251026T010000
END:STANDARD
BEGIN:DAYLIGHT
TZOFFSETFROM:+0100
TZOFFSETTO:+0200
TZNAME:CEST
DTSTART:20260329T010000
END:DAYLIGHT
BEGIN:STANDARD
TZOFFSETFROM:+0200
TZOFFSETTO:+0100
TZNAME:CET
DTSTART:20261025T010000
END:STANDARD
END:VTIMEZONE
BEGIN:VEVENT
DTSTART;VALUE=DATE:20251004
DTEND;VALUE=DATE:20251009
DTSTAMP:20260420T073902
CREATED:20241130T093155Z
LAST-MODIFIED:20241130T093631Z
UID:7036-1759536000-1759967999@www.fairever-events.com
SUMMARY:Anuga HORIZON 2025 in Cologne
DESCRIPTION:Anuga HORIZON 2025\, the leading business and innovation platform for transforming the food and beverage industry\, is the perfect opportunity to present your innovative products and concepts to an international audience. With FAIREVER by your side\, we ensure your booth stands out and your brand receives the attention it deserves. \n\n		Contact us now\n	\n\nMultilingual and Professional Hostesses for the Food and Beverage Industry \nOur extensive pool of qualified hostesses from the Cologne area is specifically prepared to meet the demands of Anuga HORIZON. All FAIREVER hostesses are multilingual and professionally trained to represent your brand with charm and expertise. Whether welcoming international guests\, supporting interactive formats\, or assisting during networking events\, our team ensures your booth is a professional and inviting meeting point. \nFAIREVER – Your Nationwide Trade Fair Personnel Agency \nWe provide qualified trade fair personnel across Germany and tailored concepts for both large and small exhibitors. FAIREVER is highly rated by both clients and employees for its outstanding service and professionalism. Our full-service offerings include creative booth design\, logistics\, and experienced hostesses and hosts perfectly aligned with your target audience. \nAn Inspiring Trade Fair Experience \nAnuga HORIZON offers a forward-looking concept combining exhibition\, conference\, and experience. Covering themes like sustainability\, alternative products\, and new nutrition\, it blends theory and practice through interactive formats. Our hostesses and hosts create a welcoming atmosphere that puts your brand in the spotlight and captivates your visitors. \nChoose FAIREVER for a successful presence at Anuga HORIZON 2025 in Cologne. Contact us now for a consultation!
URL:https://www.fairever-events.com/en/eventagentur/anuga-horizon-hostess-service/
LOCATION:Messe Köln\, Messeplatz 1\, Köln\, NRW\, 50679\, Germany
CATEGORIES:Cologne Trade Fairs,Messen in Köln
ATTACH;FMTTYPE=image/jpeg:https://www.fairever-events.com/wp-content/uploads/2024/11/anuga-horizon.jpg
END:VEVENT
END:VCALENDAR