BEGIN:VCALENDAR
VERSION:2.0
PRODID:-//FAIREVER - ECPv6.15.20//NONSGML v1.0//EN
CALSCALE:GREGORIAN
METHOD:PUBLISH
X-ORIGINAL-URL:https://www.fairever-events.com/en/
X-WR-CALDESC:Events for FAIREVER
REFRESH-INTERVAL;VALUE=DURATION:PT1H
X-Robots-Tag:noindex
X-PUBLISHED-TTL:PT1H
BEGIN:VTIMEZONE
TZID:Europe/Berlin
BEGIN:DAYLIGHT
TZOFFSETFROM:+0100
TZOFFSETTO:+0200
TZNAME:CEST
DTSTART:20240331T010000
END:DAYLIGHT
BEGIN:STANDARD
TZOFFSETFROM:+0200
TZOFFSETTO:+0100
TZNAME:CET
DTSTART:20241027T010000
END:STANDARD
BEGIN:DAYLIGHT
TZOFFSETFROM:+0100
TZOFFSETTO:+0200
TZNAME:CEST
DTSTART:20250330T010000
END:DAYLIGHT
BEGIN:STANDARD
TZOFFSETFROM:+0200
TZOFFSETTO:+0100
TZNAME:CET
DTSTART:20251026T010000
END:STANDARD
BEGIN:DAYLIGHT
TZOFFSETFROM:+0100
TZOFFSETTO:+0200
TZNAME:CEST
DTSTART:20260329T010000
END:DAYLIGHT
BEGIN:STANDARD
TZOFFSETFROM:+0200
TZOFFSETTO:+0100
TZNAME:CET
DTSTART:20261025T010000
END:STANDARD
END:VTIMEZONE
BEGIN:VEVENT
DTSTART;VALUE=DATE:20251026
DTEND;VALUE=DATE:20251030
DTSTAMP:20260420T093755
CREATED:20250512T171226Z
LAST-MODIFIED:20251006T154643Z
UID:7417-1761436800-1761782399@www.fairever-events.com
SUMMARY:Trade Fair Staff & Promotion for idd cologne 2025
DESCRIPTION:Showcase your interior design brand at idd cologne 2025.\nFAIREVER supports you with professional trade fair staff and a tailor-made service package for a successful appearance. \n\n		Contact us now\n	\n\n🏠 idd cologne 2025 – Your Stage for Interior Design \nidd cologne presents trends and innovations from the fields of furniture\, lighting\, textiles and more. \n👩‍💼 Professional Trade Fair Staff for idd cologne 2025 \nOur hostesses and promoters offer: \n\nProduct presentations and customer consulting\nSupport for design demonstrations\nVisitor management and booth organization\n\n🌍 Full-Service for Your Trade Fair Presence \nOur full-service offer includes: \n\nBooth design and branding\nSelection and training of trade fair staff\nPromotion activities and product demonstrations\nLogistics\, coordination\, and on-site support\n\n📩 Request Your Trade Fair Staff for idd cologne 2025 Now! \nFAIREVER GmbH – fair. flexible. sustainable.\nYour partner for trade fair staff\, promotion\, and full-service at idd cologne 2025 and beyond. \n\n		Contact us now
URL:https://www.fairever-events.com/en/eventagentur/trade-fair-staff-promotion-for-idd-cologne/
LOCATION:Messe Köln\, Messeplatz 1\, Köln\, NRW\, 50679\, Germany
CATEGORIES:Cologne Trade Fairs,Messen in Köln
ATTACH;FMTTYPE=image/jpeg:https://www.fairever-events.com/wp-content/uploads/2025/05/idd_cologne_840.jpg
END:VEVENT
END:VCALENDAR