BEGIN:VCALENDAR
VERSION:2.0
PRODID:-//FAIREVER - ECPv6.15.20//NONSGML v1.0//EN
CALSCALE:GREGORIAN
METHOD:PUBLISH
X-WR-CALNAME:FAIREVER
X-ORIGINAL-URL:https://www.fairever-events.com/en/
X-WR-CALDESC:Events for FAIREVER
REFRESH-INTERVAL;VALUE=DURATION:PT1H
X-Robots-Tag:noindex
X-PUBLISHED-TTL:PT1H
BEGIN:VTIMEZONE
TZID:Europe/Berlin
BEGIN:DAYLIGHT
TZOFFSETFROM:+0100
TZOFFSETTO:+0200
TZNAME:CEST
DTSTART:20250330T010000
END:DAYLIGHT
BEGIN:STANDARD
TZOFFSETFROM:+0200
TZOFFSETTO:+0100
TZNAME:CET
DTSTART:20251026T010000
END:STANDARD
BEGIN:DAYLIGHT
TZOFFSETFROM:+0100
TZOFFSETTO:+0200
TZNAME:CEST
DTSTART:20260329T010000
END:DAYLIGHT
BEGIN:STANDARD
TZOFFSETFROM:+0200
TZOFFSETTO:+0100
TZNAME:CET
DTSTART:20261025T010000
END:STANDARD
BEGIN:DAYLIGHT
TZOFFSETFROM:+0100
TZOFFSETTO:+0200
TZNAME:CEST
DTSTART:20270328T010000
END:DAYLIGHT
BEGIN:STANDARD
TZOFFSETFROM:+0200
TZOFFSETTO:+0100
TZNAME:CET
DTSTART:20271031T010000
END:STANDARD
END:VTIMEZONE
BEGIN:VEVENT
DTSTART;VALUE=DATE:20260310
DTEND;VALUE=DATE:20260315
DTSTAMP:20260419T220700
CREATED:20251001T102310Z
LAST-MODIFIED:20251006T155843Z
UID:7874-1773100800-1773532799@www.fairever-events.com
SUMMARY:Trade Fair Staff\, Hostesses & Promotion for didacta Cologne 2026
DESCRIPTION:Showcase education & innovation – at didacta Cologne 2026 \nFrom 10 to 14 March 2026\, the education sector meets in Cologne: teachers\, publishers\, trainers and decision-makers from schools\, higher education\, adult learning and early childhood. With FAIREVER\, you book professional trade fair staff in Cologne – experienced hostesses and promoters who will represent your brand knowledgeably and inspiringly. \n\n		Start Your Inquiry\n	\n\ndidacta 2026 – Your stage for education\, teaching & lifelong learning\ndidacta is Europe’s leading trade fair for the education industry and covers all educational sectors – from early childhood to school\, vocational training and digital education. \nKey topics: \n\nTeaching materials\, methods & educational innovations\nDigital learning\, EdTech & modern learning technologies\nVocational training\, qualifications & continuing education\nEarly childhood & school equipment\nConferences\, seminars & workshops with experts from education\, science & politics\n\nWith FAIREVER promotion staff\, you reach educators\, institutions and decision-makers seeking innovative solutions and partnerships. \nTrade fair hostesses & promoters for didacta Cologne\nOur trade fair staff are well trained for this broad education event and provide: \n\nActive visitor engagement & product presentation (GER/EN & other languages)\nSupport for live demos & EdTech showcases\nCare for international delegations & professional visitors\nDistribution of learning materials\, brochures & information\nA friendly\, professional & service-oriented demeanor\n\nFull-service trade fair solutions\nWith FAIREVER\, you get full support: \n\nStand design & branding tailored to your education brand\nSelection\, briefing & training of staff\nPlanning & execution of demos\, activations & promotions\nLogistics\, coordination & on-site management\nReporting & evaluation after the event\n\nWhy FAIREVER for didacta Cologne 2026?\n\nExperience across more than 100 fairs annually – in Germany & worldwide\nSpecialized in education\, tech & professional exhibitions\nFlexible staffing\, even last minute\nTransparent pricing & communication\nSustainability & quality in all planning\n\nBook trade fair staff for didacta Cologne 2026 now!\nTake the opportunity to present your educational products & innovations at didacta Cologne 2026 (10–14 March 2026). FAIREVER delivers the right trade fair staff\, hostesses & promotion personnel in Cologne – for lasting impact. \nFAIREVER GmbH – fair. flexible. sustainable.\nYour partner for trade fair staff\, hostesses & promotion in Cologne – at didacta 2026 and beyond. \n\n		Start Your Inquiry
URL:https://www.fairever-events.com/en/eventagentur/trade-fair-staff-hostesses-promotion-for-didacta-cologne/
LOCATION:Messe Köln\, Messeplatz 1\, Köln\, NRW\, 50679\, Germany
CATEGORIES:Cologne Trade Fairs,Messen in Köln
ATTACH;FMTTYPE=image/png:https://www.fairever-events.com/wp-content/uploads/2024/01/Didacta_Logo.png
END:VEVENT
END:VCALENDAR