BEGIN:VCALENDAR
VERSION:2.0
PRODID:-//FAIREVER - ECPv6.15.20//NONSGML v1.0//EN
CALSCALE:GREGORIAN
METHOD:PUBLISH
X-WR-CALNAME:FAIREVER
X-ORIGINAL-URL:https://www.fairever-events.com/en/
X-WR-CALDESC:Events for FAIREVER
REFRESH-INTERVAL;VALUE=DURATION:PT1H
X-Robots-Tag:noindex
X-PUBLISHED-TTL:PT1H
BEGIN:VTIMEZONE
TZID:Europe/Berlin
BEGIN:DAYLIGHT
TZOFFSETFROM:+0100
TZOFFSETTO:+0200
TZNAME:CEST
DTSTART:20250330T010000
END:DAYLIGHT
BEGIN:STANDARD
TZOFFSETFROM:+0200
TZOFFSETTO:+0100
TZNAME:CET
DTSTART:20251026T010000
END:STANDARD
BEGIN:DAYLIGHT
TZOFFSETFROM:+0100
TZOFFSETTO:+0200
TZNAME:CEST
DTSTART:20260329T010000
END:DAYLIGHT
BEGIN:STANDARD
TZOFFSETFROM:+0200
TZOFFSETTO:+0100
TZNAME:CET
DTSTART:20261025T010000
END:STANDARD
BEGIN:DAYLIGHT
TZOFFSETFROM:+0100
TZOFFSETTO:+0200
TZNAME:CEST
DTSTART:20270328T010000
END:DAYLIGHT
BEGIN:STANDARD
TZOFFSETFROM:+0200
TZOFFSETTO:+0100
TZNAME:CET
DTSTART:20271031T010000
END:STANDARD
END:VTIMEZONE
BEGIN:VEVENT
DTSTART;VALUE=DATE:20260826
DTEND;VALUE=DATE:20260831
DTSTAMP:20260420T014834
CREATED:20250512T170942Z
LAST-MODIFIED:20251001T130046Z
UID:7413-1787702400-1788134399@www.fairever-events.com
SUMMARY:Trade Fair Staff\, Hostesses & Promotion for gamescom Cologne 2026
DESCRIPTION:From 26 to 30 August 2026\, with the spectacular Opening Night Live on 25 August\, Cologne becomes the global hotspot for gaming. With FAIREVER\, you can book professional trade fair staff in Cologne – experienced hostesses and promoters who will present your games\, hardware and innovations effectively\, from start to finish. \n\n		Start Your Inquiry\n	\n\ngamescom 2026 – Your stage for games\, hardware & gaming culture\nEurope’s largest gaming expo showcases: \n\nHardware & peripherals (PC\, consoles\, accessories)\nGame launches\, announcements & indie productions\neSports\, streaming\, community events & live shows\nMerchandise\, gaming lifestyle & culture\nB2B: business areas\, developer conferences & partnerships\n\nTrade fair hostesses & promoters for gamescom Cologne\nOur specialized team understands gaming culture and provides: \n\nVisitor engagement & product presentations (GER/EN & other languages)\nSupport for live demos\, gameplay sessions & showcases\nAssistance at competitions\, cosplay & events\nDistribution of merchandise\, brochures & promotional materials\nAn energetic\, engaging & professional demeanor\n\nFull-service trade fair support\nWith FAIREVER\, you benefit from: \n\nStand design & branding tailored to your gaming brand\nSelection\, briefing & training of staff\nPlanning & execution of activations\, product trials & events\nLogistics\, coordination & on-site supervision\nReporting & post-event evaluation\n\nWhy FAIREVER for gamescom Cologne 2026?\n\nExperience with over 100 fairs annually – in Germany & worldwide\nSpecialization in gaming\, tech & entertainment expos\nFast & flexible staffing solutions\, even at short notice\nTransparent pricing & communication\nSustainable event & promotion planning\n\nBook trade fair staff for gamescom Cologne 2026 now!\nTake the opportunity to present your games\, hardware & innovations at gamescom Cologne 2026 (26–30 August 2026). FAIREVER provides the right trade fair staff\, hostesses & promotion personnel in Cologne for maximum impact. \nFAIREVER GmbH – fair. flexible. sustainable.\nYour partner for trade fair staff\, hostesses & promotion in Cologne – at gamescom 2026 and beyond. \n\n		Start Your Inquiry
URL:https://www.fairever-events.com/en/eventagentur/trade-fair-staff-promotion-for-gamescom/
LOCATION:Messe Köln\, Messeplatz 1\, Köln\, NRW\, 50679\, Germany
CATEGORIES:Cologne Trade Fairs,Messen in Köln
ATTACH;FMTTYPE=image/jpeg:https://www.fairever-events.com/wp-content/uploads/2025/05/gamescom_logo_1200x675.jpg
END:VEVENT
END:VCALENDAR