BEGIN:VCALENDAR
VERSION:2.0
PRODID:-//FAIREVER - ECPv6.15.20//NONSGML v1.0//EN
CALSCALE:GREGORIAN
METHOD:PUBLISH
X-ORIGINAL-URL:https://www.fairever-events.com/en/
X-WR-CALDESC:Events for FAIREVER
REFRESH-INTERVAL;VALUE=DURATION:PT1H
X-Robots-Tag:noindex
X-PUBLISHED-TTL:PT1H
BEGIN:VTIMEZONE
TZID:Europe/Berlin
BEGIN:DAYLIGHT
TZOFFSETFROM:+0100
TZOFFSETTO:+0200
TZNAME:CEST
DTSTART:20250330T010000
END:DAYLIGHT
BEGIN:STANDARD
TZOFFSETFROM:+0200
TZOFFSETTO:+0100
TZNAME:CET
DTSTART:20251026T010000
END:STANDARD
BEGIN:DAYLIGHT
TZOFFSETFROM:+0100
TZOFFSETTO:+0200
TZNAME:CEST
DTSTART:20260329T010000
END:DAYLIGHT
BEGIN:STANDARD
TZOFFSETFROM:+0200
TZOFFSETTO:+0100
TZNAME:CET
DTSTART:20261025T010000
END:STANDARD
BEGIN:DAYLIGHT
TZOFFSETFROM:+0100
TZOFFSETTO:+0200
TZNAME:CEST
DTSTART:20270328T010000
END:DAYLIGHT
BEGIN:STANDARD
TZOFFSETFROM:+0200
TZOFFSETTO:+0100
TZNAME:CET
DTSTART:20271031T010000
END:STANDARD
END:VTIMEZONE
BEGIN:VEVENT
DTSTART;VALUE=DATE:20261110
DTEND;VALUE=DATE:20261114
DTSTAMP:20260422T234746
CREATED:20260421T180312Z
LAST-MODIFIED:20260421T180312Z
UID:8462-1794268800-1794614399@www.fairever-events.com
SUMMARY:electronica – Innovation\, Technology & International Decision-Makers
DESCRIPTION:electronica is the world’s leading trade fair and conference for electronics and takes place from November 10 to 13\, 2026 at the Munich exhibition grounds. \nAs a global platform\, it covers the entire spectrum of modern electronics – from components and systems to applications and services. \nWith several thousand exhibitors and an international professional audience\, it is one of the most important meeting points of the electronics industry worldwide. \nThe focus is on: • Semiconductors & microelectronics • Embedded systems & software solutions • Sensors\, measurement technology & electronic components • Automotive electronics & industrial applications • Power supply\, wireless & IoT technologies \nelectronica combines innovation\, research\, and industrial application – ideal conditions for sustainable business deals and technological partnerships. \nTrade Fair Hostesses & Specialized Staff for electronica \nOur specially trained trade fair staff are prepared for technically demanding B2B trade fairs and international visitors: \n\nProfessional support for international business partners • Multilingual communication (EN\, GER\, additional languages on request) • Support with complex technologies & system solutions • Lead capture & structured communication • Support with meetings\, presentations & live demos\n\nIdeal for electronics companies\, developers\, OEMs\, and technology providers. \nFull-Service for Your Trade Fair Presence in Munich \nFAIREVER provides comprehensive support for a successful trade fair presence: \n\nSelection & briefing of qualified specialized staff • Preparation for complex products & international target groups • Support with booth organization & process coordination • Coordination of B2B appointments & business meetings • Reporting & structured follow-up of your leads\n\nThis ensures your trade fair presence is efficient\, professional\, and measurably successful. \nWhy Choose FAIREVER for electronica Munich? \n\nExperience at international technology and B2B trade fairs • Understanding of complex high-tech products • Confident presence in an international business environment • Flexible & short-notice deployment planning\n\nBook Trade Fair Staff for electronica 2026 Now \nPosition your company successfully at electronica Munich – with experienced trade fair staff\, professional hostesses\, and targeted support for your sales and networking goals. \nFAIREVER GmbH – fair. flexible. sustainable. Your partner for trade fair staff\, hostesses\, and promotion in Munich – at electronica and beyond.
URL:https://www.fairever-events.com/en/eventagentur/electronica-innovation-technology-international-decision-makers/
LOCATION:Messe München\, Messegelände\, München\, Bayern\, 81823\, Germany
CATEGORIES:Munich trade fairs
ATTACH;FMTTYPE=image/png:https://www.fairever-events.com/wp-content/uploads/2026/04/electronica-vector-logo.png
END:VEVENT
BEGIN:VEVENT
DTSTART;VALUE=DATE:20261115
DTEND;VALUE=DATE:20261119
DTSTAMP:20260422T234746
CREATED:20260421T082952Z
LAST-MODIFIED:20260421T082952Z
UID:8396-1794700800-1795046399@www.fairever-events.com
SUMMARY:Trade Fair Staff\, Hostesses & Promotion for GaLaBau Nuremberg 2026
DESCRIPTION:Leverage the leading international trade fair for urban green spaces – GaLaBau in Nuremberg. The trade fair brings together landscape gardeners\, planners\, construction companies\, municipalities\, and decision-makers from around the world and offers ideal conditions for high-quality business contacts. \nWith FAIREVER\, you book professional trade fair staff in Nuremberg who present your products\, machines\, and services competently and specifically support your B2B communication. \nGaLaBau – Innovation\, Sustainability & International Trade Visitors \nGaLaBau is the leading international trade fair for planning\, construction\, and maintenance of urban green spaces and takes place every two years in Nuremberg. \nAround 1\,400 exhibitors present a comprehensive range across the entire value chain – from materials and machinery to services for gardening and landscaping. \nThe focus is on: • Gardening and landscaping as well as open space design • Machinery\, equipment & construction technology • Plants\, materials & building materials • Maintenance\, irrigation & sustainable solutions • Sports grounds\, playgrounds & infrastructure projects \nThe trade fair brings together professionals from planning\, execution\, and the public sector – ideal conditions for long-term business relationships and project development. \nTrade Fair Hostesses & Specialized Staff for GaLaBau \nOur specially trained trade fair staff are prepared for consulting-intensive B2B trade fairs in the construction and infrastructure sector: \n\nProfessional support for international trade visitors • Multilingual communication (EN\, GER\, additional languages on request) • Support with complex products & machinery • Lead capture & structured communication • Support with meetings\, presentations & product demos\n\nIdeal for construction companies\, machinery manufacturers\, suppliers\, and service providers. \nFull-Service for Your Trade Fair Appearance in Nuremberg \nFAIREVER offers you comprehensive support for a successful trade fair appearance: \n\nSelection & briefing of qualified specialized staff • Preparation for complex products & target groups • Support with booth organization & process coordination • Coordination of B2B appointments & business meetings • Reporting & structured follow-up of your leads\n\nThis ensures your trade fair appearance is efficient\, professional\, and measurably successful. \nWhy FAIREVER for GaLaBau Nuremberg? \n\nExperience at international construction and technology trade fairs • Understanding of complex products & machinery • Confident appearance in a professional environment • Flexible & short-notice deployment planning\n\nBook Trade Fair Staff for GaLaBau 2026 Now \nPosition your company successfully at GaLaBau Nuremberg – with experienced trade fair staff\, professional hostesses\, and targeted support for your sales and networking goals. \nFAIREVER GmbH – fair. flexible. sustainable. Your partner for trade fair staff\, hostesses\, and promotion in Nuremberg – at GaLaBau and beyond.
URL:https://www.fairever-events.com/en/eventagentur/trade-fair-staff-hostesses-promotion-for-galabau-nuremberg-2026/
LOCATION:Messe Nürnberg\, Messezentrum 1\, Nürnberg\, Bayern\, 90471\, Germany
CATEGORIES:Nuremberg Trade Fairs
ATTACH;FMTTYPE=image/webp:https://www.fairever-events.com/wp-content/uploads/2026/04/galabau-n-dynamic-teaser-download-logo.webp
END:VEVENT
BEGIN:VEVENT
DTSTART;VALUE=DATE:20261116
DTEND;VALUE=DATE:20261120
DTSTAMP:20260422T234746
CREATED:20250512T172744Z
LAST-MODIFIED:20260420T172856Z
UID:7440-1794787200-1795132799@www.fairever-events.com
SUMMARY:Trade Fair Staff\, Hostesses & Promotion for COMPAMED Düsseldorf 2026
DESCRIPTION:Take advantage of the leading international trade fair for the medical technology supplier industry – COMPAMED in Düsseldorf. The event brings together developers\, manufacturers\, suppliers\, and decision-makers from the global MedTech sector. \nWith FAIREVER\, you book professional trade fair staff in Düsseldorf who present your technologies\, components\, and solutions with expertise while supporting your B2B communication. \nCOMPAMED – High-Tech\, Innovation & Global Decision-Makers \nCOMPAMED is one of the world’s leading trade fairs for medical technology suppliers and product development. Industry leaders\, engineers\, and buyers come together to explore innovations across the entire value chain. \nKey focus areas include: • High-tech components & materials for medical technology • Micro- and nanotechnology • Electronics\, sensors & embedded systems • Manufacturing & automation technologies • OEM partnerships & industrial services \nHeld alongside MEDICA\, it creates a unique environment with a high density of decision-makers and strong international reach. \nHostesses & Specialized Staff for COMPAMED \nOur specially trained staff are prepared for highly technical B2B environments: \n\nProfessional support for international trade visitors • Multilingual communication (EN\, GER\, more on request) • Assistance with complex technologies & products • Lead capture & structured communication • Support for meetings\, presentations & demos\n\nIdeal for MedTech suppliers\, OEMs\, developers\, and technology companies. \nFull-Service for Your Trade Fair Presence in Düsseldorf \nFAIREVER supports your entire trade fair presence: \n\nSelection & briefing of qualified staff • Preparation for complex products & target groups • Support with booth organization & coordination • Scheduling of B2B meetings & business discussions • Reporting & structured lead follow-up\n\nEnsure a professional and measurable exhibition success. \nWhy Choose FAIREVER for COMPAMED Düsseldorf? \n\nExperience at international B2B and technology trade fairs • Strong understanding of complex high-tech products • Confident presence in international business environments • Flexible deployment—even at short notice\n\nBook Trade Fair Staff for COMPAMED 2026 Now \nPosition your company successfully at COMPAMED Düsseldorf—with experienced trade fair staff\, professional hostesses\, and targeted support for your sales and networking goals. \nFAIREVER GmbH – fair. flexible. sustainable. Your partner for trade fair staff\, hostesses\, and promotion in Düsseldorf—at COMPAMED and beyond.
URL:https://www.fairever-events.com/en/eventagentur/trade-fair-staff-promotion-for-compamed/
LOCATION:Hessen
CATEGORIES:Dusseldorf Trade Fairs
ATTACH;FMTTYPE=image/jpeg:https://www.fairever-events.com/wp-content/uploads/2025/05/compamed_logo_cmyk.jpg
END:VEVENT
BEGIN:VEVENT
DTSTART;VALUE=DATE:20261117
DTEND;VALUE=DATE:20261121
DTSTAMP:20260422T234746
CREATED:20260421T184450Z
LAST-MODIFIED:20260421T184450Z
UID:8494-1794873600-1795219199@www.fairever-events.com
SUMMARY:Trade Fair Staff\, Hostesses & Promotion for Formnext Frankfurt 2026
DESCRIPTION:Leverage the world’s leading trade fair for additive manufacturing and industrial production technologies – Formnext in Frankfurt. The leading trade fair brings together manufacturers\, developers\, engineers\, and decision-makers from the global industry and offers ideal conditions for high-quality B2B contacts and sustainable business deals. \nWith FAIREVER\, you book professional trade fair staff in Frankfurt who present your technologies\, machines\, and solutions competently and specifically support your business development. \nFormnext – Additive Manufacturing\, Innovation & International Decision-Makers \nFormnext is the international leading trade fair for additive manufacturing and industrial 3D printing and takes place from November 17 to 20\, 2026 at the Frankfurt exhibition grounds. \nAs a global platform\, it covers the entire process chain of modern manufacturing – from product idea to materials and production through to series production. \nWith over 800 exhibitors and around 38\,000 trade visitors\, Formnext transforms Frankfurt into the center of additive manufacturing every year. \nThe focus is on: • Additive manufacturing & industrial 3D printing • Materials (metals\, polymers\, etc.) • Machines\, systems & manufacturing technologies • Software\, simulation & process optimization • Automation\, quality assurance & post-processing \nFormnext is considered the innovation platform of the next generation of industrial production – this is where technology leaders and decision-makers come together to shape the future of manufacturing. \nTrade Fair Hostesses & Specialized Staff for Formnext \nOur specially trained trade fair staff are prepared for technically demanding B2B trade fairs and complex industrial products: \n\nProfessional support for international trade visitors • Multilingual communication (EN\, GER\, additional languages on request) • Support with complex technologies & machines • Lead capture & structured communication • Support with meetings\, presentations & technical discussions\n\nIdeal for mechanical engineering companies\, technology providers\, OEMs\, suppliers\, and industrial companies. \nFull-Service for Your Trade Fair Presence in Frankfurt \nFAIREVER provides comprehensive support for a successful trade fair presence: \n\nSelection & briefing of qualified specialized staff • Preparation for complex technologies & international target groups • Support with booth organization & process coordination • Coordination of B2B appointments & business meetings • Reporting & structured follow-up of your leads\n\nThis ensures your trade fair presence is efficient\, professional\, and measurably successful. \nWhy Choose FAIREVER for Formnext Frankfurt? \n\nExperience at international industrial and technology trade fairs • Understanding of complex high-tech and production solutions • Confident presence in an international business environment • Flexible & short-notice deployment planning\n\nBook Trade Fair Staff for Formnext 2026 Now \nPosition your company successfully at Formnext Frankfurt – with experienced trade fair staff\, professional hostesses\, and targeted support for your sales and networking goals. \nFAIREVER GmbH – fair. flexible. sustainable. Your partner for trade fair staff\, hostesses\, and promotion in Frankfurt – at Formnext and beyond.
URL:https://www.fairever-events.com/en/eventagentur/trade-fair-staff-hostesses-promotion-for-formnext-frankfurt-2026/
LOCATION:Messe Frankfurt\, Ludwig-Erhard-Anlage 1\, Frankfurt am Main\, Hessen\, 60327\, Germany
ATTACH;FMTTYPE=image/jpeg:https://www.fairever-events.com/wp-content/uploads/2026/04/formnext-logo.jpg
END:VEVENT
BEGIN:VEVENT
DTSTART;VALUE=DATE:20261124
DTEND;VALUE=DATE:20261127
DTSTAMP:20260422T234746
CREATED:20250512T170604Z
LAST-MODIFIED:20260421T084441Z
UID:7409-1795478400-1795737599@www.fairever-events.com
SUMMARY:Trade Fair Staff\, Hostesses & Promotion for SPS Nuremberg 2026
DESCRIPTION:Leverage the leading international trade fair for industrial automation – SPS (Smart Production Solutions) in Nuremberg. The trade fair brings together manufacturers\, developers\, engineers\, and decision-makers from the global automation industry and offers ideal conditions for high-quality B2B contacts. \nWith FAIREVER\, you book professional trade fair staff in Nuremberg who present your automation solutions\, systems\, and technologies competently and specifically support your business development. \nSPS – Automation\, Digitalization & International Decision-Makers \nSPS is one of the world’s leading trade fairs for industrial automation and covers the entire spectrum of smart and digital production – from sensors to fully integrated system solutions. \nFrom November 24 to 26\, 2026\, over 1\,000 exhibitors and an international professional audience will meet in Nuremberg to present innovations and practical solutions. \nThe focus is on: • Industrial automation & control technology • Sensors\, drive technology & industrial communication • Software & IT in manufacturing (Industry 4.0) • Digital transformation & smart production systems • AI\, connectivity & data-driven processes \nSPS combines innovation\, practical relevance\, and a high density of decision-makers – ideal conditions for sustainable business deals. \nTrade Fair Hostesses & Specialized Staff for SPS \nOur specially trained trade fair staff are prepared for technically demanding B2B trade fairs and complex industrial goods: \n\nProfessional support for international trade visitors • Multilingual communication (EN\, GER\, additional languages on request) • Support with complex technologies & systems • Lead capture & structured communication • Support with meetings\, presentations & live demos\n\nIdeal for automation companies\, mechanical engineering firms\, OEMs\, and technology providers. \nFull-Service for Your Trade Fair Appearance in Nuremberg \nFAIREVER offers you comprehensive support for a successful trade fair appearance: \n\nSelection & briefing of qualified specialized staff • Preparation for complex products & target groups • Support with booth organization & process coordination • Coordination of B2B appointments & technical discussions • Reporting & structured follow-up of your leads\n\nThis ensures your trade fair appearance is efficient\, professional\, and measurably successful. \nWhy FAIREVER for SPS Nuremberg? \n\nExperience at international industrial and technology trade fairs • Understanding of complex automation and high-tech products • Confident appearance in an international business environment • Flexible & short-notice deployment planning\n\nBook Trade Fair Staff for SPS 2026 Now \nPosition your company successfully at SPS Nuremberg – with experienced trade fair staff\, professional hostesses\, and targeted support for your sales and networking goals. \nFAIREVER GmbH – fair. flexible. sustainable. Your partner for trade fair staff\, hostesses\, and promotion in Nuremberg – at SPS and beyond.
URL:https://www.fairever-events.com/en/eventagentur/trade-fair-staff-promotion-for-sps/
LOCATION:Messe Nürnberg\, Messezentrum 1\, Nürnberg\, Bayern\, 90471\, Germany
CATEGORIES:Nuremberg Trade Fairs
ATTACH;FMTTYPE=image/jpeg:https://www.fairever-events.com/wp-content/uploads/2024/01/SPS_Logo_Web.jpg
END:VEVENT
BEGIN:VEVENT
DTSTART;VALUE=DATE:20261125
DTEND;VALUE=DATE:20261130
DTSTAMP:20260422T234746
CREATED:20260421T180951Z
LAST-MODIFIED:20260421T180951Z
UID:8469-1795564800-1795996799@www.fairever-events.com
SUMMARY:Trade Fair Staff\, Hostesses & Promotion for Heim+Handwerk Munich 2026
DESCRIPTION:Leverage Southern Germany’s largest trade fair for living and furnishing – Heim+Handwerk in Munich. The consumer fair brings together manufacturers\, craft businesses\, design labels\, and retailers with a purchase-ready audience and offers ideal conditions for direct sales\, brand building\, and customer consultation. \nWith FAIREVER\, you book professional trade fair staff in Munich who present your products\, services\, and living concepts actively\, sales-driven\, and in a target group-oriented manner. \nHeim+Handwerk – Living Trends\, Inspiration & High-Purchasing-Power Visitors \nHeim+Handwerk is Southern Germany’s largest trade fair for living\, furnishing\, and lifestyle and takes place from November 25 to 29\, 2026 at the Munich exhibition grounds. \nAs a classic consumer and sales fair\, it combines inspiration with direct purchasing opportunities and attracts tens of thousands of visitors every year. \nNumerous exhibitors present a wide range of products and solutions related to modern living and construction. \nThe focus is on: • Living\, furnishing & interior design • Furniture\, kitchens & home accessories • Building\, renovation & modernization • Crafts & custom-made products • Energy efficiency & sustainable living solutions \nThe fair also offers personal consultations by experts\, inspiring themed areas\, and hands-on workshops – a combination of experience\, information\, and direct purchasing decisions. \nTrade Fair Hostesses & Promotion Staff for Heim+Handwerk \nOur trade fair staff are specially prepared for sales-driven\, consultation-intensive consumer and home fairs: \n\nActive engagement and consultation of visitors • Sales support & product presentations • Support with individual consultation discussions • Execution of promotional activities & live demos • Management of visitor flows & booth organization\n\nIdeal for furniture manufacturers\, craft businesses\, construction companies\, interior brands\, and service providers. \nFull-Service for Your Trade Fair Presence in Munich \nFAIREVER supports you holistically at Heim+Handwerk: \n\nSelection of sales-driven\, communicative staff • Briefing on products\, target groups & sales strategy • Support with consultation and sales processes • Structuring of visitor flows & booth operations • Reporting & follow-up of your leads\n\nThis turns visitors into customers and increases your trade fair success sustainably. \nWhy Choose FAIREVER for Heim+Handwerk Munich? \n\nExperience at large consumer and sales fairs • Sales-driven\, active\, and personable staff • Understanding of consultation-intensive products • Flexible teams – even during peak times\n\nBook Trade Fair Staff for Heim+Handwerk 2026 Now \nPosition your brand successfully at Heim+Handwerk Munich – with professional hostesses\, experienced promotion staff\, and targeted support for your sales and marketing goals. \nFAIREVER GmbH – fair. flexible. sustainable. Your partner for trade fair staff\, hostesses\, and promotion in Munich – at Heim+Handwerk and beyond.
URL:https://www.fairever-events.com/en/eventagentur/trade-fair-staff-hostesses-promotion-for-heimhandwerk-munich-2026/
LOCATION:Messe München\, Messegelände\, München\, Bayern\, 81823\, Germany
ATTACH;FMTTYPE=image/webp:https://www.fairever-events.com/wp-content/uploads/2026/04/FWEBP.webp
END:VEVENT
BEGIN:VEVENT
DTSTART;VALUE=DATE:20261128
DTEND;VALUE=DATE:20261207
DTSTAMP:20260422T234746
CREATED:20250512T162358Z
LAST-MODIFIED:20260420T175922Z
UID:7363-1795824000-1796601599@www.fairever-events.com
SUMMARY:Trade Fair Staff\, Hostesses & Promotion for Essen Motor Show 2026
DESCRIPTION:Leverage Europe’s largest performance and tuning festival – the Essen Motor Show in Essen. The event brings together car enthusiasts\, brands\, tuning companies\, and manufacturers from around the world\, offering ideal conditions for direct sales\, brand building\, and maximum reach. \nWith FAIREVER\, you book professional trade fair staff for the Essen Motor Show who bring your vehicles\, products\, and brand to life and actively drive conversion at your booth. \nEssen Motor Show – Performance\, Lifestyle & Global Community \nThe Essen Motor Show is one of Europe’s most important events for the automotive and tuning industry\, attracting over 200\,000 visitors and around 500 exhibitors each year. \nFrom November 28 to December 6\, 2026\, Messe Essen transforms into a festival of performance\, motorsport\, and automotive passion. \nKey focus areas include: • Sports cars\, performance vehicles & supercars • Tuning & customization • Motorsport & racing scene • Classic cars\, youngtimers & collector vehicles • Accessories\, parts & lifestyle products \nThe event combines show\, community\, and strong purchase intent—visitors come not just to watch\, but to buy and experience. \nHostesses & Promotion Staff for the Essen Motor Show \nOur staff are specifically trained for dynamic\, high-traffic consumer events: \n\nActive visitor engagement and activation • Support with product presentations & vehicle showcases • Sales support & customer consultation • Visitor flow and queue management • Promotions\, giveaways & brand staging\n\nIdeal for automotive brands\, tuning companies\, accessory providers\, and lifestyle brands. \nFull-Service Support for Your Trade Fair Presence in Essen \nFAIREVER provides full support for your presence at the Essen Motor Show: \n\nSelection of communicative\, sales-driven staff • Briefing on products\, target groups & brand positioning • Support for promotions\, campaigns & sales processes • Visitor flow management & booth organization • Reporting & lead analysis\n\nMaximize attention\, interaction\, and revenue at your booth. \nWhy Choose FAIREVER for the Essen Motor Show? \n\nExperience at large consumer and lifestyle events • Sales-driven\, energetic\, and brand-oriented staff • Strong engagement in visitor interaction • Flexible teams—even during peak visitor periods\n\nBook Trade Fair Staff for the Essen Motor Show 2026 Now \nPosition your brand successfully at the Essen Motor Show—with professional hostesses\, experienced promotion staff\, and targeted support for your sales and marketing goals. \nFAIREVER GmbH – fair. flexible. sustainable. Your partner for trade fair staff\, hostesses\, and promotion in Essen—at the Essen Motor Show and beyond.
URL:https://www.fairever-events.com/en/eventagentur/essen-motor-show/
LOCATION:Messe Essen
ATTACH;FMTTYPE=image/png:https://www.fairever-events.com/wp-content/uploads/2025/05/logo_essenmotorshow_2024_rgb-scaled.png
END:VEVENT
END:VCALENDAR