BEGIN:VCALENDAR
VERSION:2.0
PRODID:-//FAIREVER - ECPv6.15.20//NONSGML v1.0//EN
CALSCALE:GREGORIAN
METHOD:PUBLISH
X-WR-CALNAME:FAIREVER
X-ORIGINAL-URL:https://www.fairever-events.com/en/
X-WR-CALDESC:Events for FAIREVER
REFRESH-INTERVAL;VALUE=DURATION:PT1H
X-Robots-Tag:noindex
X-PUBLISHED-TTL:PT1H
BEGIN:VTIMEZONE
TZID:Europe/Berlin
BEGIN:DAYLIGHT
TZOFFSETFROM:+0100
TZOFFSETTO:+0200
TZNAME:CEST
DTSTART:20220327T010000
END:DAYLIGHT
BEGIN:STANDARD
TZOFFSETFROM:+0200
TZOFFSETTO:+0100
TZNAME:CET
DTSTART:20221030T010000
END:STANDARD
BEGIN:DAYLIGHT
TZOFFSETFROM:+0100
TZOFFSETTO:+0200
TZNAME:CEST
DTSTART:20230326T010000
END:DAYLIGHT
BEGIN:STANDARD
TZOFFSETFROM:+0200
TZOFFSETTO:+0100
TZNAME:CET
DTSTART:20231029T010000
END:STANDARD
BEGIN:DAYLIGHT
TZOFFSETFROM:+0100
TZOFFSETTO:+0200
TZNAME:CEST
DTSTART:20240331T010000
END:DAYLIGHT
BEGIN:STANDARD
TZOFFSETFROM:+0200
TZOFFSETTO:+0100
TZNAME:CET
DTSTART:20241027T010000
END:STANDARD
END:VTIMEZONE
BEGIN:VEVENT
DTSTART;VALUE=DATE:20230227
DTEND;VALUE=DATE:20230303
DTSTAMP:20260423T030026
CREATED:20220816T094830Z
LAST-MODIFIED:20220816T095828Z
UID:5456-1677456000-1677801599@www.fairever-events.com
SUMMARY:MWC 2023 Barcelona - hostesses and staff
DESCRIPTION:Book hostesses and staff for Mobile World Congress MWC 2023 in Barcelona – the most important international trade fair for the mobile industry – now with FAIREVER. We have the best staff pool in Barcelona of trained\, qualified and motivated trade show hostesses\, trade show hosts and promoters. Our service promise: With FAIREVER your trade show appearance is guaranteed to succeed. \n\n		Inquire now for hostesses for MWC 2023 in Barcelona\n	\n\nOver 61000 attendees from 168 countries will gather in Barcelona to explore the latest forward-looking connectivity technologies\, make valuable B2B contacts and gain insights into solutions to today’s cross-industry connectivity challenges. Exhibiting companies come from a variety of backgrounds\, with influential technology and mobile vendors at the forefront\, complemented by device manufacturers\, vendors and content providers. \nBarcelona’s MWC is the international reference point for the technology\, mobile and connectivity industries. Held annually at the Fira de Barcelona\, the MWC show regularly brings together over 100000 trade visitors and 1500 exhibitors for five days of business\, networking and showcasing the latest technology. The entire mobile ecosystem is showcased at Messe Barcelona by over 2000 exhibiting companies from all sectors\, from healthcare to automotive. \nThe five-day exhibition features a series of conferences\, programs and workshops that are critical for audiences looking to take their business to the next level and stay ahead of the competition. MWC is a cross-industry approach to solving global connectivity problems and as such is a must-attend event\, especially for middle and senior management visitors who want to make a real difference in the digital world. \nOur hostesses and hosts for MWC 2023 are mainly from the Barcelona region and will be well prepared by us for their assignment. FAIREVER has known the MWC for many years and offers you the best possible service and personnel for your trade fair appearance. Inquire now and get your quote for MWC 2023.
URL:https://www.fairever-events.com/en/eventagentur/mwc-2023-barcelona-book-hostesses/
LOCATION:Messe Barcelona\, Av. Joan Carles I\, 64\, L'Hospitalet de Llobregat\, Barcelona\, 08004\, Spain
CATEGORIES:Barcelona trade fairs
ATTACH;FMTTYPE=image/png:https://www.fairever-events.com/wp-content/uploads/2022/08/mwc-logo.png
END:VEVENT
BEGIN:VEVENT
DTSTART;VALUE=DATE:20230314
DTEND;VALUE=DATE:20230317
DTSTAMP:20260423T030026
CREATED:20230309T145240Z
LAST-MODIFIED:20230309T145858Z
UID:5587-1678752000-1679011199@www.fairever-events.com
SUMMARY:embedded world 2023 Nuremberg – hostesses and staff
DESCRIPTION:Book hostesses and staff for embedded world 2023 in Nuremberg – the world’s leading international trade fair for embedded systems – now with FAIREVER. We have the best staff pool in Nuremberg of trained\, qualified and motivated exhibition hostesses\, exhibition hosts and promoters. Our service promise: With FAIREVER your trade fair appearance is guaranteed to succeed. \n\n		Submit inquiry now\n	\n\nEmbedded world is an annual exhibition and conference focused on embedded systems and their applications. Embedded systems are computer systems embedded in other devices that perform specialized functions\, such as control systems for cars or airplanes\, medical devices\, or industrial automation systems. \nThe embedded world show provides a platform for companies that develop and apply embedded systems to showcase their products and services. The show also offers networking and knowledge transfer opportunities through conferences\, seminars and workshops on current topics and trends in the industry. \nThe show attracts thousands of visitors from around the world each year and is an important meeting place for experts and companies involved in the embedded systems industry.
URL:https://www.fairever-events.com/en/eventagentur/embedded-world-2023-nuremberg-hostesses-and-staff/
LOCATION:Messe Nürnberg\, Messezentrum 1\, Nürnberg\, Bayern\, 90471\, Germany
CATEGORIES:Nuremberg Trade Fairs
ATTACH;FMTTYPE=image/svg+xml:https://www.fairever-events.com/wp-content/uploads/2023/03/embeddedworld-logo.svg
END:VEVENT
BEGIN:VEVENT
DTSTART;VALUE=DATE:20230314
DTEND;VALUE=DATE:20230319
DTSTAMP:20260423T030026
CREATED:20230309T153625Z
LAST-MODIFIED:20230309T154149Z
UID:5606-1678752000-1679183999@www.fairever-events.com
SUMMARY:IDS International Dental Show 2023 - hostesses\, staff and service
DESCRIPTION:Book hostesses and staff for IDS 2023 – the world’s leading dental trade fair in Cologne – with FAIREVER. We have the best staff pool in Cologne of trained\, qualified and motivated trade fair hostesses\, trade fair hosts and promoters. And the best service. \n\n		Submit inquiry now\n	\n\nIDS is a trade show for the dental industry held every two years in Cologne\, Germany. The show is one of the largest and most important events in the dental industry and attracts professionals from all over the world. \nIDS Cologne provides a platform for companies to showcase their latest products\, technologies and services in dentistry. These include equipment\, instruments\, materials\, software and digital technologies used in dentistry. \nThe show also provides an opportunity for dentists\, orthodontists\, dental technicians and other professionals to learn about the latest developments and trends in the dental industry. There are also various workshops\, lectures and presentations where attendees can enhance their knowledge and skills. \nOverall\, IDS Cologne is an important platform for companies and professionals to network\, expand their business and drive the dental industry forward.
URL:https://www.fairever-events.com/en/eventagentur/ids-2023-hostesses-staff-service-agency/
LOCATION:Messe Köln\, Messeplatz 1\, Köln\, NRW\, 50679\, Germany
CATEGORIES:Cologne Trade Fairs
ATTACH;FMTTYPE=image/webp:https://www.fairever-events.com/wp-content/uploads/2023/03/IDS-2023.jpg.webp
END:VEVENT
END:VCALENDAR