BEGIN:VCALENDAR
VERSION:2.0
PRODID:-//FAIREVER - ECPv6.15.20//NONSGML v1.0//EN
CALSCALE:GREGORIAN
METHOD:PUBLISH
X-WR-CALNAME:FAIREVER
X-ORIGINAL-URL:https://www.fairever-events.com/en/
X-WR-CALDESC:Events for FAIREVER
REFRESH-INTERVAL;VALUE=DURATION:PT1H
X-Robots-Tag:noindex
X-PUBLISHED-TTL:PT1H
BEGIN:VTIMEZONE
TZID:Europe/Berlin
BEGIN:DAYLIGHT
TZOFFSETFROM:+0100
TZOFFSETTO:+0200
TZNAME:CEST
DTSTART:20240331T010000
END:DAYLIGHT
BEGIN:STANDARD
TZOFFSETFROM:+0200
TZOFFSETTO:+0100
TZNAME:CET
DTSTART:20241027T010000
END:STANDARD
BEGIN:DAYLIGHT
TZOFFSETFROM:+0100
TZOFFSETTO:+0200
TZNAME:CEST
DTSTART:20250330T010000
END:DAYLIGHT
BEGIN:STANDARD
TZOFFSETFROM:+0200
TZOFFSETTO:+0100
TZNAME:CET
DTSTART:20251026T010000
END:STANDARD
BEGIN:DAYLIGHT
TZOFFSETFROM:+0100
TZOFFSETTO:+0200
TZNAME:CEST
DTSTART:20260329T010000
END:DAYLIGHT
BEGIN:STANDARD
TZOFFSETFROM:+0200
TZOFFSETTO:+0100
TZNAME:CET
DTSTART:20261025T010000
END:STANDARD
END:VTIMEZONE
BEGIN:VEVENT
DTSTART;VALUE=DATE:20250503
DTEND;VALUE=DATE:20250509
DTSTAMP:20260421T025037
CREATED:20220511T101358Z
LAST-MODIFIED:20241105T204648Z
UID:5260-1746230400-1746748799@www.fairever-events.com
SUMMARY:IFFA 2025 Frankfurt
DESCRIPTION:IFFA 2025 in Frankfurt\, the leading international trade fair for the meat industry\, provides the ideal stage to showcase your brand and products in processing\, packaging\, and sales. With FAIREVER as your trade fair partner\, we ensure your booth stands out among over 900 exhibitors\, capturing the attention your brand deserves. \nTrained and Experienced Hostesses for Your Trade Fair Success \nOur extensive pool of qualified hostesses from the Frankfurt area is specifically prepared for the demands of IFFA. All FAIREVER hostesses are multilingual and professionally trained to represent your brand with expertise and charm. Whether welcoming visitors\, presenting products\, or providing customer consultations\, our hostesses ensure that trade visitors feel welcome and well-attended at your booth. \n\n		Submit inquiry now\n	\n\nFAIREVER – Your Full-Service Solution for IFFA Frankfurt \nOur full-service offering includes everything needed for a successful trade fair appearance: from creative booth design and logistics to providing experienced\, multilingual hostesses and hosts who effectively convey your brand message. Our team ensures that your innovations and services are presented to their best advantage at IFFA. \nAn Inspiring Trade Fair Experience \nIFFA offers a comprehensive program\, providing the perfect platform to learn about new products and trends in the meat industry\, exchange ideas\, and strengthen business relationships. Our professional hostesses and hosts make your booth a focal point for visitors\, leaving a lasting impression. \nChoose FAIREVER for a successful presence at IFFA 2025 in Frankfurt am Main. Contact us now for a consultation!
URL:https://www.fairever-events.com/en/eventagentur/iffa-hostesses-agency-frankfurt/
LOCATION:Messe Frankfurt\, Ludwig-Erhard-Anlage 1\, Frankfurt am Main\, Hessen\, 60327\, Germany
CATEGORIES:Frankfurt trade fairs
ATTACH;FMTTYPE=image/png:https://www.fairever-events.com/wp-content/uploads/2022/04/iffa_frankfurt.png
END:VEVENT
BEGIN:VEVENT
DTSTART;VALUE=DATE:20250526
DTEND;VALUE=DATE:20250531
DTSTAMP:20260421T025037
CREATED:20241123T121537Z
LAST-MODIFIED:20241123T121840Z
UID:6966-1748217600-1748649599@www.fairever-events.com
SUMMARY:LIGNA Hannover 2025
DESCRIPTION:LIGNA 2025 in Hannover\, the world’s leading trade fair for tools\, machines\, and equipment for woodworking and wood processing\, is the perfect platform to showcase your products\, innovations\, and services to an international professional audience. With FAIREVER by your side\, we ensure your booth stands out among the 1\,300 exhibitors and your brand gets the attention it deserves. \nMultilingual and Professional Hostesses for the Wood Industry \nOur extensive pool of qualified hostesses from the Hannover area is specifically prepared to meet the demands of LIGNA. All FAIREVER hostesses are multilingual and trained to represent your brand with expertise and charm. Whether welcoming international guests\, supporting product demonstrations\, or assisting at networking events\, our team ensures your booth is seen as a welcoming and professional meeting point. \n\n		Contact us now\n	\n \nFAIREVER – Your Full-Service Solution for LIGNA Hannover \nOur full-service offering includes everything you need for a successful trade fair presence: from creative booth design to providing experienced\, multilingual hostesses and hosts. With FAIREVER\, your presence at LIGNA 2025 will be professional and impactful. \nAn Inspiring Trade Fair Experience \nLIGNA impresses with its comprehensive range of themes—from forestry technology and surface technology to connected manufacturing and innovative solutions for woodworking. Numerous special shows\, expert talks\, and live demonstrations provide additional inspiration and valuable insights into industry trends. Our hostesses and hosts create a welcoming atmosphere that puts your brand in the spotlight. \nChoose FAIREVER for a successful presence at LIGNA 2025 in Hannover. Contact us now for a consultation!
URL:https://www.fairever-events.com/en/eventagentur/ligna-hannover-hostess-service/
LOCATION:Messe Hannover\, Hermesallee\, Hannover\, 30521\, Germany
CATEGORIES:Hanover Trade Fairs
ATTACH;FMTTYPE=image/jpeg:https://www.fairever-events.com/wp-content/uploads/2024/11/ligna-hannover.jpg
END:VEVENT
END:VCALENDAR