BEGIN:VCALENDAR
VERSION:2.0
PRODID:-//FAIREVER - ECPv6.15.20//NONSGML v1.0//EN
CALSCALE:GREGORIAN
METHOD:PUBLISH
X-WR-CALNAME:FAIREVER
X-ORIGINAL-URL:https://www.fairever-events.com/en/
X-WR-CALDESC:Events for FAIREVER
REFRESH-INTERVAL;VALUE=DURATION:PT1H
X-Robots-Tag:noindex
X-PUBLISHED-TTL:PT1H
BEGIN:VTIMEZONE
TZID:Europe/Berlin
BEGIN:DAYLIGHT
TZOFFSETFROM:+0100
TZOFFSETTO:+0200
TZNAME:CEST
DTSTART:20250330T010000
END:DAYLIGHT
BEGIN:STANDARD
TZOFFSETFROM:+0200
TZOFFSETTO:+0100
TZNAME:CET
DTSTART:20251026T010000
END:STANDARD
BEGIN:DAYLIGHT
TZOFFSETFROM:+0100
TZOFFSETTO:+0200
TZNAME:CEST
DTSTART:20260329T010000
END:DAYLIGHT
BEGIN:STANDARD
TZOFFSETFROM:+0200
TZOFFSETTO:+0100
TZNAME:CET
DTSTART:20261025T010000
END:STANDARD
BEGIN:DAYLIGHT
TZOFFSETFROM:+0100
TZOFFSETTO:+0200
TZNAME:CEST
DTSTART:20270328T010000
END:DAYLIGHT
BEGIN:STANDARD
TZOFFSETFROM:+0200
TZOFFSETTO:+0100
TZNAME:CET
DTSTART:20271031T010000
END:STANDARD
END:VTIMEZONE
BEGIN:VEVENT
DTSTART;VALUE=DATE:20260504
DTEND;VALUE=DATE:20260508
DTSTAMP:20260420T104439
CREATED:20251016T104505Z
LAST-MODIFIED:20251016T104542Z
UID:8098-1777852800-1778198399@www.fairever-events.com
SUMMARY:Trade Fair Staff\, Hostesses & Promotion for IFAT Munich 2026
DESCRIPTION:Shape the future of environmental technology – at IFAT Munich 2026. From 4 to 7 May 2026\, the international industry meets in Munich to showcase innovations in water management\, wastewater\, recycling and raw material cycles. With FAIREVER\, you can book professional trade fair staff in Munich\, experienced hostesses and dedicated promoters who present your environmental solutions effectively and competently – from the first visitor to the follow-up. \n\n		Start Your Inquiry\n	\n\nIFAT Munich 2026 – Your Stage for Water\, Recycling & Circular Economy \nIFAT is the world’s leading trade fair for environmental technology and an essential platform for suppliers\, municipalities\, research institutions and innovators. Key areas include: \n\nWater & wastewater technology including treatment\, filtration\, pumps & piping systems\nCircular economy\, recycling & secondary raw materials: from collection and sorting to reuse & recovery\nEnvironmental technology & waste management: energy recovery\, waste prevention\, emission reduction\nInnovations in process automation\, digitization & monitoring in the environmental sector\n\nWith FAIREVER promotion staff\, you directly reach decision-makers\, experts and professionals committed to sustainability\, efficiency and future-ready technologies. \nTrade Fair Hostesses & Promoters for IFAT Munich \nOur specialized staff in Munich is prepared for the demands of this environmental technology trade fair: \n\nActive visitor engagement & product presentation (DE/EN & other languages)\nSupport with live demos\, system showcases & technology presentations\nCare of international guests\, delegations & industry partners\nDistribution of brochures\, catalogs & technical information packages\nProfessional\, knowledgeable & service-oriented appearance\n\nWhether you present an innovative water filtration system\, recycling technology or digital solutions for waste management – our hostesses and promoters at IFAT Munich 2026 ensure your stand stands out and your message resonates. \nFull-Service for Your Trade Fair Presence \nWith FAIREVER you receive comprehensive support for a smooth IFAT participation: \n\nBooth design & branding aligned with your brand and sustainability focus\nSelection\, briefing & training of staff\nPlanning & execution of product presentations\, visitor activations & live demonstrations\nLogistics\, coordination & on-site support throughout the event\nReporting & post-show evaluation for success measurement\n\nWhy FAIREVER for IFAT Munich 2026? \n\nLong-standing experience at over 100 trade fairs annually – nationwide & international\nSpecialization in environmental technology\, water management & circular economy\nFast & flexible staff planning\, also short notice\nFair prices & transparent communication\nSustainability & technical excellence as core values\n\nBook Trade Fair Staff for IFAT Munich 2026 Now! \nTake the opportunity to present your technologies\, solutions & innovations at IFAT Munich 2026 (4–7 May 2026) professionally and with vision. FAIREVER provides you with the right trade fair staff\, experienced hostesses and creative promotion teams in Munich – ensuring your stand makes an impact and your topics gain visibility. \nFAIREVER GmbH – fair. flexible. sustainable.\nYour partner for trade fair staff\, hostesses & promotion in Munich – at IFAT 2026 and beyond. \n\n		Start Your Inquiry
URL:https://www.fairever-events.com/en/eventagentur/trade-fair-staff-hostesses-promotion-for-ifat-munich-2026/
LOCATION:Messe München\, Messegelände\, München\, Bayern\, 81823\, Germany
CATEGORIES:Munich trade fairs
ATTACH;FMTTYPE=image/jpeg:https://www.fairever-events.com/wp-content/uploads/2024/01/Logo_der_IFAT.jpg
END:VEVENT
BEGIN:VEVENT
DTSTART;VALUE=DATE:20260507
DTEND;VALUE=DATE:20260514
DTSTAMP:20260420T104439
CREATED:20251007T111421Z
LAST-MODIFIED:20251007T111813Z
UID:8003-1778112000-1778716799@www.fairever-events.com
SUMMARY:Trade Fair Staff\, Hostesses & Promotion for interpack Düsseldorf 2026
DESCRIPTION:Put your packaging technology in the best light – at interpack Düsseldorf 2026. From 7 to 13 May 2026\, the global processing and packaging industry will gather at Messe Düsseldorf. With FAIREVER\, you can book professional trade fair staff in Düsseldorf\, experienced hostesses and dedicated promoters who present your solutions convincingly – from the first trade visitor through to post-show follow-up. \n\n		Start Your Inquiry\n	\n\ninterpack 2026 – Your stage for processes\, packaging & innovation \ninterpack is the world’s leading trade fair for processing and packaging\, covering the entire value chain: machinery\, materials\, systems and accessories\, as well as processes for food and beverages\, pharmaceuticals\, cosmetics and non-food products. Key topics include: \n\nPackaging machinery & automation\nMaterials & consumables for packaging\nMachinery & processes for confectionery\, bakery & pharmaceuticals\nPackaging for food & beverages\, cosmetics & industrial goods\nInnovations in sustainability\, circular economy & resource efficiency\nSmart packaging\, digitalisation & process optimisation\n\nWith FAIREVER Promotion Staff\, you reach manufacturers\, suppliers\, innovation leaders and decision-makers looking for efficiency\, quality and new technologies. \nTrade fair hostesses & promoters for interpack Düsseldorf \nOur specialised Düsseldorf team is trained for this technically demanding event: \n\nActive visitor engagement & product demonstrations (GER/EN & additional languages)\nSupport for machinery demos\, live showcases & process presentations\nCustomer liaison for international exhibitors & delegations\nDistribution of catalogues\, samples & technical information\nCompetent\, service-oriented & professional demeanour\n\nWhether you are presenting new packaging solutions\, machinery innovations or sustainable processes – our hostesses & promoters at interpack Düsseldorf 2026 ensure your stand makes a strong and lasting impression. \nFull service for your trade fair presence \nWith FAIREVER\, you benefit from a complete support package: \n\nBooth design & branding aligned with your brand identity and technology\nSelection\, briefing & training of trade fair staff\nPlanning & execution of demonstrations\, activations & promotions\nLogistics\, coordination & on-site support throughout the show\nReporting & post-show follow-up to measure success\n\nWhy FAIREVER for interpack Düsseldorf 2026? \n\nExtensive experience at over 100 trade fairs annually – across Germany and internationally\nSpecialised in industrial\, packaging & processing events\nFast & flexible staffing\, even at short notice\nFair pricing & transparent communication\nSustainability & resource-efficient planning at the heart of our concepts\n\nBook trade fair staff for interpack Düsseldorf 2026 now! \nTake the opportunity to showcase your packaging technologies\, process solutions and materials professionally at interpack Düsseldorf 2026 (7–13 May 2026). FAIREVER provides the ideal trade fair staff\, experienced hostesses and creative promotion teams in Düsseldorf to ensure your innovations are seen and remembered.\nFAIREVER GmbH – fair. flexible. sustainable.\nYour partner for trade fair staff\, hostesses & promotion in Düsseldorf – at interpack 2026 and beyond. \n\n		Start Your Inquiry
URL:https://www.fairever-events.com/en/eventagentur/trade-fair-staff-hostesses-promotion-for-interpack-dusseldorf/
LOCATION:Berlin
ATTACH;FMTTYPE=image/png:https://www.fairever-events.com/wp-content/uploads/2025/10/logo-interpack.png
END:VEVENT
BEGIN:VEVENT
DTSTART;VALUE=DATE:20260512
DTEND;VALUE=DATE:20260516
DTSTAMP:20260420T104439
CREATED:20251121T171320Z
LAST-MODIFIED:20251121T171355Z
UID:8167-1778544000-1778889599@www.fairever-events.com
SUMMARY:Trade Fair Staff\, Hostesses & Promotion for Interzoo 2026
DESCRIPTION:Bring your brand to life – at Interzoo 2026 in Nuremberg\, the world’s leading trade fair for pet supplies. From 12 to 15 May 2026\, the global pet industry meets in the Nuremberg Exhibition Centre. \nWith FAIREVER\, you book professional trade fair and promotion staff in Nuremberg who present your products with enthusiasm. Our experienced hostesses\, promoters and service teams ensure a smooth and successful trade fair presence from the first contact to post-event follow-up. \n\n		Start Your Inquiry\n	\n\nInterzoo 2026 – Your Stage for Pet Products\, Innovation & Market Potential \nInterzoo offers the ideal platform to present your brand to international professionals – manufacturers\, retailers\, service providers and decision-makers. Visitors are particularly interested in: \n\nPet food & complementary nutrition products\nAccessories for dogs\, cats\, small animals\, birds\, aquatics & terrarium animals\nRetail & packaging solutions\, pet industry technologies\nSustainability trends\, pet tech & service innovations\n\nWith FAIREVER promotion staff\, you capture your target audience’s attention and sustainably increase brand awareness. \nHostesses & Promotion Staff for Interzoo Nuremberg \nOur trained staff is perfectly prepared for Interzoo’s requirements. We offer: \n\nActive visitor engagement & product presentations (GER/EN & more languages)\nSupport with tastings\, product demonstrations & expert presentations\nAssistance for international guests\, delegations & retail partners\nFriendly\, service-oriented appearance suitable for the pet & consumer goods sector\n\nWhether product demos\, sampling or direct engagement – our staff makes your booth a visitor magnet. \nFull-Service for Your Trade Fair Presence \nFAIREVER not only provides staff but also offers complete service upon request: \n\nBooth design & branding tailored to your brand and target group\nSelection\, briefing & training of trade fair staff\nOrganisation of demos\, sampling & live experiences at the stand\nLogistics\, coordination & on-site management\nReporting & post-fair analysis\n\nSo you can focus entirely on your brand\, your products and your conversations – we handle the rest. \nWhy FAIREVER for Interzoo 2026? \n\nExperience across 100+ trade fairs annually\nExpertise in food\, consumer goods & pet industry trade shows\nFlexible & fast staff planning\nTransparent pricing & communication\nSustainable event & promotion concepts\n\nBook Trade Fair Staff for Interzoo 2026 Now! \nTake the opportunity to professionally and effectively showcase your brand at Interzoo 2026 in Nuremberg. FAIREVER provides the ideal trade fair staff\, experienced hostesses and creative promotion teams to highlight your brand. \nFAIREVER GmbH – fair. flexible. sustainable.\nYour partner for trade fair staff\, hostesses and promotion in Nuremberg – at Interzoo 2026 and beyond. \n\n		Start Your Inquiry
URL:https://www.fairever-events.com/en/eventagentur/interzoo-book-trade-fair-staff/
LOCATION:Messe Nürnberg\, Messezentrum 1\, Nürnberg\, Bayern\, 90471\, Germany
ATTACH;FMTTYPE=image/webp:https://www.fairever-events.com/wp-content/uploads/2025/11/interzoo-n-image-keyvisual-scaled.webp
END:VEVENT
END:VCALENDAR