BEGIN:VCALENDAR
VERSION:2.0
PRODID:-//FAIREVER - ECPv6.15.20//NONSGML v1.0//EN
CALSCALE:GREGORIAN
METHOD:PUBLISH
X-ORIGINAL-URL:https://www.fairever-events.com/en/
X-WR-CALDESC:Events for FAIREVER
REFRESH-INTERVAL;VALUE=DURATION:PT1H
X-Robots-Tag:noindex
X-PUBLISHED-TTL:PT1H
BEGIN:VTIMEZONE
TZID:Europe/Berlin
BEGIN:DAYLIGHT
TZOFFSETFROM:+0100
TZOFFSETTO:+0200
TZNAME:CEST
DTSTART:20250330T010000
END:DAYLIGHT
BEGIN:STANDARD
TZOFFSETFROM:+0200
TZOFFSETTO:+0100
TZNAME:CET
DTSTART:20251026T010000
END:STANDARD
BEGIN:DAYLIGHT
TZOFFSETFROM:+0100
TZOFFSETTO:+0200
TZNAME:CEST
DTSTART:20260329T010000
END:DAYLIGHT
BEGIN:STANDARD
TZOFFSETFROM:+0200
TZOFFSETTO:+0100
TZNAME:CET
DTSTART:20261025T010000
END:STANDARD
BEGIN:DAYLIGHT
TZOFFSETFROM:+0100
TZOFFSETTO:+0200
TZNAME:CEST
DTSTART:20270328T010000
END:DAYLIGHT
BEGIN:STANDARD
TZOFFSETFROM:+0200
TZOFFSETTO:+0100
TZNAME:CET
DTSTART:20271031T010000
END:STANDARD
END:VTIMEZONE
BEGIN:VEVENT
DTSTART;VALUE=DATE:20260601
DTEND;VALUE=DATE:20260603
DTSTAMP:20260420T121930
CREATED:20250915T163830Z
LAST-MODIFIED:20250915T163830Z
UID:7665-1780272000-1780444799@www.fairever-events.com
SUMMARY:Trade Fair Staff\, Hostesses & Promotion for Smart Health Asia Berlin 2026
DESCRIPTION:The future of digital healthcare connects Europe and Asia – at the Smart Health Asia Berlin 2026. From 01 to 02 July 2026\, the international healthcare and technology community gathers in Berlin to showcase innovations in eHealth\, MedTech\, and digital care. With FAIREVER\, you secure professional trade fair staff in Berlin: Our experienced hostesses and promoters ensure your brand stands out to professionals\, delegations\, and decision-makers. \n\n		Contact us now\n	\n\nSmart Health Asia 2026 – Your Stage for Digital Health Solutions \nSmart Health Asia Berlin unites experts\, companies\, and start-ups shaping the future of digital healthcare. Key topics include: \n\neHealth & digital patient care\nTelemedicine & mobile health solutions\nMedical technology & smart devices\nData analytics\, AI & cybersecurity in healthcare\nInternational cooperation between Asia & Europe\n\nWith FAIREVER promotion staff\, you reach professionals\, investors\, and decision-makers effectively. \nTrade Fair Hostesses & Promoters for Smart Health Asia Berlin 2026 \nOur specialized trade fair staff in Berlin ensure your brand is presented effectively: \n\nActive visitor engagement & product presentation (DE/EN & Asian languages upon request)\nCare of international guests\, delegations & partners\nSupport for demos\, presentations & live tech showcases\nDistribution of marketing materials & qualified lead generation\nProfessional\, service-oriented performance – reliable & competent\n\nWhether start-up or established provider – our hostesses and promoters for Smart Health Asia Berlin make your brand stand out. \nFull-Service for Your Trade Fair Presence \nWith FAIREVER\, you get not only experienced staff but also a tailored full-service package for Smart Health Asia Berlin 2026: \n\nBooth design & branding aligned with your brand\nSelection\, briefing & training of staff\nOrganization of promotions & visitor activations\nLogistics\, coordination & on-site support\nReporting & post-event evaluation\n\nThis allows you to fully focus on your target audience – while we take care of the rest. \nWhy FAIREVER for Smart Health Asia Berlin 2026? \n\nExperience at over 100 trade fairs annually – nationwide\nSpecialization in health\, digital & technology events\nFast & flexible staff planning\, even at short notice\nFair pricing & transparent communication\nSustainable event & promotion planning\n\nBook Trade Fair Staff for Smart Health Asia Berlin 2026 Now! \nTake the opportunity to showcase your brand professionally at the Smart Health Asia Berlin 2026. FAIREVER provides the right trade fair staff\, hostesses and promotion staff in Berlin to engage your audience and build international connections. \nFAIREVER GmbH – fair. flexible. sustainable.\nYour partner for trade fair staff\, hostesses & promotion in Berlin – at Smart Health Asia Berlin 2026 and beyond. \n\n		Contact us now
URL:https://www.fairever-events.com/en/eventagentur/trade-fair-staff-hostesses-promotion-for-smart-health-asia-berlin-2026/
LOCATION:Messe Berlin\, Messedamm 22\, Berlin\, Berlin\, 14055\, Germany
CATEGORIES:Berlin trade fairs
ATTACH;FMTTYPE=image/png:https://www.fairever-events.com/wp-content/uploads/2025/09/smarthealth-logo.png
END:VEVENT
BEGIN:VEVENT
DTSTART;VALUE=DATE:20260601
DTEND;VALUE=DATE:20260607
DTSTAMP:20260420T121930
CREATED:20250927T100131Z
LAST-MODIFIED:20251005T163131Z
UID:7764-1780272000-1780790399@www.fairever-events.com
SUMMARY:Trade Fair Staff\, Hostesses & Promotion for INTERSCHUTZ Hannover 2026
DESCRIPTION:Secure visibility in safety technology – at INTERSCHUTZ Hannover 2026. From 1 to 6 June 2026\, Hannover welcomes experts in firefighting\, rescue\, civil protection\, and security infrastructure. INTERSCHUTZ is the world’s leading trade fair for these sectors. With FAIREVER\, you can book professional trade fair staff in Hannover\, experienced hostesses\, and promoters who position your brand reliably – from first contact to post-event follow-up. \n\n		Start Your Inquiry\n	\n\nINTERSCHUTZ 2026 – Your Stage for Fire\, Rescue & Civil Protection \nINTERSCHUTZ 2026 runs under the motto “Safeguarding Tomorrow” and highlights challenges such as climate change\, digital control centers\, real-time communication\, sustainability\, and the integration of civil protection with rescue services and fire prevention. \nKey topics include: \n\nFirefighting equipment\, protective gear & operational technology\nRescue services\, emergency response & disaster management\nControl center & communication systems\, digital solutions & AI\nFire prevention & safety equipment\nInnovative formats like WildfireCamp@INTERSCHUTZ for wildfire resilience & disaster response\n\nWith FAIREVER promotion staff\, you gain direct access to decision-makers\, authorities\, and industry leaders. \nTrade Fair Hostesses & Promoters for INTERSCHUTZ Hannover \nOur specialized trade fair staff in Hannover meet the demands of this leading safety & rescue exhibition: \n\nActive visitor engagement & product presentations (GER/EN & other languages)\nSupport for international delegations\, trade visitors & emergency services\nAssistance with live demos\, equipment showcases & presentations\nDistribution of brochures\, safety materials & product info\nProfessional\, serious & service-oriented performance – with technical affinity\n\nWhether new firefighting technology\, rescue tools\, digital control systems or sustainable solutions – our hostesses and promoters for INTERSCHUTZ Hannover 2026 ensure your booth becomes a hotspot. \nFull-Service for Your Trade Fair Presence \nWith FAIREVER\, you get a complete service package for INTERSCHUTZ 2026: \n\nBooth design & branding tailored to your solutions\nSelection\, briefing & training of staff\nPlanning & execution of demos\, product showcases & visitor engagement\nLogistics\, coordination & on-site supervision\nReporting & post-event evaluation\n\nSo you can focus on your innovation & client talks – while we take care of the rest. \nWhy FAIREVER for INTERSCHUTZ Hannover 2026? \n\nExtensive experience at over 100 technical trade fairs annually\nSpecialization in firefighting\, rescue & safety technology fairs\nFlexible & fast staffing\, even at short notice\nFair pricing & transparent communication\nSustainability & responsibility as part of our planning\n\nBook Trade Fair Staff for INTERSCHUTZ Hannover 2026 Now! \nSeize the opportunity to showcase your safety & rescue solutions at INTERSCHUTZ Hannover 2026. FAIREVER provides professional trade fair staff\, hostesses and promotion personnel in Hannover to ensure your innovations are seen and appreciated. \nFAIREVER GmbH – fair. flexible. sustainable.\nYour partner for trade fair staff\, hostesses & promotion in Hannover – at INTERSCHUTZ 2026 and beyond. \n\n		Start Your Inquiry
URL:https://www.fairever-events.com/en/eventagentur/staff-promotion-for-interschutz-hannover/
LOCATION:Messe Hannover\, Hermesallee\, Hannover\, 30521\, Germany
CATEGORIES:Hanover Trade Fairs
ATTACH;FMTTYPE=image/jpeg:https://www.fairever-events.com/wp-content/uploads/2025/09/Logo-Interschutz.jpg
END:VEVENT
BEGIN:VEVENT
DTSTART;VALUE=DATE:20260609
DTEND;VALUE=DATE:20260612
DTSTAMP:20260420T121930
CREATED:20251001T125209Z
LAST-MODIFIED:20251006T160046Z
UID:7891-1780963200-1781222399@www.fairever-events.com
SUMMARY:Trade Fair Staff\, Hostesses & Promotion for THE TIRE COLOGNE 2026
DESCRIPTION:Position your brand at the forefront of the tire industry – at THE TIRE COLOGNE 2026 \nFrom 9 to 11 June 2026\, Cologne becomes the global meeting point for the international tire\, wheels & automotive aftermarket industry. With FAIREVER\, you can book skilled trade fair staff in Cologne – hostesses and promoters who will present your products and innovations effectively\, from the first visitor interaction through to follow-up. \n\n		Start Your Inquiry\n	\n\nTHE TIRE COLOGNE 2026 – Your stage for tires\, wheels & mobility trends\nKey areas include: \n\nTires & wheels – passenger\, truck & specialty\nWorkshop equipment & services – diagnostics\, balancing & mounting systems\nRetreading & recycling – sustainable tire lifecycle\nDigitalization & aftermarket services – fleet management\, telematics\, data platforms\nSustainability & innovation – eco-friendly materials\, circular economy\n\nTrade fair hostesses & promoters for THE TIRE COLOGNE\nOur team is well versed in this technical\, innovation-driven sector. We provide: \n\nActive visitor engagement & product demos (GER/EN & other languages)\nSupport with live demos & wheel showcases\nCare for international delegations & experts\nDistribution of brochures\, samples & technical documents\nTechnical expertise combined with a professional\, service-driven approach\n\nFull-service trade fair package\nWith FAIREVER\, you benefit from: \n\nStand design & branding aligned with your industry needs\nSelection\, training & briefing of staff\nPlanning & execution of demos\, activations & promotions\nLogistics\, coordination & on-site support\nReporting & follow-up for performance tracking\n\nWhy FAIREVER for THE TIRE COLOGNE 2026?\n\nOver 100 fairs annually – in Germany & worldwide\nSpecialized in automotive\, tire & aftermarket exhibitions\nQuick & flexible staffing\, even at short notice\nTransparent pricing & communication\nSustainability & innovation at the core of our planning\n\nBook trade fair staff for THE TIRE COLOGNE 2026 now!\nShowcase your tire & aftermarket solutions at THE TIRE COLOGNE 2026 (9–11 June 2026) with FAIREVER. We provide the right trade fair staff\, hostesses & promotion personnel in Cologne to maximize your brand visibility. \nFAIREVER GmbH – fair. flexible. sustainable.\nYour partner for trade fair staff\, hostesses & promotion in Cologne – at THE TIRE COLOGNE 2026 and beyond. \n\n		Start Your Inquiry
URL:https://www.fairever-events.com/en/eventagentur/trade-fair-staff-hostesses-promotion-for-the-tire-cologne/
LOCATION:Messe Köln\, Messeplatz 1\, Köln\, NRW\, 50679\, Germany
CATEGORIES:Cologne Trade Fairs
ATTACH;FMTTYPE=image/jpeg:https://www.fairever-events.com/wp-content/uploads/2025/10/ttc_2020_logo_1200x630.jpg
END:VEVENT
BEGIN:VEVENT
DTSTART;VALUE=DATE:20260610
DTEND;VALUE=DATE:20260615
DTSTAMP:20260420T121930
CREATED:20260330T201715Z
LAST-MODIFIED:20260330T202247Z
UID:8294-1781049600-1781481599@www.fairever-events.com
SUMMARY:Trade Show Staff\, Hostesses & Promotion for ILA Berlin 2026
DESCRIPTION:Take advantage of the global aerospace stage – at ILA Berlin in Berlin. ILA is one of the world’s leading aerospace trade shows\, bringing together top companies\, political decision-makers\, and industry professionals from across the globe. \nWith FAIREVER\, you book professional trade show staff in Berlin who confidently present your technologies\, products\, and innovations while supporting high-quality business connections. \nILA Berlin – High-Tech\, Innovation & International Decision-Makers \nILA is one of the most important platforms for: • Aviation & aerospace technologies • Defence & security • Satellites\, New Space & innovations • Supply industry & high-tech components • Political delegations & international trade visitors \nThis is where partnerships are built – not just conversations. \nTrade Show Hostesses & Professional Staff for ILA Berlin \nOur specially trained staff is prepared for demanding B2B environments: \n\nProfessional support for international business partners • Multilingual communication (GER\,EN\, FR\, ES\, etc.) • Assistance with technical presentations • Lead capture & appointment management • VIP & delegation support at the highest level\n\nIdeal for aerospace\, defence\, and technology companies. \nFull-Service for Your ILA Trade Show Presence \nFAIREVER offers more than staffing: \n\nSelection & briefing of qualified hostesses • Coordination of meetings & business appointments • Support with stand organization & operations • On-site supervision throughout the event • Reporting & structured follow-up\n\nWhy FAIREVER for ILA Berlin? \n\nExperience at international B2B trade shows • Understanding of complex high-tech products • Discreet and professional appearance • Flexible and short-notice staffing\n\nBook Trade Show Staff for ILA Berlin 2026 Now \nPosition your company successfully at ILA Berlin – with experienced staff\, professional hostesses\, and targeted support for your sales and networking goals. FAIREVER GmbH – fair. flexible. sustainable. Your partner for trade show staff\, hostesses and promotion in Berlin – at ILA and beyond.
URL:https://www.fairever-events.com/en/eventagentur/trade-show-staff-hostesses-promotion-for-ila-berlin-2026/
LOCATION:Messe Berlin\, Messedamm 22\, Berlin\, Berlin\, 14055\, Germany
ATTACH;FMTTYPE=image/png:https://www.fairever-events.com/wp-content/uploads/2024/01/ILA_2022_Logo_sRGB_web_positiv_blau.png
END:VEVENT
END:VCALENDAR