BEGIN:VCALENDAR
VERSION:2.0
PRODID:-//FAIREVER - ECPv6.15.20//NONSGML v1.0//EN
CALSCALE:GREGORIAN
METHOD:PUBLISH
X-WR-CALNAME:FAIREVER
X-ORIGINAL-URL:https://www.fairever-events.com/en/
X-WR-CALDESC:Events for FAIREVER
REFRESH-INTERVAL;VALUE=DURATION:PT1H
X-Robots-Tag:noindex
X-PUBLISHED-TTL:PT1H
BEGIN:VTIMEZONE
TZID:Europe/Berlin
BEGIN:DAYLIGHT
TZOFFSETFROM:+0100
TZOFFSETTO:+0200
TZNAME:CEST
DTSTART:20250330T010000
END:DAYLIGHT
BEGIN:STANDARD
TZOFFSETFROM:+0200
TZOFFSETTO:+0100
TZNAME:CET
DTSTART:20251026T010000
END:STANDARD
BEGIN:DAYLIGHT
TZOFFSETFROM:+0100
TZOFFSETTO:+0200
TZNAME:CEST
DTSTART:20260329T010000
END:DAYLIGHT
BEGIN:STANDARD
TZOFFSETFROM:+0200
TZOFFSETTO:+0100
TZNAME:CET
DTSTART:20261025T010000
END:STANDARD
BEGIN:DAYLIGHT
TZOFFSETFROM:+0100
TZOFFSETTO:+0200
TZNAME:CEST
DTSTART:20270328T010000
END:DAYLIGHT
BEGIN:STANDARD
TZOFFSETFROM:+0200
TZOFFSETTO:+0100
TZNAME:CET
DTSTART:20271031T010000
END:STANDARD
END:VTIMEZONE
BEGIN:VEVENT
DTSTART;VALUE=DATE:20260901
DTEND;VALUE=DATE:20260905
DTSTAMP:20260420T171254
CREATED:20241130T090629Z
LAST-MODIFIED:20241130T091442Z
UID:7026-1788220800-1788566399@www.fairever-events.com
SUMMARY:SMM Hamburg 2026
DESCRIPTION:SMM 2026\, the world’s leading trade fair for the maritime industry\, is the perfect platform to showcase your innovations and technologies to a global professional audience. With FAIREVER by your side\, we ensure your booth stands out among the 2\,000 exhibitors and your brand receives the attention it deserves. \n\n		Contact us now\n	\n\nProfessional and Multilingual Hostesses for the Maritime Industry \nOur extensive pool of qualified hostesses from the Hamburg area is specifically prepared to meet the demands of SMM. All FAIREVER hostesses are multilingual and trained to represent your brand with charm and expertise. Whether welcoming international guests\, assisting with product demonstrations\, or supporting your conferences and symposiums\, our team ensures your booth becomes a professional and inviting meeting point. \nFAIREVER – Your Nationwide Agency for Trade Fair Personnel \nWe proudly provide qualified trade fair personnel across Germany\, offering tailored concepts to both large and small exhibitors. FAIREVER is highly rated by both clients and employees for its outstanding service and professionalism. Our full-service offerings include creative booth design\, logistics\, and experienced hostesses and hosts who are perfectly aligned with your target audience. \nAn Inspiring Trade Fair Presence \nSMM Hamburg impresses with a comprehensive program of 150 workshops\, symposiums\, and conferences covering all current topics in the maritime industry. Our hostesses and hosts create a welcoming atmosphere that puts your brand and innovations in the spotlight\, captivating your visitors. \nChoose FAIREVER for a successful presence at SMM 2026 in Hamburg. Contact us now for a consultation!
URL:https://www.fairever-events.com/en/eventagentur/smm-2026-germany-wide-hostess-services/
LOCATION:Messe Hamburg\, Messeplatz 1\, Hamburg\, Hamburg\, 20357\, Germany
CATEGORIES:Hamburg trade fairs
ATTACH;FMTTYPE=image/png:https://www.fairever-events.com/wp-content/uploads/2024/11/smm_hamburg_logo.png
END:VEVENT
BEGIN:VEVENT
DTSTART;VALUE=DATE:20260904
DTEND;VALUE=DATE:20260909
DTSTAMP:20260420T171254
CREATED:20240115T080315Z
LAST-MODIFIED:20260330T203639Z
UID:6535-1788480000-1788911999@www.fairever-events.com
SUMMARY:Trade Show Staff\, Hostesses & Promotion for IFA Berlin 2026
DESCRIPTION:Present your brand on one of the world’s leading platforms for technology and innovation – IFA Berlin in Berlin. \nIFA brings together leading brands\, retailers\, media and millions of tech-savvy visitors. First impressions matter – and this is exactly where FAIREVER ensures maximum attention at your booth. \nIFA Berlin – Innovation Meets Audience & Media \nAt IFA\, you reach: • International retailers & buyers • Tech-savvy end consumers • Media\, influencers & content creators • Industry experts from consumer electronics & home appliances \nYour products are in the spotlight – we make sure they get noticed. \nPromotion Staff & Hostesses for IFA Berlin \nOur staff is specifically trained for complex products and high visitor volumes: \n\nActive visitor engagement & product demonstrations • Support for product launches & live presentations • Management of giveaways\, campaigns & promotions • Lead generation & data capture • Social media & influencer support on-site\n\nIdeal for brands in tech\, consumer electronics and smart home. \nFull-Service for Your IFA Trade Show Appearance \nWith FAIREVER\, you get a complete service package: \n\nSelection & training of experienced promoters and hostesses • Support with product briefings & presentations • Planning and execution of promotional activities • On-site coordination & supervision • Reporting & analysis of your leads and campaigns\n\nWhy FAIREVER for IFA Berlin? \n\nExperience at high-traffic consumer trade shows • Technically skilled and communicative staff • Fast scaling of large teams possible • Flexible\, reliable and available on short notice\n\nBook Trade Show Staff for IFA Berlin 2026 Now \nLeverage the enormous reach of IFA Berlin and inspire visitors\, retailers and media alike – with professional staff from FAIREVER. FAIREVER GmbH – fair. flexible. sustainable. Your partner for trade show staff\, hostesses and promotion in Berlin – at IFA and beyond.
URL:https://www.fairever-events.com/en/eventagentur/ifa-2026-hostess-event-agency-berlin/
LOCATION:Messe Berlin\, Messedamm 22\, Berlin\, Berlin\, 14055\, Germany
CATEGORIES:Berlin trade fairs
ATTACH;FMTTYPE=image/png:https://www.fairever-events.com/wp-content/uploads/2024/01/IFA-Logo_InnovationForAll_000-scaled.png
END:VEVENT
BEGIN:VEVENT
DTSTART;VALUE=DATE:20260922
DTEND;VALUE=DATE:20260926
DTSTAMP:20260420T171254
CREATED:20260330T204248Z
LAST-MODIFIED:20260330T204248Z
UID:8303-1790035200-1790380799@www.fairever-events.com
SUMMARY:Trade Show Staff\, Hostesses & Promotion for InnoTrans Berlin 2026
DESCRIPTION:Present your solutions at the world’s leading trade fair for transport technology – InnoTrans in Berlin. \nInnoTrans is the central meeting point for companies in the rail\, infrastructure and mobility sectors. Manufacturers\, operators and political decision-makers from around the world meet here. \nWith FAIREVER\, you book professional trade show staff who present your products competently and actively support your sales processes. \nInnoTrans – International Platform for Mobility & Infrastructure \nThe trade fair brings together: • Rail vehicles & railway technology • Infrastructure\, tunnel construction & transport systems • Public transport & mobility solutions • Digitalization & intelligent transport systems • International trade visitors & delegations \nThis is where projects\, partnerships and long-term business relationships are built. \nTrade Show Hostesses & Professional Staff for InnoTrans Berlin \nOur staff is specialized in demanding B2B trade fairs: \n\nSupport for international business partners & delegations • Multilingual communication (GER\, EN\, FR\, ES\, etc.) • Assistance with technical discussions & presentations • Lead capture & appointment coordination • Professional presence in technical environments\n\nIdeal for companies in rail\, infrastructure and mobility. \nFull-Service for Your InnoTrans Trade Show Presence \nFAIREVER supports you holistically: \n\nSelection & briefing of qualified hostesses • Coordination of meetings & business appointments • Support with stand organization & processes • On-site supervision throughout the event • Reporting & structured follow-up\n\nWhy FAIREVER for InnoTrans Berlin? \n\nExperience at international B2B technology trade shows • Understanding of complex products & long sales cycles • Discreet and professional appearance • Flexible and short-notice deployment\n\nBook Trade Show Staff for InnoTrans Berlin 2026 Now \nUse InnoTrans as a platform for sustainable business growth – with experienced staff\, professional hostesses and targeted support for your sales goals. FAIREVER GmbH – fair. flexible. sustainable. Your partner for trade show staff\, hostesses and promotion in Berlin – at InnoTrans and beyond.
URL:https://www.fairever-events.com/en/eventagentur/trade-show-staff-hostesses-promotion-for-innotrans-berlin-2026/
LOCATION:Messe Berlin\, Messedamm 22\, Berlin\, Berlin\, 14055\, Germany
CATEGORIES:Berlin trade fairs
ATTACH;FMTTYPE=image/jpeg:https://www.fairever-events.com/wp-content/uploads/2024/01/InnoTrans-2024-Berlin-Germany.jpg
END:VEVENT
END:VCALENDAR