BEGIN:VCALENDAR
VERSION:2.0
PRODID:-//FAIREVER - ECPv6.15.20//NONSGML v1.0//EN
CALSCALE:GREGORIAN
METHOD:PUBLISH
X-WR-CALNAME:FAIREVER
X-ORIGINAL-URL:https://www.fairever-events.com/en/
X-WR-CALDESC:Events for FAIREVER
REFRESH-INTERVAL;VALUE=DURATION:PT1H
X-Robots-Tag:noindex
X-PUBLISHED-TTL:PT1H
BEGIN:VTIMEZONE
TZID:Europe/Berlin
BEGIN:DAYLIGHT
TZOFFSETFROM:+0100
TZOFFSETTO:+0200
TZNAME:CEST
DTSTART:20250330T010000
END:DAYLIGHT
BEGIN:STANDARD
TZOFFSETFROM:+0200
TZOFFSETTO:+0100
TZNAME:CET
DTSTART:20251026T010000
END:STANDARD
BEGIN:DAYLIGHT
TZOFFSETFROM:+0100
TZOFFSETTO:+0200
TZNAME:CEST
DTSTART:20260329T010000
END:DAYLIGHT
BEGIN:STANDARD
TZOFFSETFROM:+0200
TZOFFSETTO:+0100
TZNAME:CET
DTSTART:20261025T010000
END:STANDARD
BEGIN:DAYLIGHT
TZOFFSETFROM:+0100
TZOFFSETTO:+0200
TZNAME:CEST
DTSTART:20270328T010000
END:DAYLIGHT
BEGIN:STANDARD
TZOFFSETFROM:+0200
TZOFFSETTO:+0100
TZNAME:CET
DTSTART:20271031T010000
END:STANDARD
END:VTIMEZONE
BEGIN:VEVENT
DTSTART;VALUE=DATE:20260324
DTEND;VALUE=DATE:20260327
DTSTAMP:20260420T171727
CREATED:20241105T180407Z
LAST-MODIFIED:20251005T163426Z
UID:6796-1774310400-1774569599@www.fairever-events.com
SUMMARY:Trade Fair Staff\, Hostesses & Promotion for Prolight + Sound Frankfurt 2026
DESCRIPTION:Showcase your event technology expertise – at Prolight + Sound Frankfurt 2026. From 24 to 26 March 2026\, Frankfurt gathers the global industry of lighting\, audio\, stage\, media and event technology. Prolight + Sound is Europe’s leading platform for professional event technology – focused on innovation\, networking and live experience. With FAIREVER\, you book competent trade fair staff in Frankfurt\, experienced hostesses and promoters to present your brand convincingly – from first contact to follow-up. \n\n		Contact us now\n	\n\nProlight + Sound 2026 – Your Stage for Event Technology\, Lighting & Audio \nProlight + Sound is the central meeting point for manufacturers\, service providers\, stage professionals and creatives. Key sectors include: \n\nLighting technology\, stage lighting & lighting design (“ProLight”)\nAudio technology\, live sound\, PA systems & studio solutions (“ProAudio”)\nStage and theatre technology – automation\, scenery\, rigging (“ProStage”)\nMedia technology\, broadcast & AV systems (“ProAV”)\nEvent concepts\, safety & sustainability in live productions\n\nWith FAIREVER promotion staff\, you reach architects\, event technicians\, planners\, studios\, agencies and producers – the exact decision-makers who need your solutions. \nTrade Fair Hostesses & Promoters for Prolight + Sound Frankfurt \nOur specialized trade fair staff in Frankfurt are perfectly prepared for Prolight + Sound. We provide: \n\nActive visitor engagement & product presentation (GER/EN & other languages)\nSupport for live demos\, technical showcases & product presentations\nCare of international guests\, delegations & professionals\nDistribution of brochures\, marketing material & product info\nProfessional\, communicative & tech-savvy performance\n\nWhether new LED lighting\, mixing consoles\, loudspeakers\, stage automation or media tech – our hostesses and promoters for Prolight + Sound Frankfurt 2026 ensure your booth stands out. \nFull-Service for Your Trade Fair Presence \nFAIREVER delivers not only the right staff but also full support for your booth: \n\nBooth design & branding tailored to your technology\nSelection\, briefing & training of staff\nOrganization of demos\, product presentations & activations\nLogistics\, coordination & on-site support\nReporting & post-event analysis\n\nSo you can focus on your technology and clients – we handle the rest. \nWhy FAIREVER for Prolight + Sound Frankfurt 2026? \n\nOver 100 trade fairs annually – nationwide & international\nSpecialization in event technology\, lighting\, audio & media trade shows\nFlexible & fast staffing\, even at short notice\nFair pricing & transparent communication\nSustainable & responsible event planning\n\nBook Trade Fair Staff for Prolight + Sound Frankfurt 2026 Now! \nDon’t miss the chance to present your technology at Prolight + Sound Frankfurt 2026. FAIREVER provides professional trade fair staff\, hostesses and promotion staff in Frankfurt to engage your target audience and ensure lasting visibility. \nFAIREVER GmbH – fair. flexible. sustainable.\nYour partner for trade fair staff\, hostesses & promotion in Frankfurt – at Prolight + Sound 2026 and beyond. \n\n		Contact us now
URL:https://www.fairever-events.com/en/eventagentur/prolight-sound-hostess-agency/
LOCATION:Messe Frankfurt\, Ludwig-Erhard-Anlage 1\, Frankfurt am Main\, Hessen\, 60327\, Germany
CATEGORIES:Frankfurt trade fairs
ATTACH;FMTTYPE=image/jpeg:https://www.fairever-events.com/wp-content/uploads/2022/04/prolight-sound-logo.jpg
END:VEVENT
END:VCALENDAR