BEGIN:VCALENDAR
VERSION:2.0
PRODID:-//FAIREVER - ECPv6.15.20//NONSGML v1.0//EN
CALSCALE:GREGORIAN
METHOD:PUBLISH
X-ORIGINAL-URL:https://www.fairever-events.com/en/
X-WR-CALDESC:Events for FAIREVER
REFRESH-INTERVAL;VALUE=DURATION:PT1H
X-Robots-Tag:noindex
X-PUBLISHED-TTL:PT1H
BEGIN:VTIMEZONE
TZID:Europe/Berlin
BEGIN:DAYLIGHT
TZOFFSETFROM:+0100
TZOFFSETTO:+0200
TZNAME:CEST
DTSTART:20250330T010000
END:DAYLIGHT
BEGIN:STANDARD
TZOFFSETFROM:+0200
TZOFFSETTO:+0100
TZNAME:CET
DTSTART:20251026T010000
END:STANDARD
BEGIN:DAYLIGHT
TZOFFSETFROM:+0100
TZOFFSETTO:+0200
TZNAME:CEST
DTSTART:20260329T010000
END:DAYLIGHT
BEGIN:STANDARD
TZOFFSETFROM:+0200
TZOFFSETTO:+0100
TZNAME:CET
DTSTART:20261025T010000
END:STANDARD
BEGIN:DAYLIGHT
TZOFFSETFROM:+0100
TZOFFSETTO:+0200
TZNAME:CEST
DTSTART:20270328T010000
END:DAYLIGHT
BEGIN:STANDARD
TZOFFSETFROM:+0200
TZOFFSETTO:+0100
TZNAME:CET
DTSTART:20271031T010000
END:STANDARD
END:VTIMEZONE
BEGIN:VEVENT
DTSTART;VALUE=DATE:20260421
DTEND;VALUE=DATE:20260425
DTSTAMP:20260420T154031
CREATED:20220511T095243Z
LAST-MODIFIED:20251005T163513Z
UID:5255-1776729600-1777075199@www.fairever-events.com
SUMMARY:Trade Fair Staff\, Hostesses & Promotion for Techtextil Frankfurt 2026
DESCRIPTION:Showcase technical textiles at their best – at Techtextil Frankfurt 2026. From 21 to 24 April 2026\, the international world of technical textiles and nonwovens gathers in Frankfurt. With FAIREVER\, you book skilled trade fair staff in Frankfurt\, trained hostesses and promotion personnel who professionally present your innovations – from the first visitor to comprehensive follow-up. \n\n		Submit inquiry now\n	\n\nTechtextil 2026 – Your Stage for Technical Textiles & Nonwovens \nTechtextil Frankfurt covers the entire value chain: research\, development\, planning\, consulting\, technology\, machinery\, fibers\, yarns\, nonwovens\, coated textiles and more. Visitors explore: \n\nTechnical textiles\, functional fabrics & high-tech textile applications\nNonwovens\, coated textiles\, yarns & fibers\nMachinery\, equipment & technologies for production and processing\nResearch & development\, surface technologies\, textile innovations & sustainability\n\nWith FAIREVER promotion staff\, you connect with engineers\, technologists\, manufacturers and decision-makers – exactly the audience seeking solutions. \nTrade Fair Hostesses & Promoters for Techtextil Frankfurt \nOur trade fair staff in Frankfurt are ideally trained for Techtextil and provide: \n\nActive visitor engagement & technical product presentation (GER/EN & other languages)\nCare of international delegations & business partners\nSupport for live demos\, machine presentations & sample handling\nDistribution of product samples\, brochures & technical documentation\nProfessional\, competent & service-oriented performance – with technical know-how\n\nWhether innovative fibers\, coated textiles\, nonwovens\, or machinery – our hostesses and promoters for Techtextil Frankfurt 2026 make your booth a hotspot for industry professionals. \nFull-Service for Your Trade Fair Presence \nWith FAIREVER\, you benefit from complete support: \n\nBooth design & branding tailored to your materials & technology\nSelection\, briefing & training of staff\nPlanning & execution of presentations\, sample showcases & visitor activations\nLogistics\, coordination & on-site support\nReporting & post-event analysis\n\nSo you can focus entirely on your innovations & business talks – while we take care of the rest. \nWhy FAIREVER for Techtextil Frankfurt 2026? \n\nExperience at over 100 trade fairs annually – nationwide & international\nSpecialization in technical textiles\, nonwovens & industry trade shows\nFlexible & fast staffing\, even at short notice\nFair pricing & transparent communication\nCommitment to sustainability & innovation\n\nBook Trade Fair Staff for Techtextil Frankfurt 2026 Now! \nTake the opportunity to showcase your technical textiles and innovations at Techtextil Frankfurt 2026. FAIREVER provides the ideal trade fair staff\, hostesses and promotion staff in Frankfurt to ensure your solutions are visible to the right professionals. \nFAIREVER GmbH – fair. flexible. sustainable.\nYour partner for trade fair staff\, hostesses & promotion in Frankfurt – at Techtextil 2026 and beyond. \n\n		Submit inquiry now
URL:https://www.fairever-events.com/en/eventagentur/techtextil-staff-hostesses-and-service/
LOCATION:Messe Frankfurt\, Ludwig-Erhard-Anlage 1\, Frankfurt am Main\, Hessen\, 60327\, Germany
CATEGORIES:Frankfurt trade fairs
ATTACH;FMTTYPE=image/jpeg:https://www.fairever-events.com/wp-content/uploads/2022/04/techtextil_logo.jpg
END:VEVENT
END:VCALENDAR